BEGIN:VCALENDAR
VERSION:2.0
PRODID:-//Summit Independent Living - ECPv6.15.20//NONSGML v1.0//EN
CALSCALE:GREGORIAN
METHOD:PUBLISH
X-ORIGINAL-URL:https://www.summitilc.org
X-WR-CALDESC:Events for Summit Independent Living
REFRESH-INTERVAL;VALUE=DURATION:PT1H
X-Robots-Tag:noindex
X-PUBLISHED-TTL:PT1H
BEGIN:VTIMEZONE
TZID:America/Denver
BEGIN:DAYLIGHT
TZOFFSETFROM:-0700
TZOFFSETTO:-0600
TZNAME:MDT
DTSTART:20250309T090000
END:DAYLIGHT
BEGIN:STANDARD
TZOFFSETFROM:-0600
TZOFFSETTO:-0700
TZNAME:MST
DTSTART:20251102T080000
END:STANDARD
BEGIN:DAYLIGHT
TZOFFSETFROM:-0700
TZOFFSETTO:-0600
TZNAME:MDT
DTSTART:20260308T090000
END:DAYLIGHT
BEGIN:STANDARD
TZOFFSETFROM:-0600
TZOFFSETTO:-0700
TZNAME:MST
DTSTART:20261101T080000
END:STANDARD
BEGIN:DAYLIGHT
TZOFFSETFROM:-0700
TZOFFSETTO:-0600
TZNAME:MDT
DTSTART:20270314T090000
END:DAYLIGHT
BEGIN:STANDARD
TZOFFSETFROM:-0600
TZOFFSETTO:-0700
TZNAME:MST
DTSTART:20271107T080000
END:STANDARD
END:VTIMEZONE
BEGIN:VEVENT
DTSTART;TZID=America/Denver:20260320T190000
DTEND;TZID=America/Denver:20260320T210000
DTSTAMP:20260424T192038
CREATED:20260127T001335Z
LAST-MODIFIED:20260127T001335Z
UID:10008905-1774033200-1774040400@www.summitilc.org
SUMMARY:"Comedians With Disabilities Act" Comedy Show
DESCRIPTION:The Comedians With Disabilities Act is a troupe of disabled\, seasoned and outrageously funny comedians. \nJoin them for a live comedy show\, which will also be filmed as part of the docu-comedy feature film\, “The Comedians With Disabilities Act: Beyond the Punchlines.” \nThe night’s talent includes MICHAEL BEERS\, LOREN KRAUT\, NINA G\, ADAM KEYS AND HOST MEAN DAVE. \n(For mature audiences!) \nFollow this link to learn more about the show and to book your tickets!
URL:https://www.summitilc.org/events/comedians-with-disabilities-act-comedy-show/
LOCATION:Zootown Arts Community Center (The ZACC)\, 216 W Main St\, Missoula\, MT\, 59804\, United States
GEO:46.872008;-113.9962705
X-APPLE-STRUCTURED-LOCATION;VALUE=URI;X-ADDRESS=Zootown Arts Community Center (The ZACC) 216 W Main St Missoula MT 59804 United States;X-APPLE-RADIUS=500;X-TITLE=216 W Main St:geo:-113.9962705,46.872008
END:VEVENT
END:VCALENDAR