BEGIN:VCALENDAR
VERSION:2.0
PRODID:-//Summit Independent Living - ECPv6.15.20//NONSGML v1.0//EN
CALSCALE:GREGORIAN
METHOD:PUBLISH
X-ORIGINAL-URL:https://www.summitilc.org
X-WR-CALDESC:Events for Summit Independent Living
REFRESH-INTERVAL;VALUE=DURATION:PT1H
X-Robots-Tag:noindex
X-PUBLISHED-TTL:PT1H
BEGIN:VTIMEZONE
TZID:America/Denver
BEGIN:DAYLIGHT
TZOFFSETFROM:-0700
TZOFFSETTO:-0600
TZNAME:MDT
DTSTART:20250309T090000
END:DAYLIGHT
BEGIN:STANDARD
TZOFFSETFROM:-0600
TZOFFSETTO:-0700
TZNAME:MST
DTSTART:20251102T080000
END:STANDARD
BEGIN:DAYLIGHT
TZOFFSETFROM:-0700
TZOFFSETTO:-0600
TZNAME:MDT
DTSTART:20260308T090000
END:DAYLIGHT
BEGIN:STANDARD
TZOFFSETFROM:-0600
TZOFFSETTO:-0700
TZNAME:MST
DTSTART:20261101T080000
END:STANDARD
BEGIN:DAYLIGHT
TZOFFSETFROM:-0700
TZOFFSETTO:-0600
TZNAME:MDT
DTSTART:20270314T090000
END:DAYLIGHT
BEGIN:STANDARD
TZOFFSETFROM:-0600
TZOFFSETTO:-0700
TZNAME:MST
DTSTART:20271107T080000
END:STANDARD
END:VTIMEZONE
BEGIN:VEVENT
DTSTART;TZID=America/Denver:20260218T160000
DTEND;TZID=America/Denver:20260218T180000
DTSTAMP:20260425T085223
CREATED:20260206T184414Z
LAST-MODIFIED:20260206T184414Z
UID:10008973-1771430400-1771437600@www.summitilc.org
SUMMARY:Russell Street Redesign Open House (Missoula)
DESCRIPTION:Make your voice heard\, Missoula. \n\nThe Montana Department of Transportation is holding an open house about proposed changes to Russell Street. This is our chance to ensure this redesign is a step toward a more accessible and safe Missoula. Join us!\n\n\n\n• Wednesday\, February 18\n• 4 p.m.-6 p.m.\n• Salvation Army Building\, 355 S. Russell Street
URL:https://www.summitilc.org/events/russell-street-redesign-open-house-missoula/
LOCATION:Salvation Army Missoula\, 355 S. Russell St.\, Missoula\, MT\, 59801
CATEGORIES:Missoula
ATTACH;FMTTYPE=image/png:https://www.summitilc.org/wp-content/uploads/2026/02/Screenshot-2026-02-06-at-11.38.19-AM.png
GEO:46.8682715;-114.0189098
X-APPLE-STRUCTURED-LOCATION;VALUE=URI;X-ADDRESS=Salvation Army Missoula 355 S. Russell St. Missoula MT 59801;X-APPLE-RADIUS=500;X-TITLE=355 S. Russell St.:geo:-114.0189098,46.8682715
END:VEVENT
END:VCALENDAR