BEGIN:VCALENDAR
VERSION:2.0
PRODID:-//Summit Independent Living - ECPv6.15.20//NONSGML v1.0//EN
CALSCALE:GREGORIAN
METHOD:PUBLISH
X-ORIGINAL-URL:https://www.summitilc.org
X-WR-CALDESC:Events for Summit Independent Living
REFRESH-INTERVAL;VALUE=DURATION:PT1H
X-Robots-Tag:noindex
X-PUBLISHED-TTL:PT1H
BEGIN:VTIMEZONE
TZID:America/Denver
BEGIN:DAYLIGHT
TZOFFSETFROM:-0700
TZOFFSETTO:-0600
TZNAME:MDT
DTSTART:20290311T090000
END:DAYLIGHT
BEGIN:STANDARD
TZOFFSETFROM:-0600
TZOFFSETTO:-0700
TZNAME:MST
DTSTART:20291104T080000
END:STANDARD
BEGIN:DAYLIGHT
TZOFFSETFROM:-0700
TZOFFSETTO:-0600
TZNAME:MDT
DTSTART:20300310T090000
END:DAYLIGHT
BEGIN:STANDARD
TZOFFSETFROM:-0600
TZOFFSETTO:-0700
TZNAME:MST
DTSTART:20301103T080000
END:STANDARD
BEGIN:DAYLIGHT
TZOFFSETFROM:-0700
TZOFFSETTO:-0600
TZNAME:MDT
DTSTART:20310309T090000
END:DAYLIGHT
BEGIN:STANDARD
TZOFFSETFROM:-0600
TZOFFSETTO:-0700
TZNAME:MST
DTSTART:20311102T080000
END:STANDARD
BEGIN:DAYLIGHT
TZOFFSETFROM:-0700
TZOFFSETTO:-0600
TZNAME:MDT
DTSTART:20320314T090000
END:DAYLIGHT
BEGIN:STANDARD
TZOFFSETFROM:-0600
TZOFFSETTO:-0700
TZNAME:MST
DTSTART:20321107T080000
END:STANDARD
END:VTIMEZONE
BEGIN:VEVENT
DTSTART;TZID=America/Denver:20300514T160000
DTEND;TZID=America/Denver:20300514T173000
DTSTAMP:20260425T074111
CREATED:20240720T194809Z
LAST-MODIFIED:20251121T180139Z
UID:10005887-1905004800-1905010200@www.summitilc.org
SUMMARY:Y.O.D.A.: Youth Opening Doors through Advocacy (Kalispell)
DESCRIPTION:Looking for info about getting a driver’s license\, or finding an apartment? Interested in learning about\, and shaping\, local laws that affect you? How do snacks and games sound? \nYou’ll find all this and more at YODA — Youth Opening Doors through Advocacy — a group for young people with disabilities. \nDiscover your community\, learn about disability culture\, and just have fun! \nYODA meets on the second and fourth Tuesday of every month from 4 p.m. to 5:30 p.m. \nStop by Summit’s Kalispell office at 275 Corporate Dr.\, Suite 200. See you there!
URL:https://www.summitilc.org/events/y-o-d-a-youth-opening-doors-through-advocacy-3/2030-05-14/
LOCATION:Summit Independent Living-Kalispell\, 275 Corporate Dr.\, Suite 200\, Kalispell\, MT\, 59901\, United States
CATEGORIES:Kalispell
ORGANIZER;CN="Dianna Kintzler":MAILTO:dkintzler@summitilc.org
GEO:48.2007659;-114.334172
X-APPLE-STRUCTURED-LOCATION;VALUE=URI;X-ADDRESS=Summit Independent Living-Kalispell 275 Corporate Dr. Suite 200 Kalispell MT 59901 United States;X-APPLE-RADIUS=500;X-TITLE=275 Corporate Dr.\, Suite 200:geo:-114.334172,48.2007659
END:VEVENT
BEGIN:VEVENT
DTSTART;TZID=America/Denver:20300611T160000
DTEND;TZID=America/Denver:20300611T173000
DTSTAMP:20260425T074111
CREATED:20240720T194809Z
LAST-MODIFIED:20251121T180139Z
UID:10005888-1907424000-1907429400@www.summitilc.org
SUMMARY:Y.O.D.A.: Youth Opening Doors through Advocacy (Kalispell)
DESCRIPTION:Looking for info about getting a driver’s license\, or finding an apartment? Interested in learning about\, and shaping\, local laws that affect you? How do snacks and games sound? \nYou’ll find all this and more at YODA — Youth Opening Doors through Advocacy — a group for young people with disabilities. \nDiscover your community\, learn about disability culture\, and just have fun! \nYODA meets on the second and fourth Tuesday of every month from 4 p.m. to 5:30 p.m. \nStop by Summit’s Kalispell office at 275 Corporate Dr.\, Suite 200. See you there!
URL:https://www.summitilc.org/events/y-o-d-a-youth-opening-doors-through-advocacy-3/2030-06-11/
LOCATION:Summit Independent Living-Kalispell\, 275 Corporate Dr.\, Suite 200\, Kalispell\, MT\, 59901\, United States
CATEGORIES:Kalispell
ORGANIZER;CN="Dianna Kintzler":MAILTO:dkintzler@summitilc.org
GEO:48.2007659;-114.334172
X-APPLE-STRUCTURED-LOCATION;VALUE=URI;X-ADDRESS=Summit Independent Living-Kalispell 275 Corporate Dr. Suite 200 Kalispell MT 59901 United States;X-APPLE-RADIUS=500;X-TITLE=275 Corporate Dr.\, Suite 200:geo:-114.334172,48.2007659
END:VEVENT
BEGIN:VEVENT
DTSTART;TZID=America/Denver:20300709T160000
DTEND;TZID=America/Denver:20300709T173000
DTSTAMP:20260425T074111
CREATED:20240720T194809Z
LAST-MODIFIED:20251121T180139Z
UID:10005988-1909843200-1909848600@www.summitilc.org
SUMMARY:Y.O.D.A.: Youth Opening Doors through Advocacy (Kalispell)
DESCRIPTION:Looking for info about getting a driver’s license\, or finding an apartment? Interested in learning about\, and shaping\, local laws that affect you? How do snacks and games sound? \nYou’ll find all this and more at YODA — Youth Opening Doors through Advocacy — a group for young people with disabilities. \nDiscover your community\, learn about disability culture\, and just have fun! \nYODA meets on the second and fourth Tuesday of every month from 4 p.m. to 5:30 p.m. \nStop by Summit’s Kalispell office at 275 Corporate Dr.\, Suite 200. See you there!
URL:https://www.summitilc.org/events/y-o-d-a-youth-opening-doors-through-advocacy-3/2030-07-09/
LOCATION:Summit Independent Living-Kalispell\, 275 Corporate Dr.\, Suite 200\, Kalispell\, MT\, 59901\, United States
CATEGORIES:Kalispell
ORGANIZER;CN="Dianna Kintzler":MAILTO:dkintzler@summitilc.org
GEO:48.2007659;-114.334172
X-APPLE-STRUCTURED-LOCATION;VALUE=URI;X-ADDRESS=Summit Independent Living-Kalispell 275 Corporate Dr. Suite 200 Kalispell MT 59901 United States;X-APPLE-RADIUS=500;X-TITLE=275 Corporate Dr.\, Suite 200:geo:-114.334172,48.2007659
END:VEVENT
BEGIN:VEVENT
DTSTART;TZID=America/Denver:20300813T160000
DTEND;TZID=America/Denver:20300813T173000
DTSTAMP:20260425T074111
CREATED:20240720T194809Z
LAST-MODIFIED:20251121T180139Z
UID:10006931-1912867200-1912872600@www.summitilc.org
SUMMARY:Y.O.D.A.: Youth Opening Doors through Advocacy (Kalispell)
DESCRIPTION:Looking for info about getting a driver’s license\, or finding an apartment? Interested in learning about\, and shaping\, local laws that affect you? How do snacks and games sound? \nYou’ll find all this and more at YODA — Youth Opening Doors through Advocacy — a group for young people with disabilities. \nDiscover your community\, learn about disability culture\, and just have fun! \nYODA meets on the second and fourth Tuesday of every month from 4 p.m. to 5:30 p.m. \nStop by Summit’s Kalispell office at 275 Corporate Dr.\, Suite 200. See you there!
URL:https://www.summitilc.org/events/y-o-d-a-youth-opening-doors-through-advocacy-3/2030-08-13/
LOCATION:Summit Independent Living-Kalispell\, 275 Corporate Dr.\, Suite 200\, Kalispell\, MT\, 59901\, United States
CATEGORIES:Kalispell
ORGANIZER;CN="Dianna Kintzler":MAILTO:dkintzler@summitilc.org
GEO:48.2007659;-114.334172
X-APPLE-STRUCTURED-LOCATION;VALUE=URI;X-ADDRESS=Summit Independent Living-Kalispell 275 Corporate Dr. Suite 200 Kalispell MT 59901 United States;X-APPLE-RADIUS=500;X-TITLE=275 Corporate Dr.\, Suite 200:geo:-114.334172,48.2007659
END:VEVENT
BEGIN:VEVENT
DTSTART;TZID=America/Denver:20300910T160000
DTEND;TZID=America/Denver:20300910T173000
DTSTAMP:20260425T074111
CREATED:20240720T194809Z
LAST-MODIFIED:20251121T180139Z
UID:10006932-1915286400-1915291800@www.summitilc.org
SUMMARY:Y.O.D.A.: Youth Opening Doors through Advocacy (Kalispell)
DESCRIPTION:Looking for info about getting a driver’s license\, or finding an apartment? Interested in learning about\, and shaping\, local laws that affect you? How do snacks and games sound? \nYou’ll find all this and more at YODA — Youth Opening Doors through Advocacy — a group for young people with disabilities. \nDiscover your community\, learn about disability culture\, and just have fun! \nYODA meets on the second and fourth Tuesday of every month from 4 p.m. to 5:30 p.m. \nStop by Summit’s Kalispell office at 275 Corporate Dr.\, Suite 200. See you there!
URL:https://www.summitilc.org/events/y-o-d-a-youth-opening-doors-through-advocacy-3/2030-09-10/
LOCATION:Summit Independent Living-Kalispell\, 275 Corporate Dr.\, Suite 200\, Kalispell\, MT\, 59901\, United States
CATEGORIES:Kalispell
ORGANIZER;CN="Dianna Kintzler":MAILTO:dkintzler@summitilc.org
GEO:48.2007659;-114.334172
X-APPLE-STRUCTURED-LOCATION;VALUE=URI;X-ADDRESS=Summit Independent Living-Kalispell 275 Corporate Dr. Suite 200 Kalispell MT 59901 United States;X-APPLE-RADIUS=500;X-TITLE=275 Corporate Dr.\, Suite 200:geo:-114.334172,48.2007659
END:VEVENT
BEGIN:VEVENT
DTSTART;TZID=America/Denver:20301008T160000
DTEND;TZID=America/Denver:20301008T173000
DTSTAMP:20260425T074111
CREATED:20240720T194809Z
LAST-MODIFIED:20251121T180139Z
UID:10008277-1917705600-1917711000@www.summitilc.org
SUMMARY:Y.O.D.A.: Youth Opening Doors through Advocacy (Kalispell)
DESCRIPTION:Looking for info about getting a driver’s license\, or finding an apartment? Interested in learning about\, and shaping\, local laws that affect you? How do snacks and games sound? \nYou’ll find all this and more at YODA — Youth Opening Doors through Advocacy — a group for young people with disabilities. \nDiscover your community\, learn about disability culture\, and just have fun! \nYODA meets on the second and fourth Tuesday of every month from 4 p.m. to 5:30 p.m. \nStop by Summit’s Kalispell office at 275 Corporate Dr.\, Suite 200. See you there!
URL:https://www.summitilc.org/events/y-o-d-a-youth-opening-doors-through-advocacy-3/2030-10-08/
LOCATION:Summit Independent Living-Kalispell\, 275 Corporate Dr.\, Suite 200\, Kalispell\, MT\, 59901\, United States
CATEGORIES:Kalispell
ORGANIZER;CN="Dianna Kintzler":MAILTO:dkintzler@summitilc.org
GEO:48.2007659;-114.334172
X-APPLE-STRUCTURED-LOCATION;VALUE=URI;X-ADDRESS=Summit Independent Living-Kalispell 275 Corporate Dr. Suite 200 Kalispell MT 59901 United States;X-APPLE-RADIUS=500;X-TITLE=275 Corporate Dr.\, Suite 200:geo:-114.334172,48.2007659
END:VEVENT
BEGIN:VEVENT
DTSTART;TZID=America/Denver:20301112T160000
DTEND;TZID=America/Denver:20301112T173000
DTSTAMP:20260425T074111
CREATED:20240720T194809Z
LAST-MODIFIED:20251121T180139Z
UID:10008737-1920729600-1920735000@www.summitilc.org
SUMMARY:Y.O.D.A.: Youth Opening Doors through Advocacy (Kalispell)
DESCRIPTION:Looking for info about getting a driver’s license\, or finding an apartment? Interested in learning about\, and shaping\, local laws that affect you? How do snacks and games sound? \nYou’ll find all this and more at YODA — Youth Opening Doors through Advocacy — a group for young people with disabilities. \nDiscover your community\, learn about disability culture\, and just have fun! \nYODA meets on the second and fourth Tuesday of every month from 4 p.m. to 5:30 p.m. \nStop by Summit’s Kalispell office at 275 Corporate Dr.\, Suite 200. See you there!
URL:https://www.summitilc.org/events/y-o-d-a-youth-opening-doors-through-advocacy-3/2030-11-12/
LOCATION:Summit Independent Living-Kalispell\, 275 Corporate Dr.\, Suite 200\, Kalispell\, MT\, 59901\, United States
CATEGORIES:Kalispell
ORGANIZER;CN="Dianna Kintzler":MAILTO:dkintzler@summitilc.org
GEO:48.2007659;-114.334172
X-APPLE-STRUCTURED-LOCATION;VALUE=URI;X-ADDRESS=Summit Independent Living-Kalispell 275 Corporate Dr. Suite 200 Kalispell MT 59901 United States;X-APPLE-RADIUS=500;X-TITLE=275 Corporate Dr.\, Suite 200:geo:-114.334172,48.2007659
END:VEVENT
BEGIN:VEVENT
DTSTART;TZID=America/Denver:20301210T160000
DTEND;TZID=America/Denver:20301210T173000
DTSTAMP:20260425T074111
CREATED:20240720T194809Z
LAST-MODIFIED:20251121T180139Z
UID:10008798-1923148800-1923154200@www.summitilc.org
SUMMARY:Y.O.D.A.: Youth Opening Doors through Advocacy (Kalispell)
DESCRIPTION:Looking for info about getting a driver’s license\, or finding an apartment? Interested in learning about\, and shaping\, local laws that affect you? How do snacks and games sound? \nYou’ll find all this and more at YODA — Youth Opening Doors through Advocacy — a group for young people with disabilities. \nDiscover your community\, learn about disability culture\, and just have fun! \nYODA meets on the second and fourth Tuesday of every month from 4 p.m. to 5:30 p.m. \nStop by Summit’s Kalispell office at 275 Corporate Dr.\, Suite 200. See you there!
URL:https://www.summitilc.org/events/y-o-d-a-youth-opening-doors-through-advocacy-3/2030-12-10/
LOCATION:Summit Independent Living-Kalispell\, 275 Corporate Dr.\, Suite 200\, Kalispell\, MT\, 59901\, United States
CATEGORIES:Kalispell
ORGANIZER;CN="Dianna Kintzler":MAILTO:dkintzler@summitilc.org
GEO:48.2007659;-114.334172
X-APPLE-STRUCTURED-LOCATION;VALUE=URI;X-ADDRESS=Summit Independent Living-Kalispell 275 Corporate Dr. Suite 200 Kalispell MT 59901 United States;X-APPLE-RADIUS=500;X-TITLE=275 Corporate Dr.\, Suite 200:geo:-114.334172,48.2007659
END:VEVENT
BEGIN:VEVENT
DTSTART;TZID=America/Denver:20310114T160000
DTEND;TZID=America/Denver:20310114T173000
DTSTAMP:20260425T074111
CREATED:20240720T194809Z
LAST-MODIFIED:20251121T180139Z
UID:10008979-1926172800-1926178200@www.summitilc.org
SUMMARY:Y.O.D.A.: Youth Opening Doors through Advocacy (Kalispell)
DESCRIPTION:Looking for info about getting a driver’s license\, or finding an apartment? Interested in learning about\, and shaping\, local laws that affect you? How do snacks and games sound? \nYou’ll find all this and more at YODA — Youth Opening Doors through Advocacy — a group for young people with disabilities. \nDiscover your community\, learn about disability culture\, and just have fun! \nYODA meets on the second and fourth Tuesday of every month from 4 p.m. to 5:30 p.m. \nStop by Summit’s Kalispell office at 275 Corporate Dr.\, Suite 200. See you there!
URL:https://www.summitilc.org/events/y-o-d-a-youth-opening-doors-through-advocacy-3/2031-01-14/
LOCATION:Summit Independent Living-Kalispell\, 275 Corporate Dr.\, Suite 200\, Kalispell\, MT\, 59901\, United States
CATEGORIES:Kalispell
ORGANIZER;CN="Dianna Kintzler":MAILTO:dkintzler@summitilc.org
GEO:48.2007659;-114.334172
X-APPLE-STRUCTURED-LOCATION;VALUE=URI;X-ADDRESS=Summit Independent Living-Kalispell 275 Corporate Dr. Suite 200 Kalispell MT 59901 United States;X-APPLE-RADIUS=500;X-TITLE=275 Corporate Dr.\, Suite 200:geo:-114.334172,48.2007659
END:VEVENT
BEGIN:VEVENT
DTSTART;TZID=America/Denver:20310211T160000
DTEND;TZID=America/Denver:20310211T173000
DTSTAMP:20260425T074111
CREATED:20240720T194809Z
LAST-MODIFIED:20251121T180139Z
UID:10008980-1928592000-1928597400@www.summitilc.org
SUMMARY:Y.O.D.A.: Youth Opening Doors through Advocacy (Kalispell)
DESCRIPTION:Looking for info about getting a driver’s license\, or finding an apartment? Interested in learning about\, and shaping\, local laws that affect you? How do snacks and games sound? \nYou’ll find all this and more at YODA — Youth Opening Doors through Advocacy — a group for young people with disabilities. \nDiscover your community\, learn about disability culture\, and just have fun! \nYODA meets on the second and fourth Tuesday of every month from 4 p.m. to 5:30 p.m. \nStop by Summit’s Kalispell office at 275 Corporate Dr.\, Suite 200. See you there!
URL:https://www.summitilc.org/events/y-o-d-a-youth-opening-doors-through-advocacy-3/2031-02-11/
LOCATION:Summit Independent Living-Kalispell\, 275 Corporate Dr.\, Suite 200\, Kalispell\, MT\, 59901\, United States
CATEGORIES:Kalispell
ORGANIZER;CN="Dianna Kintzler":MAILTO:dkintzler@summitilc.org
GEO:48.2007659;-114.334172
X-APPLE-STRUCTURED-LOCATION;VALUE=URI;X-ADDRESS=Summit Independent Living-Kalispell 275 Corporate Dr. Suite 200 Kalispell MT 59901 United States;X-APPLE-RADIUS=500;X-TITLE=275 Corporate Dr.\, Suite 200:geo:-114.334172,48.2007659
END:VEVENT
BEGIN:VEVENT
DTSTART;TZID=America/Denver:20310311T160000
DTEND;TZID=America/Denver:20310311T173000
DTSTAMP:20260425T074112
CREATED:20240720T194809Z
LAST-MODIFIED:20251121T180139Z
UID:10009092-1931011200-1931016600@www.summitilc.org
SUMMARY:Y.O.D.A.: Youth Opening Doors through Advocacy (Kalispell)
DESCRIPTION:Looking for info about getting a driver’s license\, or finding an apartment? Interested in learning about\, and shaping\, local laws that affect you? How do snacks and games sound? \nYou’ll find all this and more at YODA — Youth Opening Doors through Advocacy — a group for young people with disabilities. \nDiscover your community\, learn about disability culture\, and just have fun! \nYODA meets on the second and fourth Tuesday of every month from 4 p.m. to 5:30 p.m. \nStop by Summit’s Kalispell office at 275 Corporate Dr.\, Suite 200. See you there!
URL:https://www.summitilc.org/events/y-o-d-a-youth-opening-doors-through-advocacy-3/2031-03-11/
LOCATION:Summit Independent Living-Kalispell\, 275 Corporate Dr.\, Suite 200\, Kalispell\, MT\, 59901\, United States
CATEGORIES:Kalispell
ORGANIZER;CN="Dianna Kintzler":MAILTO:dkintzler@summitilc.org
GEO:48.2007659;-114.334172
X-APPLE-STRUCTURED-LOCATION;VALUE=URI;X-ADDRESS=Summit Independent Living-Kalispell 275 Corporate Dr. Suite 200 Kalispell MT 59901 United States;X-APPLE-RADIUS=500;X-TITLE=275 Corporate Dr.\, Suite 200:geo:-114.334172,48.2007659
END:VEVENT
BEGIN:VEVENT
DTSTART;TZID=America/Denver:20310408T160000
DTEND;TZID=America/Denver:20310408T173000
DTSTAMP:20260425T074112
CREATED:20240720T194809Z
LAST-MODIFIED:20251121T180139Z
UID:10009093-1933430400-1933435800@www.summitilc.org
SUMMARY:Y.O.D.A.: Youth Opening Doors through Advocacy (Kalispell)
DESCRIPTION:Looking for info about getting a driver’s license\, or finding an apartment? Interested in learning about\, and shaping\, local laws that affect you? How do snacks and games sound? \nYou’ll find all this and more at YODA — Youth Opening Doors through Advocacy — a group for young people with disabilities. \nDiscover your community\, learn about disability culture\, and just have fun! \nYODA meets on the second and fourth Tuesday of every month from 4 p.m. to 5:30 p.m. \nStop by Summit’s Kalispell office at 275 Corporate Dr.\, Suite 200. See you there!
URL:https://www.summitilc.org/events/y-o-d-a-youth-opening-doors-through-advocacy-3/2031-04-08/
LOCATION:Summit Independent Living-Kalispell\, 275 Corporate Dr.\, Suite 200\, Kalispell\, MT\, 59901\, United States
CATEGORIES:Kalispell
ORGANIZER;CN="Dianna Kintzler":MAILTO:dkintzler@summitilc.org
GEO:48.2007659;-114.334172
X-APPLE-STRUCTURED-LOCATION;VALUE=URI;X-ADDRESS=Summit Independent Living-Kalispell 275 Corporate Dr. Suite 200 Kalispell MT 59901 United States;X-APPLE-RADIUS=500;X-TITLE=275 Corporate Dr.\, Suite 200:geo:-114.334172,48.2007659
END:VEVENT
END:VCALENDAR