BEGIN:VCALENDAR
VERSION:2.0
PRODID:-//Summit Independent Living - ECPv6.15.20//NONSGML v1.0//EN
CALSCALE:GREGORIAN
METHOD:PUBLISH
X-ORIGINAL-URL:https://www.summitilc.org
X-WR-CALDESC:Events for Summit Independent Living
REFRESH-INTERVAL;VALUE=DURATION:PT1H
X-Robots-Tag:noindex
X-PUBLISHED-TTL:PT1H
BEGIN:VTIMEZONE
TZID:America/Denver
BEGIN:DAYLIGHT
TZOFFSETFROM:-0700
TZOFFSETTO:-0600
TZNAME:MDT
DTSTART:20290311T090000
END:DAYLIGHT
BEGIN:STANDARD
TZOFFSETFROM:-0600
TZOFFSETTO:-0700
TZNAME:MST
DTSTART:20291104T080000
END:STANDARD
BEGIN:DAYLIGHT
TZOFFSETFROM:-0700
TZOFFSETTO:-0600
TZNAME:MDT
DTSTART:20300310T090000
END:DAYLIGHT
BEGIN:STANDARD
TZOFFSETFROM:-0600
TZOFFSETTO:-0700
TZNAME:MST
DTSTART:20301103T080000
END:STANDARD
BEGIN:DAYLIGHT
TZOFFSETFROM:-0700
TZOFFSETTO:-0600
TZNAME:MDT
DTSTART:20310309T090000
END:DAYLIGHT
BEGIN:STANDARD
TZOFFSETFROM:-0600
TZOFFSETTO:-0700
TZNAME:MST
DTSTART:20311102T080000
END:STANDARD
BEGIN:DAYLIGHT
TZOFFSETFROM:-0700
TZOFFSETTO:-0600
TZNAME:MDT
DTSTART:20320314T090000
END:DAYLIGHT
BEGIN:STANDARD
TZOFFSETFROM:-0600
TZOFFSETTO:-0700
TZNAME:MST
DTSTART:20321107T080000
END:STANDARD
END:VTIMEZONE
BEGIN:VEVENT
DTSTART;TZID=America/Denver:20301212T110000
DTEND;TZID=America/Denver:20301212T123000
DTSTAMP:20260425T220207
CREATED:20250609T183126Z
LAST-MODIFIED:20250922T154817Z
UID:10008984-1923303600-1923309000@www.summitilc.org
SUMMARY:Social Security Orientation (Virtual)
DESCRIPTION:Get your benefits\, Montana! Summit offers free online classes on how to apply for Social Security Disability Insurance (SSDI) or Supplemental Security Income (SSI). So if you’re thinking of applying or are having trouble with your application\, join our zoom! \n\n\n \n\n\nOrientations are held the second and fourth Thursdays of every month from 11 a.m. to 12:30 p.m.\n\n\n \n\n\nCall your local Summit office to register!\n\n\n \n\n\nMissoula: 406-728-1630\n\n\nHamilton: 406-363-5242\n\n\nPolson: 406-215-1604\n\n\nKalispell: 406-257-0048
URL:https://www.summitilc.org/events/social-security-orientation-3/2030-12-12/
CATEGORIES:Virtual
ATTACH;FMTTYPE=image/jpeg:https://www.summitilc.org/wp-content/uploads/2025/08/469920085_999081988927153_6596871760343998501_n.jpg
ORGANIZER;CN="Tyler Stosich":MAILTO:tstosich@summitilc.org
LOCATION:https://www.summitilc.org/events/social-security-orientation-3/2030-12-12/
END:VEVENT
BEGIN:VEVENT
DTSTART;TZID=America/Denver:20301226T110000
DTEND;TZID=America/Denver:20301226T123000
DTSTAMP:20260425T220207
CREATED:20250808T204130Z
LAST-MODIFIED:20251031T180244Z
UID:10008995-1924513200-1924518600@www.summitilc.org
SUMMARY:Social Security Orientation (Virtual)
DESCRIPTION:Get your benefits\, Montana! Summit offers free online classes on how to apply for Social Security Disability Insurance (SSDI) or Supplemental Security Income (SSI). So if you’re thinking of applying or are having trouble with your application\, join our zoom! \n\n\n \n\n\nOrientations are held the second and fourth Thursdays of every month from 11 a.m. to 12:30 p.m.\n\n\n \n\n\nCall your local Summit office to register!\n\n\n \n\n\nMissoula: 406-728-1630\n\n\nHamilton: 406-363-5242\n\n\nPolson: 406-215-1604\n\n\nKalispell: 406-257-0048
URL:https://www.summitilc.org/events/social-security-orientation-virtual/2030-12-26/
CATEGORIES:Virtual
ATTACH;FMTTYPE=image/jpeg:https://www.summitilc.org/wp-content/uploads/2025/08/469920085_999081988927153_6596871760343998501_n.jpg
ORGANIZER;CN="Tyler Stosich":MAILTO:tstosich@summitilc.org
LOCATION:https://www.summitilc.org/events/social-security-orientation-virtual/2030-12-26/
END:VEVENT
BEGIN:VEVENT
DTSTART;TZID=America/Denver:20310109T110000
DTEND;TZID=America/Denver:20310109T123000
DTSTAMP:20260425T220207
CREATED:20250609T183126Z
LAST-MODIFIED:20250922T154817Z
UID:10008985-1925722800-1925728200@www.summitilc.org
SUMMARY:Social Security Orientation (Virtual)
DESCRIPTION:Get your benefits\, Montana! Summit offers free online classes on how to apply for Social Security Disability Insurance (SSDI) or Supplemental Security Income (SSI). So if you’re thinking of applying or are having trouble with your application\, join our zoom! \n\n\n \n\n\nOrientations are held the second and fourth Thursdays of every month from 11 a.m. to 12:30 p.m.\n\n\n \n\n\nCall your local Summit office to register!\n\n\n \n\n\nMissoula: 406-728-1630\n\n\nHamilton: 406-363-5242\n\n\nPolson: 406-215-1604\n\n\nKalispell: 406-257-0048
URL:https://www.summitilc.org/events/social-security-orientation-3/2031-01-09/
CATEGORIES:Virtual
ATTACH;FMTTYPE=image/jpeg:https://www.summitilc.org/wp-content/uploads/2025/08/469920085_999081988927153_6596871760343998501_n.jpg
ORGANIZER;CN="Tyler Stosich":MAILTO:tstosich@summitilc.org
LOCATION:https://www.summitilc.org/events/social-security-orientation-3/2031-01-09/
END:VEVENT
BEGIN:VEVENT
DTSTART;TZID=America/Denver:20310123T110000
DTEND;TZID=America/Denver:20310123T123000
DTSTAMP:20260425T220207
CREATED:20250808T204130Z
LAST-MODIFIED:20251031T180244Z
UID:10008996-1926932400-1926937800@www.summitilc.org
SUMMARY:Social Security Orientation (Virtual)
DESCRIPTION:Get your benefits\, Montana! Summit offers free online classes on how to apply for Social Security Disability Insurance (SSDI) or Supplemental Security Income (SSI). So if you’re thinking of applying or are having trouble with your application\, join our zoom! \n\n\n \n\n\nOrientations are held the second and fourth Thursdays of every month from 11 a.m. to 12:30 p.m.\n\n\n \n\n\nCall your local Summit office to register!\n\n\n \n\n\nMissoula: 406-728-1630\n\n\nHamilton: 406-363-5242\n\n\nPolson: 406-215-1604\n\n\nKalispell: 406-257-0048
URL:https://www.summitilc.org/events/social-security-orientation-virtual/2031-01-23/
CATEGORIES:Virtual
ATTACH;FMTTYPE=image/jpeg:https://www.summitilc.org/wp-content/uploads/2025/08/469920085_999081988927153_6596871760343998501_n.jpg
ORGANIZER;CN="Tyler Stosich":MAILTO:tstosich@summitilc.org
LOCATION:https://www.summitilc.org/events/social-security-orientation-virtual/2031-01-23/
END:VEVENT
BEGIN:VEVENT
DTSTART;TZID=America/Denver:20310213T110000
DTEND;TZID=America/Denver:20310213T123000
DTSTAMP:20260425T220207
CREATED:20250609T183126Z
LAST-MODIFIED:20250922T154817Z
UID:10008986-1928746800-1928752200@www.summitilc.org
SUMMARY:Social Security Orientation (Virtual)
DESCRIPTION:Get your benefits\, Montana! Summit offers free online classes on how to apply for Social Security Disability Insurance (SSDI) or Supplemental Security Income (SSI). So if you’re thinking of applying or are having trouble with your application\, join our zoom! \n\n\n \n\n\nOrientations are held the second and fourth Thursdays of every month from 11 a.m. to 12:30 p.m.\n\n\n \n\n\nCall your local Summit office to register!\n\n\n \n\n\nMissoula: 406-728-1630\n\n\nHamilton: 406-363-5242\n\n\nPolson: 406-215-1604\n\n\nKalispell: 406-257-0048
URL:https://www.summitilc.org/events/social-security-orientation-3/2031-02-13/
CATEGORIES:Virtual
ATTACH;FMTTYPE=image/jpeg:https://www.summitilc.org/wp-content/uploads/2025/08/469920085_999081988927153_6596871760343998501_n.jpg
ORGANIZER;CN="Tyler Stosich":MAILTO:tstosich@summitilc.org
LOCATION:https://www.summitilc.org/events/social-security-orientation-3/2031-02-13/
END:VEVENT
BEGIN:VEVENT
DTSTART;TZID=America/Denver:20310227T110000
DTEND;TZID=America/Denver:20310227T123000
DTSTAMP:20260425T220207
CREATED:20250808T204130Z
LAST-MODIFIED:20251031T180244Z
UID:10008997-1929956400-1929961800@www.summitilc.org
SUMMARY:Social Security Orientation (Virtual)
DESCRIPTION:Get your benefits\, Montana! Summit offers free online classes on how to apply for Social Security Disability Insurance (SSDI) or Supplemental Security Income (SSI). So if you’re thinking of applying or are having trouble with your application\, join our zoom! \n\n\n \n\n\nOrientations are held the second and fourth Thursdays of every month from 11 a.m. to 12:30 p.m.\n\n\n \n\n\nCall your local Summit office to register!\n\n\n \n\n\nMissoula: 406-728-1630\n\n\nHamilton: 406-363-5242\n\n\nPolson: 406-215-1604\n\n\nKalispell: 406-257-0048
URL:https://www.summitilc.org/events/social-security-orientation-virtual/2031-02-27/
CATEGORIES:Virtual
ATTACH;FMTTYPE=image/jpeg:https://www.summitilc.org/wp-content/uploads/2025/08/469920085_999081988927153_6596871760343998501_n.jpg
ORGANIZER;CN="Tyler Stosich":MAILTO:tstosich@summitilc.org
LOCATION:https://www.summitilc.org/events/social-security-orientation-virtual/2031-02-27/
END:VEVENT
BEGIN:VEVENT
DTSTART;TZID=America/Denver:20310313T110000
DTEND;TZID=America/Denver:20310313T123000
DTSTAMP:20260425T220207
CREATED:20250609T183126Z
LAST-MODIFIED:20250922T154817Z
UID:10009074-1931166000-1931171400@www.summitilc.org
SUMMARY:Social Security Orientation (Virtual)
DESCRIPTION:Get your benefits\, Montana! Summit offers free online classes on how to apply for Social Security Disability Insurance (SSDI) or Supplemental Security Income (SSI). So if you’re thinking of applying or are having trouble with your application\, join our zoom! \n\n\n \n\n\nOrientations are held the second and fourth Thursdays of every month from 11 a.m. to 12:30 p.m.\n\n\n \n\n\nCall your local Summit office to register!\n\n\n \n\n\nMissoula: 406-728-1630\n\n\nHamilton: 406-363-5242\n\n\nPolson: 406-215-1604\n\n\nKalispell: 406-257-0048
URL:https://www.summitilc.org/events/social-security-orientation-3/2031-03-13/
CATEGORIES:Virtual
ATTACH;FMTTYPE=image/jpeg:https://www.summitilc.org/wp-content/uploads/2025/08/469920085_999081988927153_6596871760343998501_n.jpg
ORGANIZER;CN="Tyler Stosich":MAILTO:tstosich@summitilc.org
LOCATION:https://www.summitilc.org/events/social-security-orientation-3/2031-03-13/
END:VEVENT
BEGIN:VEVENT
DTSTART;TZID=America/Denver:20310327T110000
DTEND;TZID=America/Denver:20310327T123000
DTSTAMP:20260425T220207
CREATED:20250808T204130Z
LAST-MODIFIED:20251031T180244Z
UID:10009489-1932375600-1932381000@www.summitilc.org
SUMMARY:Social Security Orientation (Virtual)
DESCRIPTION:Get your benefits\, Montana! Summit offers free online classes on how to apply for Social Security Disability Insurance (SSDI) or Supplemental Security Income (SSI). So if you’re thinking of applying or are having trouble with your application\, join our zoom! \n\n\n \n\n\nOrientations are held the second and fourth Thursdays of every month from 11 a.m. to 12:30 p.m.\n\n\n \n\n\nCall your local Summit office to register!\n\n\n \n\n\nMissoula: 406-728-1630\n\n\nHamilton: 406-363-5242\n\n\nPolson: 406-215-1604\n\n\nKalispell: 406-257-0048
URL:https://www.summitilc.org/events/social-security-orientation-virtual/2031-03-27/
CATEGORIES:Virtual
ATTACH;FMTTYPE=image/jpeg:https://www.summitilc.org/wp-content/uploads/2025/08/469920085_999081988927153_6596871760343998501_n.jpg
ORGANIZER;CN="Tyler Stosich":MAILTO:tstosich@summitilc.org
LOCATION:https://www.summitilc.org/events/social-security-orientation-virtual/2031-03-27/
END:VEVENT
BEGIN:VEVENT
DTSTART;TZID=America/Denver:20310410T110000
DTEND;TZID=America/Denver:20310410T123000
DTSTAMP:20260425T220207
CREATED:20250609T183126Z
LAST-MODIFIED:20250922T154817Z
UID:10009075-1933585200-1933590600@www.summitilc.org
SUMMARY:Social Security Orientation (Virtual)
DESCRIPTION:Get your benefits\, Montana! Summit offers free online classes on how to apply for Social Security Disability Insurance (SSDI) or Supplemental Security Income (SSI). So if you’re thinking of applying or are having trouble with your application\, join our zoom! \n\n\n \n\n\nOrientations are held the second and fourth Thursdays of every month from 11 a.m. to 12:30 p.m.\n\n\n \n\n\nCall your local Summit office to register!\n\n\n \n\n\nMissoula: 406-728-1630\n\n\nHamilton: 406-363-5242\n\n\nPolson: 406-215-1604\n\n\nKalispell: 406-257-0048
URL:https://www.summitilc.org/events/social-security-orientation-3/2031-04-10/
CATEGORIES:Virtual
ATTACH;FMTTYPE=image/jpeg:https://www.summitilc.org/wp-content/uploads/2025/08/469920085_999081988927153_6596871760343998501_n.jpg
ORGANIZER;CN="Tyler Stosich":MAILTO:tstosich@summitilc.org
LOCATION:https://www.summitilc.org/events/social-security-orientation-3/2031-04-10/
END:VEVENT
BEGIN:VEVENT
DTSTART;TZID=America/Denver:20310424T110000
DTEND;TZID=America/Denver:20310424T123000
DTSTAMP:20260425T220207
CREATED:20250808T204130Z
LAST-MODIFIED:20251031T180244Z
UID:10009490-1934794800-1934800200@www.summitilc.org
SUMMARY:Social Security Orientation (Virtual)
DESCRIPTION:Get your benefits\, Montana! Summit offers free online classes on how to apply for Social Security Disability Insurance (SSDI) or Supplemental Security Income (SSI). So if you’re thinking of applying or are having trouble with your application\, join our zoom! \n\n\n \n\n\nOrientations are held the second and fourth Thursdays of every month from 11 a.m. to 12:30 p.m.\n\n\n \n\n\nCall your local Summit office to register!\n\n\n \n\n\nMissoula: 406-728-1630\n\n\nHamilton: 406-363-5242\n\n\nPolson: 406-215-1604\n\n\nKalispell: 406-257-0048
URL:https://www.summitilc.org/events/social-security-orientation-virtual/2031-04-24/
CATEGORIES:Virtual
ATTACH;FMTTYPE=image/jpeg:https://www.summitilc.org/wp-content/uploads/2025/08/469920085_999081988927153_6596871760343998501_n.jpg
ORGANIZER;CN="Tyler Stosich":MAILTO:tstosich@summitilc.org
LOCATION:https://www.summitilc.org/events/social-security-orientation-virtual/2031-04-24/
END:VEVENT
END:VCALENDAR