BEGIN:VCALENDAR
VERSION:2.0
PRODID:-//Summit Independent Living - ECPv6.15.20//NONSGML v1.0//EN
CALSCALE:GREGORIAN
METHOD:PUBLISH
X-WR-CALNAME:Summit Independent Living
X-ORIGINAL-URL:https://www.summitilc.org
X-WR-CALDESC:Events for Summit Independent Living
REFRESH-INTERVAL;VALUE=DURATION:PT1H
X-Robots-Tag:noindex
X-PUBLISHED-TTL:PT1H
BEGIN:VTIMEZONE
TZID:America/Denver
BEGIN:DAYLIGHT
TZOFFSETFROM:-0700
TZOFFSETTO:-0600
TZNAME:MDT
DTSTART:20240310T090000
END:DAYLIGHT
BEGIN:STANDARD
TZOFFSETFROM:-0600
TZOFFSETTO:-0700
TZNAME:MST
DTSTART:20241103T080000
END:STANDARD
BEGIN:DAYLIGHT
TZOFFSETFROM:-0700
TZOFFSETTO:-0600
TZNAME:MDT
DTSTART:20250309T090000
END:DAYLIGHT
BEGIN:STANDARD
TZOFFSETFROM:-0600
TZOFFSETTO:-0700
TZNAME:MST
DTSTART:20251102T080000
END:STANDARD
BEGIN:DAYLIGHT
TZOFFSETFROM:-0700
TZOFFSETTO:-0600
TZNAME:MDT
DTSTART:20260308T090000
END:DAYLIGHT
BEGIN:STANDARD
TZOFFSETFROM:-0600
TZOFFSETTO:-0700
TZNAME:MST
DTSTART:20261101T080000
END:STANDARD
BEGIN:DAYLIGHT
TZOFFSETFROM:-0700
TZOFFSETTO:-0600
TZNAME:MDT
DTSTART:20270314T090000
END:DAYLIGHT
BEGIN:STANDARD
TZOFFSETFROM:-0600
TZOFFSETTO:-0700
TZNAME:MST
DTSTART:20271107T080000
END:STANDARD
END:VTIMEZONE
BEGIN:VEVENT
DTSTART;TZID=America/Denver:20260416T130000
DTEND;TZID=America/Denver:20260416T150000
DTSTAMP:20260425T064738
CREATED:20251001T203935Z
LAST-MODIFIED:20251001T203946Z
UID:10008228-1776344400-1776351600@www.summitilc.org
SUMMARY:Mail & Munchies (Hamilton)
DESCRIPTION:Sorting through paperwork from Social Security\, Medicaid\, and other mail can be overwhelming. \nWe’re here to help\, with coffee\, snacks\, and friendly faces. \nBring your paperwork to our Hamilton office on the first and third Thursday of every month from 1 p.m. to 3 p.m.\, and we’ll go over it together — along with free coffee\, tea\, and treats. \n☕ 🫖 🍩 📃
URL:https://www.summitilc.org/events/mail-munchies-hamilton-2-2/2026-04-16/
LOCATION:The Refuge\, 274 Old Corvallis Rd.\, Suite B\, Hamilton\, MT\, 59840\, United States
CATEGORIES:Hamilton
ATTACH;FMTTYPE=image/png:https://www.summitilc.org/wp-content/uploads/2025/09/Screenshot-2025-09-22-at-9.41.32-AM.png
ORGANIZER;CN="Darcy Curry":MAILTO:dcurry@summitilc.org
GEO:46.2496963;-114.1592819
X-APPLE-STRUCTURED-LOCATION;VALUE=URI;X-ADDRESS=The Refuge 274 Old Corvallis Rd. Suite B Hamilton MT 59840 United States;X-APPLE-RADIUS=500;X-TITLE=274 Old Corvallis Rd.\, Suite B:geo:-114.1592819,46.2496963
END:VEVENT
BEGIN:VEVENT
DTSTART;TZID=America/Denver:20260402T130000
DTEND;TZID=America/Denver:20260402T150000
DTSTAMP:20260425T064738
CREATED:20250813T220954Z
LAST-MODIFIED:20251202T214606Z
UID:10006369-1775134800-1775142000@www.summitilc.org
SUMMARY:Mail & Munchies (Hamilton)
DESCRIPTION:Sorting through paperwork from Social Security\, Medicaid\, and other mail can be overwhelming. \nWe’re here to help\, with coffee\, snacks\, and friendly faces. \nBring your paperwork to our Hamilton office on the first and third Thursday of every month from 1 p.m. to 3 p.m.\, and we’ll go over it together — along with free coffee\, tea\, and treats. \n☕ 🫖 🍩 📃
URL:https://www.summitilc.org/events/mail-munchies-hamilton/2026-04-02/
LOCATION:The Refuge\, 274 Old Corvallis Rd.\, Suite B\, Hamilton\, MT\, 59840\, United States
CATEGORIES:Hamilton
ATTACH;FMTTYPE=image/png:https://www.summitilc.org/wp-content/uploads/2025/09/Screenshot-2025-09-22-at-9.41.32-AM.png
ORGANIZER;CN="Darcy Curry":MAILTO:dcurry@summitilc.org
GEO:46.2496963;-114.1592819
X-APPLE-STRUCTURED-LOCATION;VALUE=URI;X-ADDRESS=The Refuge 274 Old Corvallis Rd. Suite B Hamilton MT 59840 United States;X-APPLE-RADIUS=500;X-TITLE=274 Old Corvallis Rd.\, Suite B:geo:-114.1592819,46.2496963
END:VEVENT
BEGIN:VEVENT
DTSTART;TZID=America/Denver:20260319T130000
DTEND;TZID=America/Denver:20260319T150000
DTSTAMP:20260425T064739
CREATED:20251001T203935Z
LAST-MODIFIED:20251001T203946Z
UID:10008227-1773925200-1773932400@www.summitilc.org
SUMMARY:Mail & Munchies (Hamilton)
DESCRIPTION:Sorting through paperwork from Social Security\, Medicaid\, and other mail can be overwhelming. \nWe’re here to help\, with coffee\, snacks\, and friendly faces. \nBring your paperwork to our Hamilton office on the first and third Thursday of every month from 1 p.m. to 3 p.m.\, and we’ll go over it together — along with free coffee\, tea\, and treats. \n☕ 🫖 🍩 📃
URL:https://www.summitilc.org/events/mail-munchies-hamilton-2-2/2026-03-19/
LOCATION:The Refuge\, 274 Old Corvallis Rd.\, Suite B\, Hamilton\, MT\, 59840\, United States
CATEGORIES:Hamilton
ATTACH;FMTTYPE=image/png:https://www.summitilc.org/wp-content/uploads/2025/09/Screenshot-2025-09-22-at-9.41.32-AM.png
ORGANIZER;CN="Darcy Curry":MAILTO:dcurry@summitilc.org
GEO:46.2496963;-114.1592819
X-APPLE-STRUCTURED-LOCATION;VALUE=URI;X-ADDRESS=The Refuge 274 Old Corvallis Rd. Suite B Hamilton MT 59840 United States;X-APPLE-RADIUS=500;X-TITLE=274 Old Corvallis Rd.\, Suite B:geo:-114.1592819,46.2496963
END:VEVENT
BEGIN:VEVENT
DTSTART;TZID=America/Denver:20260305T130000
DTEND;TZID=America/Denver:20260305T150000
DTSTAMP:20260425T064739
CREATED:20250813T220954Z
LAST-MODIFIED:20251202T214606Z
UID:10006368-1772715600-1772722800@www.summitilc.org
SUMMARY:Mail & Munchies (Hamilton)
DESCRIPTION:Sorting through paperwork from Social Security\, Medicaid\, and other mail can be overwhelming. \nWe’re here to help\, with coffee\, snacks\, and friendly faces. \nBring your paperwork to our Hamilton office on the first and third Thursday of every month from 1 p.m. to 3 p.m.\, and we’ll go over it together — along with free coffee\, tea\, and treats. \n☕ 🫖 🍩 📃
URL:https://www.summitilc.org/events/mail-munchies-hamilton/2026-03-05/
LOCATION:The Refuge\, 274 Old Corvallis Rd.\, Suite B\, Hamilton\, MT\, 59840\, United States
CATEGORIES:Hamilton
ATTACH;FMTTYPE=image/png:https://www.summitilc.org/wp-content/uploads/2025/09/Screenshot-2025-09-22-at-9.41.32-AM.png
ORGANIZER;CN="Darcy Curry":MAILTO:dcurry@summitilc.org
GEO:46.2496963;-114.1592819
X-APPLE-STRUCTURED-LOCATION;VALUE=URI;X-ADDRESS=The Refuge 274 Old Corvallis Rd. Suite B Hamilton MT 59840 United States;X-APPLE-RADIUS=500;X-TITLE=274 Old Corvallis Rd.\, Suite B:geo:-114.1592819,46.2496963
END:VEVENT
BEGIN:VEVENT
DTSTART;TZID=America/Denver:20260219T130000
DTEND;TZID=America/Denver:20260219T150000
DTSTAMP:20260425T064739
CREATED:20251001T203935Z
LAST-MODIFIED:20251001T203946Z
UID:10008226-1771506000-1771513200@www.summitilc.org
SUMMARY:Mail & Munchies (Hamilton)
DESCRIPTION:Sorting through paperwork from Social Security\, Medicaid\, and other mail can be overwhelming. \nWe’re here to help\, with coffee\, snacks\, and friendly faces. \nBring your paperwork to our Hamilton office on the first and third Thursday of every month from 1 p.m. to 3 p.m.\, and we’ll go over it together — along with free coffee\, tea\, and treats. \n☕ 🫖 🍩 📃
URL:https://www.summitilc.org/events/mail-munchies-hamilton-2-2/2026-02-19/
LOCATION:The Refuge\, 274 Old Corvallis Rd.\, Suite B\, Hamilton\, MT\, 59840\, United States
CATEGORIES:Hamilton
ATTACH;FMTTYPE=image/png:https://www.summitilc.org/wp-content/uploads/2025/09/Screenshot-2025-09-22-at-9.41.32-AM.png
ORGANIZER;CN="Darcy Curry":MAILTO:dcurry@summitilc.org
GEO:46.2496963;-114.1592819
X-APPLE-STRUCTURED-LOCATION;VALUE=URI;X-ADDRESS=The Refuge 274 Old Corvallis Rd. Suite B Hamilton MT 59840 United States;X-APPLE-RADIUS=500;X-TITLE=274 Old Corvallis Rd.\, Suite B:geo:-114.1592819,46.2496963
END:VEVENT
BEGIN:VEVENT
DTSTART;TZID=America/Denver:20260205T130000
DTEND;TZID=America/Denver:20260205T150000
DTSTAMP:20260425T064739
CREATED:20250813T220954Z
LAST-MODIFIED:20251202T214606Z
UID:10006367-1770296400-1770303600@www.summitilc.org
SUMMARY:Mail & Munchies (Hamilton)
DESCRIPTION:Sorting through paperwork from Social Security\, Medicaid\, and other mail can be overwhelming. \nWe’re here to help\, with coffee\, snacks\, and friendly faces. \nBring your paperwork to our Hamilton office on the first and third Thursday of every month from 1 p.m. to 3 p.m.\, and we’ll go over it together — along with free coffee\, tea\, and treats. \n☕ 🫖 🍩 📃
URL:https://www.summitilc.org/events/mail-munchies-hamilton/2026-02-05/
LOCATION:The Refuge\, 274 Old Corvallis Rd.\, Suite B\, Hamilton\, MT\, 59840\, United States
CATEGORIES:Hamilton
ATTACH;FMTTYPE=image/png:https://www.summitilc.org/wp-content/uploads/2025/09/Screenshot-2025-09-22-at-9.41.32-AM.png
ORGANIZER;CN="Darcy Curry":MAILTO:dcurry@summitilc.org
GEO:46.2496963;-114.1592819
X-APPLE-STRUCTURED-LOCATION;VALUE=URI;X-ADDRESS=The Refuge 274 Old Corvallis Rd. Suite B Hamilton MT 59840 United States;X-APPLE-RADIUS=500;X-TITLE=274 Old Corvallis Rd.\, Suite B:geo:-114.1592819,46.2496963
END:VEVENT
BEGIN:VEVENT
DTSTART;TZID=America/Denver:20260115T130000
DTEND;TZID=America/Denver:20260115T150000
DTSTAMP:20260425T064739
CREATED:20251001T203935Z
LAST-MODIFIED:20251001T203946Z
UID:10008225-1768482000-1768489200@www.summitilc.org
SUMMARY:Mail & Munchies (Hamilton)
DESCRIPTION:Sorting through paperwork from Social Security\, Medicaid\, and other mail can be overwhelming. \nWe’re here to help\, with coffee\, snacks\, and friendly faces. \nBring your paperwork to our Hamilton office on the first and third Thursday of every month from 1 p.m. to 3 p.m.\, and we’ll go over it together — along with free coffee\, tea\, and treats. \n☕ 🫖 🍩 📃
URL:https://www.summitilc.org/events/mail-munchies-hamilton-2-2/2026-01-15/
LOCATION:The Refuge\, 274 Old Corvallis Rd.\, Suite B\, Hamilton\, MT\, 59840\, United States
CATEGORIES:Hamilton
ATTACH;FMTTYPE=image/png:https://www.summitilc.org/wp-content/uploads/2025/09/Screenshot-2025-09-22-at-9.41.32-AM.png
ORGANIZER;CN="Darcy Curry":MAILTO:dcurry@summitilc.org
GEO:46.2496963;-114.1592819
X-APPLE-STRUCTURED-LOCATION;VALUE=URI;X-ADDRESS=The Refuge 274 Old Corvallis Rd. Suite B Hamilton MT 59840 United States;X-APPLE-RADIUS=500;X-TITLE=274 Old Corvallis Rd.\, Suite B:geo:-114.1592819,46.2496963
END:VEVENT
BEGIN:VEVENT
DTSTART;TZID=America/Denver:20251218T130000
DTEND;TZID=America/Denver:20251218T150000
DTSTAMP:20260425T064739
CREATED:20251001T203935Z
LAST-MODIFIED:20251001T203946Z
UID:10006485-1766062800-1766070000@www.summitilc.org
SUMMARY:Mail & Munchies (Hamilton)
DESCRIPTION:Sorting through paperwork from Social Security\, Medicaid\, and other mail can be overwhelming. \nWe’re here to help\, with coffee\, snacks\, and friendly faces. \nBring your paperwork to our Hamilton office on the first and third Thursday of every month from 1 p.m. to 3 p.m.\, and we’ll go over it together — along with free coffee\, tea\, and treats. \n☕ 🫖 🍩 📃
URL:https://www.summitilc.org/events/mail-munchies-hamilton-2-2/2025-12-18/
LOCATION:The Refuge\, 274 Old Corvallis Rd.\, Suite B\, Hamilton\, MT\, 59840\, United States
CATEGORIES:Hamilton
ATTACH;FMTTYPE=image/png:https://www.summitilc.org/wp-content/uploads/2025/09/Screenshot-2025-09-22-at-9.41.32-AM.png
ORGANIZER;CN="Darcy Curry":MAILTO:dcurry@summitilc.org
GEO:46.2496963;-114.1592819
X-APPLE-STRUCTURED-LOCATION;VALUE=URI;X-ADDRESS=The Refuge 274 Old Corvallis Rd. Suite B Hamilton MT 59840 United States;X-APPLE-RADIUS=500;X-TITLE=274 Old Corvallis Rd.\, Suite B:geo:-114.1592819,46.2496963
END:VEVENT
BEGIN:VEVENT
DTSTART;TZID=America/Denver:20251204T130000
DTEND;TZID=America/Denver:20251204T150000
DTSTAMP:20260425T064739
CREATED:20250813T220954Z
LAST-MODIFIED:20251202T214606Z
UID:10006365-1764853200-1764860400@www.summitilc.org
SUMMARY:Mail & Munchies (Hamilton)
DESCRIPTION:Sorting through paperwork from Social Security\, Medicaid\, and other mail can be overwhelming. \nWe’re here to help\, with coffee\, snacks\, and friendly faces. \nBring your paperwork to our Hamilton office on the first and third Thursday of every month from 1 p.m. to 3 p.m.\, and we’ll go over it together — along with free coffee\, tea\, and treats. \n☕ 🫖 🍩 📃
URL:https://www.summitilc.org/events/mail-munchies-hamilton/2025-12-04/
LOCATION:The Refuge\, 274 Old Corvallis Rd.\, Suite B\, Hamilton\, MT\, 59840\, United States
CATEGORIES:Hamilton
ATTACH;FMTTYPE=image/png:https://www.summitilc.org/wp-content/uploads/2025/09/Screenshot-2025-09-22-at-9.41.32-AM.png
ORGANIZER;CN="Darcy Curry":MAILTO:dcurry@summitilc.org
GEO:46.2496963;-114.1592819
X-APPLE-STRUCTURED-LOCATION;VALUE=URI;X-ADDRESS=The Refuge 274 Old Corvallis Rd. Suite B Hamilton MT 59840 United States;X-APPLE-RADIUS=500;X-TITLE=274 Old Corvallis Rd.\, Suite B:geo:-114.1592819,46.2496963
END:VEVENT
BEGIN:VEVENT
DTSTART;TZID=America/Denver:20251120T130000
DTEND;TZID=America/Denver:20251120T150000
DTSTAMP:20260425T064739
CREATED:20251001T203935Z
LAST-MODIFIED:20251001T203946Z
UID:10008224-1763643600-1763650800@www.summitilc.org
SUMMARY:Mail & Munchies (Hamilton)
DESCRIPTION:Sorting through paperwork from Social Security\, Medicaid\, and other mail can be overwhelming. \nWe’re here to help\, with coffee\, snacks\, and friendly faces. \nBring your paperwork to our Hamilton office on the first and third Thursday of every month from 1 p.m. to 3 p.m.\, and we’ll go over it together — along with free coffee\, tea\, and treats. \n☕ 🫖 🍩 📃
URL:https://www.summitilc.org/events/mail-munchies-hamilton-2-2/2025-11-20/
LOCATION:The Refuge\, 274 Old Corvallis Rd.\, Suite B\, Hamilton\, MT\, 59840\, United States
CATEGORIES:Hamilton
ATTACH;FMTTYPE=image/png:https://www.summitilc.org/wp-content/uploads/2025/09/Screenshot-2025-09-22-at-9.41.32-AM.png
ORGANIZER;CN="Darcy Curry":MAILTO:dcurry@summitilc.org
GEO:46.2496963;-114.1592819
X-APPLE-STRUCTURED-LOCATION;VALUE=URI;X-ADDRESS=The Refuge 274 Old Corvallis Rd. Suite B Hamilton MT 59840 United States;X-APPLE-RADIUS=500;X-TITLE=274 Old Corvallis Rd.\, Suite B:geo:-114.1592819,46.2496963
END:VEVENT
BEGIN:VEVENT
DTSTART;TZID=America/Denver:20251106T130000
DTEND;TZID=America/Denver:20251106T150000
DTSTAMP:20260425T064739
CREATED:20250813T220954Z
LAST-MODIFIED:20251202T214606Z
UID:10006364-1762434000-1762441200@www.summitilc.org
SUMMARY:Mail & Munchies (Hamilton)
DESCRIPTION:Sorting through paperwork from Social Security\, Medicaid\, and other mail can be overwhelming. \nWe’re here to help\, with coffee\, snacks\, and friendly faces. \nBring your paperwork to our Hamilton office on the first and third Thursday of every month from 1 p.m. to 3 p.m.\, and we’ll go over it together — along with free coffee\, tea\, and treats. \n☕ 🫖 🍩 📃
URL:https://www.summitilc.org/events/mail-munchies-hamilton/2025-11-06/
LOCATION:The Refuge\, 274 Old Corvallis Rd.\, Suite B\, Hamilton\, MT\, 59840\, United States
CATEGORIES:Hamilton
ATTACH;FMTTYPE=image/png:https://www.summitilc.org/wp-content/uploads/2025/09/Screenshot-2025-09-22-at-9.41.32-AM.png
ORGANIZER;CN="Darcy Curry":MAILTO:dcurry@summitilc.org
GEO:46.2496963;-114.1592819
X-APPLE-STRUCTURED-LOCATION;VALUE=URI;X-ADDRESS=The Refuge 274 Old Corvallis Rd. Suite B Hamilton MT 59840 United States;X-APPLE-RADIUS=500;X-TITLE=274 Old Corvallis Rd.\, Suite B:geo:-114.1592819,46.2496963
END:VEVENT
END:VCALENDAR