BEGIN:VCALENDAR
VERSION:2.0
PRODID:-//Summit Independent Living - ECPv6.15.20//NONSGML v1.0//EN
CALSCALE:GREGORIAN
METHOD:PUBLISH
X-ORIGINAL-URL:https://www.summitilc.org
X-WR-CALDESC:Events for Summit Independent Living
REFRESH-INTERVAL;VALUE=DURATION:PT1H
X-Robots-Tag:noindex
X-PUBLISHED-TTL:PT1H
BEGIN:VTIMEZONE
TZID:America/Denver
BEGIN:DAYLIGHT
TZOFFSETFROM:-0700
TZOFFSETTO:-0600
TZNAME:MDT
DTSTART:20250309T090000
END:DAYLIGHT
BEGIN:STANDARD
TZOFFSETFROM:-0600
TZOFFSETTO:-0700
TZNAME:MST
DTSTART:20251102T080000
END:STANDARD
BEGIN:DAYLIGHT
TZOFFSETFROM:-0700
TZOFFSETTO:-0600
TZNAME:MDT
DTSTART:20260308T090000
END:DAYLIGHT
BEGIN:STANDARD
TZOFFSETFROM:-0600
TZOFFSETTO:-0700
TZNAME:MST
DTSTART:20261101T080000
END:STANDARD
BEGIN:DAYLIGHT
TZOFFSETFROM:-0700
TZOFFSETTO:-0600
TZNAME:MDT
DTSTART:20270314T090000
END:DAYLIGHT
BEGIN:STANDARD
TZOFFSETFROM:-0600
TZOFFSETTO:-0700
TZNAME:MST
DTSTART:20271107T080000
END:STANDARD
END:VTIMEZONE
BEGIN:VEVENT
DTSTART;TZID=America/Denver:20261102T120000
DTEND;TZID=America/Denver:20261102T130000
DTSTAMP:20260425T094513
CREATED:20251202T212246Z
LAST-MODIFIED:20260330T200922Z
UID:10007445-1793620800-1793624400@www.summitilc.org
SUMMARY:All Abilities Yoga (Missoula)
DESCRIPTION:🧘️🌟 Summit hosts free All-Abilities Yoga classes every Monday! 🌟🧘️ \nJoin our empowering and accessible yoga sessions\, designed for everyone to explore their inner strength. \n\n\nIt all happens from noon to 1 p.m. at Summit’s Missoula headquarters.\n\n\n\n\n\nCelebrate unity and community as we flow together!
URL:https://www.summitilc.org/events/all-abilities-yoga-via-zoom-13-2/2026-11-02/
LOCATION:Summit Conference Room – Missoula\, 3104 W. Broadway St.\, Missoula\, MT\, 59808\, United States
CATEGORIES:Missoula
ATTACH;FMTTYPE=image/png:https://www.summitilc.org/wp-content/uploads/2025/12/New-Yoga-Promotion-Socials.png
ORGANIZER;CN="John Howard":MAILTO:jhoward@summitilic.org
GEO:46.8373928;-114.0099613
X-APPLE-STRUCTURED-LOCATION;VALUE=URI;X-ADDRESS=Summit Conference Room – Missoula 3104 W. Broadway St. Missoula MT 59808 United States;X-APPLE-RADIUS=500;X-TITLE=3104 W. Broadway St.:geo:-114.0099613,46.8373928
END:VEVENT
BEGIN:VEVENT
DTSTART;TZID=America/Denver:20261103T130000
DTEND;TZID=America/Denver:20261103T150000
DTSTAMP:20260425T094513
CREATED:20250929T202605Z
LAST-MODIFIED:20251028T165123Z
UID:10008016-1793710800-1793718000@www.summitilc.org
SUMMARY:Dungeons & Dragons Group (Hamilton)
DESCRIPTION:Join us for Dungeons and Dragons in Hamilton\, led by a new DM for beginner players. \nExperience vast fantasy worlds with all kinds of people and monsters of legend! \nOur games are open to all players ages 18 and up (due to fantasy violence ⚔️ and the potential in-game death of beasts and people alike 💀). \nWe’ll be playing with the Fate Accelerated System\, since it’s easier for beginners to pick up and play. And if you need help getting started\, our Dungeon Master will be there if you need them! \nStop by our Hamilton office on Old Corvallis Road every Tuesday from 1 to 3 p.m. See you in the dungeon!
URL:https://www.summitilc.org/events/dungeons-dragons-group-hamilton/2026-11-03/
LOCATION:The Refuge\, 274 Old Corvallis Rd.\, Suite B\, Hamilton\, MT\, 59840\, United States
CATEGORIES:Hamilton
ATTACH;FMTTYPE=image/png:https://www.summitilc.org/wp-content/uploads/2025/09/Dungeons-and-Dragons.png
ORGANIZER;CN="Darcy Curry":MAILTO:dcurry@summitilc.org
GEO:46.2496963;-114.1592819
X-APPLE-STRUCTURED-LOCATION;VALUE=URI;X-ADDRESS=The Refuge 274 Old Corvallis Rd. Suite B Hamilton MT 59840 United States;X-APPLE-RADIUS=500;X-TITLE=274 Old Corvallis Rd.\, Suite B:geo:-114.1592819,46.2496963
END:VEVENT
BEGIN:VEVENT
DTSTART;TZID=America/Denver:20261104T130000
DTEND;TZID=America/Denver:20261104T160000
DTSTAMP:20260425T094513
CREATED:20240827T200939Z
LAST-MODIFIED:20250922T153343Z
UID:10004325-1793797200-1793808000@www.summitilc.org
SUMMARY:Arts & Crafts in Polson
DESCRIPTION:Join us for an afternoon of crafting and companionship. \nBring your own craft project or use our materials to join in a group activity\, like beading\, painting\, and baking. Arts & Crafts in Polson is always open to people of all abilities. \nWhen: Every Wednesday from 1:00 p.m. until 4:00 p.m. \nWhere: Summit’s Polson office\, 3 Ninth Avenue West\, Suite 1 in Polson. \nCall (406) 215-1604 for more information.
URL:https://www.summitilc.org/events/arts-craft-2-2-2/2026-11-04/
LOCATION:Summit Conference Room – Polson\, 3 9th Avenue West\, Suite 1\, Polson\, MT\, 59860\, United States
CATEGORIES:Polson
ATTACH;FMTTYPE=image/png:https://www.summitilc.org/wp-content/uploads/2024/08/Arts-Crafts-in-Polson-7.png
ORGANIZER;CN="Carol Madden":MAILTO:cmadden@summitilc.org
GEO:47.5288785;-114.0997296
X-APPLE-STRUCTURED-LOCATION;VALUE=URI;X-ADDRESS=Summit Conference Room – Polson 3 9th Avenue West Suite 1 Polson MT 59860 United States;X-APPLE-RADIUS=500;X-TITLE=3 9th Avenue West\, Suite 1:geo:-114.0997296,47.5288785
END:VEVENT
BEGIN:VEVENT
DTSTART;TZID=America/Denver:20261104T160000
DTEND;TZID=America/Denver:20261104T173000
DTSTAMP:20260425T094513
CREATED:20260415T222645Z
LAST-MODIFIED:20260415T222645Z
UID:10009399-1793808000-1793813400@www.summitilc.org
SUMMARY:Y.O.D.A.: Youth Opening Doors through Advocacy (Hamilton)
DESCRIPTION:Want to meet other young people with disabilities? Interested in learning about\, and shaping\, your community? How do snacks and games sound? \nYou’ll find all this and more at YODA — Youth Opening Doors through Advocacy — a group for young people with disabilities. \nDiscover your community\, learn about disability culture\, and just have fun! \nYODA meets on the first and third Wednesday of every month at Summit’s Hamilton office. See you there!
URL:https://www.summitilc.org/events/y-o-d-a-youth-opening-doors-through-advocacy-hamilton-2/2026-11-04/
LOCATION:The Refuge\, 274 Old Corvallis Rd.\, Suite B\, Hamilton\, MT\, 59840\, United States
CATEGORIES:Hamilton
ATTACH;FMTTYPE=image/png:https://www.summitilc.org/wp-content/uploads/2024/12/Y.O.D.A.-2025.png
ORGANIZER;CN="Darcy Curry":MAILTO:dcurry@summitilc.org
GEO:46.2496963;-114.1592819
X-APPLE-STRUCTURED-LOCATION;VALUE=URI;X-ADDRESS=The Refuge 274 Old Corvallis Rd. Suite B Hamilton MT 59840 United States;X-APPLE-RADIUS=500;X-TITLE=274 Old Corvallis Rd.\, Suite B:geo:-114.1592819,46.2496963
END:VEVENT
BEGIN:VEVENT
DTSTART;TZID=America/Denver:20261105T130000
DTEND;TZID=America/Denver:20261105T150000
DTSTAMP:20260425T094513
CREATED:20250813T220954Z
LAST-MODIFIED:20251202T214606Z
UID:10006376-1793883600-1793890800@www.summitilc.org
SUMMARY:Mail & Munchies (Hamilton)
DESCRIPTION:Sorting through paperwork from Social Security\, Medicaid\, and other mail can be overwhelming. \nWe’re here to help\, with coffee\, snacks\, and friendly faces. \nBring your paperwork to our Hamilton office on the first and third Thursday of every month from 1 p.m. to 3 p.m.\, and we’ll go over it together — along with free coffee\, tea\, and treats. \n☕ 🫖 🍩 📃
URL:https://www.summitilc.org/events/mail-munchies-hamilton/2026-11-05/
LOCATION:The Refuge\, 274 Old Corvallis Rd.\, Suite B\, Hamilton\, MT\, 59840\, United States
CATEGORIES:Hamilton
ATTACH;FMTTYPE=image/png:https://www.summitilc.org/wp-content/uploads/2025/09/Screenshot-2025-09-22-at-9.41.32-AM.png
ORGANIZER;CN="Darcy Curry":MAILTO:dcurry@summitilc.org
GEO:46.2496963;-114.1592819
X-APPLE-STRUCTURED-LOCATION;VALUE=URI;X-ADDRESS=The Refuge 274 Old Corvallis Rd. Suite B Hamilton MT 59840 United States;X-APPLE-RADIUS=500;X-TITLE=274 Old Corvallis Rd.\, Suite B:geo:-114.1592819,46.2496963
END:VEVENT
BEGIN:VEVENT
DTSTART;TZID=America/Denver:20261105T173000
DTEND;TZID=America/Denver:20261105T190000
DTSTAMP:20260425T094513
CREATED:20260305T200912Z
LAST-MODIFIED:20260305T200914Z
UID:10007126-1793899800-1793905200@www.summitilc.org
SUMMARY:BASE Improv Workshop (Missoula)
DESCRIPTION:Interested in learning to fail? Then improv might be for you! \nJoin us for our FREE weekly improv workshop every Thursday at BASE from 5:30 p.m. to 7 p.m. \nIt’s open to folks of all abilities and experience levels. Our workshops fill up quickly\, so to reserve your space\, call 406 215 1080 or contact us through basemissoula.org to reserve your space!
URL:https://www.summitilc.org/events/base-improv-workshop-missoula-2/2026-11-05/
LOCATION:BASE\, 3104 W. Broadway St.\, Missoula\, MT\, 59808\, United States
CATEGORIES:BASE,Missoula
ATTACH;FMTTYPE=image/png:https://www.summitilc.org/wp-content/uploads/2025/09/IMPROV.png
ORGANIZER;CN="John Howard":MAILTO:jhoward@summitilic.org
GEO:46.8777495;-114.0025934
X-APPLE-STRUCTURED-LOCATION;VALUE=URI;X-ADDRESS=BASE 3104 W. Broadway St. Missoula MT 59808 United States;X-APPLE-RADIUS=500;X-TITLE=3104 W. Broadway St.:geo:-114.0025934,46.8777495
END:VEVENT
BEGIN:VEVENT
DTSTART;TZID=America/Denver:20261106T130000
DTEND;TZID=America/Denver:20261106T150000
DTSTAMP:20260425T094513
CREATED:20230406T033439Z
LAST-MODIFIED:20260112T190127Z
UID:10001727-1793970000-1793977200@www.summitilc.org
SUMMARY:BASE Art Club (Missoula)
DESCRIPTION:BASE Art Club is open to people of all ages and all abilities. Beginners\, crafters\, and fans of DIY projects are welcome. We’ll provide the materials; just come as you are. \nBASE Art Club meets every Friday from 1:00 p.m. to 3:00 p.m. at 725 W. Alder St.\, #4 (the Old Warehouse Mall) in Missoula. \nIf you’re new to the group or would like more information\, please call 406 215 1080 or contact Gavin at our BASE office.
URL:https://www.summitilc.org/events/base-art-group/2026-11-06/
LOCATION:BASE\, 3104 W. Broadway St.\, Missoula\, MT\, 59808\, United States
CATEGORIES:BASE
ATTACH;FMTTYPE=image/png:https://www.summitilc.org/wp-content/uploads/2023/04/Art-Club-1124.png
ORGANIZER;CN="Gavin Workman":MAILTO:gworkman@summitilc.org
GEO:46.8777495;-114.0025934
X-APPLE-STRUCTURED-LOCATION;VALUE=URI;X-ADDRESS=BASE 3104 W. Broadway St. Missoula MT 59808 United States;X-APPLE-RADIUS=500;X-TITLE=3104 W. Broadway St.:geo:-114.0025934,46.8777495
END:VEVENT
BEGIN:VEVENT
DTSTART;TZID=America/Denver:20261106T130000
DTEND;TZID=America/Denver:20261106T150000
DTSTAMP:20260425T094513
CREATED:20251022T191927Z
LAST-MODIFIED:20260416T171501Z
UID:10008445-1793970000-1793977200@www.summitilc.org
SUMMARY:T.G.I.A.F. (Thank Goodness It's Activity Friday) (Hamilton)
DESCRIPTION:Join us every Friday in Hamilton and relax with arts and crafts\, board and card games\, and new friends. \nEvery week is a different activity! \nFirst Friday: UNO & Dunkin Man \nSecond Friday: Abstract Art \nThird Friday: Bingo! \nFourth Friday: Collage Art \n\nSee you at 274 Old Corvallis Rd.\, Suite B in Hamilton!
URL:https://www.summitilc.org/events/t-g-i-a-f-thank-goodness-its-activity-friday-hamilton/2026-11-06/
LOCATION:The Refuge\, 274 Old Corvallis Rd.\, Suite B\, Hamilton\, MT\, 59840\, United States
CATEGORIES:Hamilton
ATTACH;FMTTYPE=image/png:https://www.summitilc.org/wp-content/uploads/2025/10/Screenshot-2026-04-16-at-11.10.47-AM.png
ORGANIZER;CN="Darcy Curry":MAILTO:dcurry@summitilc.org
GEO:46.2496963;-114.1592819
X-APPLE-STRUCTURED-LOCATION;VALUE=URI;X-ADDRESS=The Refuge 274 Old Corvallis Rd. Suite B Hamilton MT 59840 United States;X-APPLE-RADIUS=500;X-TITLE=274 Old Corvallis Rd.\, Suite B:geo:-114.1592819,46.2496963
END:VEVENT
BEGIN:VEVENT
DTSTART;TZID=America/Denver:20261106T150000
DTEND;TZID=America/Denver:20261106T170000
DTSTAMP:20260425T094513
CREATED:20250923T195856Z
LAST-MODIFIED:20251003T154308Z
UID:10007021-1793977200-1793984400@www.summitilc.org
SUMMARY:Magic: The Gathering Game Day (Missoula)
DESCRIPTION:🎲🧙️ Gather with us on the first Friday of every month for an inclusive Magic: The Gathering game day! \nAll ages and abilities are welcome as we build community and engage in exciting strategic gameplay. \nCome cast spells\, summon creatures\, and make new friends\, from 3 p.m. to 5 p.m. at BASE!
URL:https://www.summitilc.org/events/magic-the-gathering-game-day-missoula/2026-11-06/
LOCATION:BASE\, 3104 W. Broadway St.\, Missoula\, MT\, 59808\, United States
CATEGORIES:BASE,Missoula
ATTACH;FMTTYPE=image/png:https://www.summitilc.org/wp-content/uploads/2025/09/Magic-The-Gathering-Game-Day-1.png
ORGANIZER;CN="John Howard":MAILTO:jhoward@summitilic.org
GEO:46.8777495;-114.0025934
X-APPLE-STRUCTURED-LOCATION;VALUE=URI;X-ADDRESS=BASE 3104 W. Broadway St. Missoula MT 59808 United States;X-APPLE-RADIUS=500;X-TITLE=3104 W. Broadway St.:geo:-114.0025934,46.8777495
END:VEVENT
END:VCALENDAR