BEGIN:VCALENDAR
VERSION:2.0
PRODID:-//Summit Independent Living - ECPv6.15.20//NONSGML v1.0//EN
CALSCALE:GREGORIAN
METHOD:PUBLISH
X-ORIGINAL-URL:https://www.summitilc.org
X-WR-CALDESC:Events for Summit Independent Living
REFRESH-INTERVAL;VALUE=DURATION:PT1H
X-Robots-Tag:noindex
X-PUBLISHED-TTL:PT1H
BEGIN:VTIMEZONE
TZID:America/Denver
BEGIN:DAYLIGHT
TZOFFSETFROM:-0700
TZOFFSETTO:-0600
TZNAME:MDT
DTSTART:20290311T090000
END:DAYLIGHT
BEGIN:STANDARD
TZOFFSETFROM:-0600
TZOFFSETTO:-0700
TZNAME:MST
DTSTART:20291104T080000
END:STANDARD
BEGIN:DAYLIGHT
TZOFFSETFROM:-0700
TZOFFSETTO:-0600
TZNAME:MDT
DTSTART:20300310T090000
END:DAYLIGHT
BEGIN:STANDARD
TZOFFSETFROM:-0600
TZOFFSETTO:-0700
TZNAME:MST
DTSTART:20301103T080000
END:STANDARD
BEGIN:DAYLIGHT
TZOFFSETFROM:-0700
TZOFFSETTO:-0600
TZNAME:MDT
DTSTART:20310309T090000
END:DAYLIGHT
BEGIN:STANDARD
TZOFFSETFROM:-0600
TZOFFSETTO:-0700
TZNAME:MST
DTSTART:20311102T080000
END:STANDARD
BEGIN:DAYLIGHT
TZOFFSETFROM:-0700
TZOFFSETTO:-0600
TZNAME:MDT
DTSTART:20320314T090000
END:DAYLIGHT
BEGIN:STANDARD
TZOFFSETFROM:-0600
TZOFFSETTO:-0700
TZNAME:MST
DTSTART:20321107T080000
END:STANDARD
END:VTIMEZONE
BEGIN:VEVENT
DTSTART;TZID=America/Denver:20300710T140000
DTEND;TZID=America/Denver:20300710T150000
DTSTAMP:20260425T093610
CREATED:20260415T221519Z
LAST-MODIFIED:20260415T221519Z
UID:10009144-1909922400-1909926000@www.summitilc.org
SUMMARY:C.H.E.W. Cooking Class (Hamilton)
DESCRIPTION:Welcome to C.H.E.W. — the Cost-effective Healthy Eating Workshop! \nOur free cooking class will give you the skills you need to create healthy\, affordable\, and delicious meals. \nPrepare a different dish every week\, while learning things like menu planning\, nutrition basics\, kitchen safety\, and more! \nC.H.E.W. meets every second Wednesday from 2 p.m. to 3 p.m.\, at our Hamilton office. Call or email for more information.
URL:https://www.summitilc.org/events/c-h-e-w-cooking-class-hamilton/2030-07-10/
LOCATION:The Refuge\, 274 Old Corvallis Rd.\, Suite B\, Hamilton\, MT\, 59840\, United States
CATEGORIES:Hamilton
ATTACH;FMTTYPE=image/png:https://www.summitilc.org/wp-content/uploads/2026/04/Screenshot-2026-04-15-at-4.01.14-PM.png
ORGANIZER;CN="Darcy Curry":MAILTO:dcurry@summitilc.org
GEO:46.2496963;-114.1592819
X-APPLE-STRUCTURED-LOCATION;VALUE=URI;X-ADDRESS=The Refuge 274 Old Corvallis Rd. Suite B Hamilton MT 59840 United States;X-APPLE-RADIUS=500;X-TITLE=274 Old Corvallis Rd.\, Suite B:geo:-114.1592819,46.2496963
END:VEVENT
BEGIN:VEVENT
DTSTART;TZID=America/Denver:20300814T140000
DTEND;TZID=America/Denver:20300814T150000
DTSTAMP:20260425T093610
CREATED:20260415T221519Z
LAST-MODIFIED:20260415T221519Z
UID:10009145-1912946400-1912950000@www.summitilc.org
SUMMARY:C.H.E.W. Cooking Class (Hamilton)
DESCRIPTION:Welcome to C.H.E.W. — the Cost-effective Healthy Eating Workshop! \nOur free cooking class will give you the skills you need to create healthy\, affordable\, and delicious meals. \nPrepare a different dish every week\, while learning things like menu planning\, nutrition basics\, kitchen safety\, and more! \nC.H.E.W. meets every second Wednesday from 2 p.m. to 3 p.m.\, at our Hamilton office. Call or email for more information.
URL:https://www.summitilc.org/events/c-h-e-w-cooking-class-hamilton/2030-08-14/
LOCATION:The Refuge\, 274 Old Corvallis Rd.\, Suite B\, Hamilton\, MT\, 59840\, United States
CATEGORIES:Hamilton
ATTACH;FMTTYPE=image/png:https://www.summitilc.org/wp-content/uploads/2026/04/Screenshot-2026-04-15-at-4.01.14-PM.png
ORGANIZER;CN="Darcy Curry":MAILTO:dcurry@summitilc.org
GEO:46.2496963;-114.1592819
X-APPLE-STRUCTURED-LOCATION;VALUE=URI;X-ADDRESS=The Refuge 274 Old Corvallis Rd. Suite B Hamilton MT 59840 United States;X-APPLE-RADIUS=500;X-TITLE=274 Old Corvallis Rd.\, Suite B:geo:-114.1592819,46.2496963
END:VEVENT
BEGIN:VEVENT
DTSTART;TZID=America/Denver:20300911T140000
DTEND;TZID=America/Denver:20300911T150000
DTSTAMP:20260425T093610
CREATED:20260415T221519Z
LAST-MODIFIED:20260415T221519Z
UID:10009146-1915365600-1915369200@www.summitilc.org
SUMMARY:C.H.E.W. Cooking Class (Hamilton)
DESCRIPTION:Welcome to C.H.E.W. — the Cost-effective Healthy Eating Workshop! \nOur free cooking class will give you the skills you need to create healthy\, affordable\, and delicious meals. \nPrepare a different dish every week\, while learning things like menu planning\, nutrition basics\, kitchen safety\, and more! \nC.H.E.W. meets every second Wednesday from 2 p.m. to 3 p.m.\, at our Hamilton office. Call or email for more information.
URL:https://www.summitilc.org/events/c-h-e-w-cooking-class-hamilton/2030-09-11/
LOCATION:The Refuge\, 274 Old Corvallis Rd.\, Suite B\, Hamilton\, MT\, 59840\, United States
CATEGORIES:Hamilton
ATTACH;FMTTYPE=image/png:https://www.summitilc.org/wp-content/uploads/2026/04/Screenshot-2026-04-15-at-4.01.14-PM.png
ORGANIZER;CN="Darcy Curry":MAILTO:dcurry@summitilc.org
GEO:46.2496963;-114.1592819
X-APPLE-STRUCTURED-LOCATION;VALUE=URI;X-ADDRESS=The Refuge 274 Old Corvallis Rd. Suite B Hamilton MT 59840 United States;X-APPLE-RADIUS=500;X-TITLE=274 Old Corvallis Rd.\, Suite B:geo:-114.1592819,46.2496963
END:VEVENT
BEGIN:VEVENT
DTSTART;TZID=America/Denver:20301009T140000
DTEND;TZID=America/Denver:20301009T150000
DTSTAMP:20260425T093610
CREATED:20260415T221519Z
LAST-MODIFIED:20260415T221519Z
UID:10009147-1917784800-1917788400@www.summitilc.org
SUMMARY:C.H.E.W. Cooking Class (Hamilton)
DESCRIPTION:Welcome to C.H.E.W. — the Cost-effective Healthy Eating Workshop! \nOur free cooking class will give you the skills you need to create healthy\, affordable\, and delicious meals. \nPrepare a different dish every week\, while learning things like menu planning\, nutrition basics\, kitchen safety\, and more! \nC.H.E.W. meets every second Wednesday from 2 p.m. to 3 p.m.\, at our Hamilton office. Call or email for more information.
URL:https://www.summitilc.org/events/c-h-e-w-cooking-class-hamilton/2030-10-09/
LOCATION:The Refuge\, 274 Old Corvallis Rd.\, Suite B\, Hamilton\, MT\, 59840\, United States
CATEGORIES:Hamilton
ATTACH;FMTTYPE=image/png:https://www.summitilc.org/wp-content/uploads/2026/04/Screenshot-2026-04-15-at-4.01.14-PM.png
ORGANIZER;CN="Darcy Curry":MAILTO:dcurry@summitilc.org
GEO:46.2496963;-114.1592819
X-APPLE-STRUCTURED-LOCATION;VALUE=URI;X-ADDRESS=The Refuge 274 Old Corvallis Rd. Suite B Hamilton MT 59840 United States;X-APPLE-RADIUS=500;X-TITLE=274 Old Corvallis Rd.\, Suite B:geo:-114.1592819,46.2496963
END:VEVENT
BEGIN:VEVENT
DTSTART;TZID=America/Denver:20301113T140000
DTEND;TZID=America/Denver:20301113T150000
DTSTAMP:20260425T093610
CREATED:20260415T221519Z
LAST-MODIFIED:20260415T221519Z
UID:10009148-1920808800-1920812400@www.summitilc.org
SUMMARY:C.H.E.W. Cooking Class (Hamilton)
DESCRIPTION:Welcome to C.H.E.W. — the Cost-effective Healthy Eating Workshop! \nOur free cooking class will give you the skills you need to create healthy\, affordable\, and delicious meals. \nPrepare a different dish every week\, while learning things like menu planning\, nutrition basics\, kitchen safety\, and more! \nC.H.E.W. meets every second Wednesday from 2 p.m. to 3 p.m.\, at our Hamilton office. Call or email for more information.
URL:https://www.summitilc.org/events/c-h-e-w-cooking-class-hamilton/2030-11-13/
LOCATION:The Refuge\, 274 Old Corvallis Rd.\, Suite B\, Hamilton\, MT\, 59840\, United States
CATEGORIES:Hamilton
ATTACH;FMTTYPE=image/png:https://www.summitilc.org/wp-content/uploads/2026/04/Screenshot-2026-04-15-at-4.01.14-PM.png
ORGANIZER;CN="Darcy Curry":MAILTO:dcurry@summitilc.org
GEO:46.2496963;-114.1592819
X-APPLE-STRUCTURED-LOCATION;VALUE=URI;X-ADDRESS=The Refuge 274 Old Corvallis Rd. Suite B Hamilton MT 59840 United States;X-APPLE-RADIUS=500;X-TITLE=274 Old Corvallis Rd.\, Suite B:geo:-114.1592819,46.2496963
END:VEVENT
BEGIN:VEVENT
DTSTART;TZID=America/Denver:20301211T140000
DTEND;TZID=America/Denver:20301211T150000
DTSTAMP:20260425T093610
CREATED:20260415T221519Z
LAST-MODIFIED:20260415T221519Z
UID:10009149-1923228000-1923231600@www.summitilc.org
SUMMARY:C.H.E.W. Cooking Class (Hamilton)
DESCRIPTION:Welcome to C.H.E.W. — the Cost-effective Healthy Eating Workshop! \nOur free cooking class will give you the skills you need to create healthy\, affordable\, and delicious meals. \nPrepare a different dish every week\, while learning things like menu planning\, nutrition basics\, kitchen safety\, and more! \nC.H.E.W. meets every second Wednesday from 2 p.m. to 3 p.m.\, at our Hamilton office. Call or email for more information.
URL:https://www.summitilc.org/events/c-h-e-w-cooking-class-hamilton/2030-12-11/
LOCATION:The Refuge\, 274 Old Corvallis Rd.\, Suite B\, Hamilton\, MT\, 59840\, United States
CATEGORIES:Hamilton
ATTACH;FMTTYPE=image/png:https://www.summitilc.org/wp-content/uploads/2026/04/Screenshot-2026-04-15-at-4.01.14-PM.png
ORGANIZER;CN="Darcy Curry":MAILTO:dcurry@summitilc.org
GEO:46.2496963;-114.1592819
X-APPLE-STRUCTURED-LOCATION;VALUE=URI;X-ADDRESS=The Refuge 274 Old Corvallis Rd. Suite B Hamilton MT 59840 United States;X-APPLE-RADIUS=500;X-TITLE=274 Old Corvallis Rd.\, Suite B:geo:-114.1592819,46.2496963
END:VEVENT
BEGIN:VEVENT
DTSTART;TZID=America/Denver:20310108T140000
DTEND;TZID=America/Denver:20310108T150000
DTSTAMP:20260425T093610
CREATED:20260415T221519Z
LAST-MODIFIED:20260415T221519Z
UID:10009150-1925647200-1925650800@www.summitilc.org
SUMMARY:C.H.E.W. Cooking Class (Hamilton)
DESCRIPTION:Welcome to C.H.E.W. — the Cost-effective Healthy Eating Workshop! \nOur free cooking class will give you the skills you need to create healthy\, affordable\, and delicious meals. \nPrepare a different dish every week\, while learning things like menu planning\, nutrition basics\, kitchen safety\, and more! \nC.H.E.W. meets every second Wednesday from 2 p.m. to 3 p.m.\, at our Hamilton office. Call or email for more information.
URL:https://www.summitilc.org/events/c-h-e-w-cooking-class-hamilton/2031-01-08/
LOCATION:The Refuge\, 274 Old Corvallis Rd.\, Suite B\, Hamilton\, MT\, 59840\, United States
CATEGORIES:Hamilton
ATTACH;FMTTYPE=image/png:https://www.summitilc.org/wp-content/uploads/2026/04/Screenshot-2026-04-15-at-4.01.14-PM.png
ORGANIZER;CN="Darcy Curry":MAILTO:dcurry@summitilc.org
GEO:46.2496963;-114.1592819
X-APPLE-STRUCTURED-LOCATION;VALUE=URI;X-ADDRESS=The Refuge 274 Old Corvallis Rd. Suite B Hamilton MT 59840 United States;X-APPLE-RADIUS=500;X-TITLE=274 Old Corvallis Rd.\, Suite B:geo:-114.1592819,46.2496963
END:VEVENT
BEGIN:VEVENT
DTSTART;TZID=America/Denver:20310212T140000
DTEND;TZID=America/Denver:20310212T150000
DTSTAMP:20260425T093610
CREATED:20260415T221519Z
LAST-MODIFIED:20260415T221519Z
UID:10009151-1928671200-1928674800@www.summitilc.org
SUMMARY:C.H.E.W. Cooking Class (Hamilton)
DESCRIPTION:Welcome to C.H.E.W. — the Cost-effective Healthy Eating Workshop! \nOur free cooking class will give you the skills you need to create healthy\, affordable\, and delicious meals. \nPrepare a different dish every week\, while learning things like menu planning\, nutrition basics\, kitchen safety\, and more! \nC.H.E.W. meets every second Wednesday from 2 p.m. to 3 p.m.\, at our Hamilton office. Call or email for more information.
URL:https://www.summitilc.org/events/c-h-e-w-cooking-class-hamilton/2031-02-12/
LOCATION:The Refuge\, 274 Old Corvallis Rd.\, Suite B\, Hamilton\, MT\, 59840\, United States
CATEGORIES:Hamilton
ATTACH;FMTTYPE=image/png:https://www.summitilc.org/wp-content/uploads/2026/04/Screenshot-2026-04-15-at-4.01.14-PM.png
ORGANIZER;CN="Darcy Curry":MAILTO:dcurry@summitilc.org
GEO:46.2496963;-114.1592819
X-APPLE-STRUCTURED-LOCATION;VALUE=URI;X-ADDRESS=The Refuge 274 Old Corvallis Rd. Suite B Hamilton MT 59840 United States;X-APPLE-RADIUS=500;X-TITLE=274 Old Corvallis Rd.\, Suite B:geo:-114.1592819,46.2496963
END:VEVENT
BEGIN:VEVENT
DTSTART;TZID=America/Denver:20310312T140000
DTEND;TZID=America/Denver:20310312T150000
DTSTAMP:20260425T093610
CREATED:20260415T221519Z
LAST-MODIFIED:20260415T221519Z
UID:10009152-1931090400-1931094000@www.summitilc.org
SUMMARY:C.H.E.W. Cooking Class (Hamilton)
DESCRIPTION:Welcome to C.H.E.W. — the Cost-effective Healthy Eating Workshop! \nOur free cooking class will give you the skills you need to create healthy\, affordable\, and delicious meals. \nPrepare a different dish every week\, while learning things like menu planning\, nutrition basics\, kitchen safety\, and more! \nC.H.E.W. meets every second Wednesday from 2 p.m. to 3 p.m.\, at our Hamilton office. Call or email for more information.
URL:https://www.summitilc.org/events/c-h-e-w-cooking-class-hamilton/2031-03-12/
LOCATION:The Refuge\, 274 Old Corvallis Rd.\, Suite B\, Hamilton\, MT\, 59840\, United States
CATEGORIES:Hamilton
ATTACH;FMTTYPE=image/png:https://www.summitilc.org/wp-content/uploads/2026/04/Screenshot-2026-04-15-at-4.01.14-PM.png
ORGANIZER;CN="Darcy Curry":MAILTO:dcurry@summitilc.org
GEO:46.2496963;-114.1592819
X-APPLE-STRUCTURED-LOCATION;VALUE=URI;X-ADDRESS=The Refuge 274 Old Corvallis Rd. Suite B Hamilton MT 59840 United States;X-APPLE-RADIUS=500;X-TITLE=274 Old Corvallis Rd.\, Suite B:geo:-114.1592819,46.2496963
END:VEVENT
BEGIN:VEVENT
DTSTART;TZID=America/Denver:20310409T140000
DTEND;TZID=America/Denver:20310409T150000
DTSTAMP:20260425T093610
CREATED:20260415T221519Z
LAST-MODIFIED:20260415T221519Z
UID:10009153-1933509600-1933513200@www.summitilc.org
SUMMARY:C.H.E.W. Cooking Class (Hamilton)
DESCRIPTION:Welcome to C.H.E.W. — the Cost-effective Healthy Eating Workshop! \nOur free cooking class will give you the skills you need to create healthy\, affordable\, and delicious meals. \nPrepare a different dish every week\, while learning things like menu planning\, nutrition basics\, kitchen safety\, and more! \nC.H.E.W. meets every second Wednesday from 2 p.m. to 3 p.m.\, at our Hamilton office. Call or email for more information.
URL:https://www.summitilc.org/events/c-h-e-w-cooking-class-hamilton/2031-04-09/
LOCATION:The Refuge\, 274 Old Corvallis Rd.\, Suite B\, Hamilton\, MT\, 59840\, United States
CATEGORIES:Hamilton
ATTACH;FMTTYPE=image/png:https://www.summitilc.org/wp-content/uploads/2026/04/Screenshot-2026-04-15-at-4.01.14-PM.png
ORGANIZER;CN="Darcy Curry":MAILTO:dcurry@summitilc.org
GEO:46.2496963;-114.1592819
X-APPLE-STRUCTURED-LOCATION;VALUE=URI;X-ADDRESS=The Refuge 274 Old Corvallis Rd. Suite B Hamilton MT 59840 United States;X-APPLE-RADIUS=500;X-TITLE=274 Old Corvallis Rd.\, Suite B:geo:-114.1592819,46.2496963
END:VEVENT
END:VCALENDAR