BEGIN:VCALENDAR
VERSION:2.0
PRODID:-//Summit Independent Living - ECPv6.15.20//NONSGML v1.0//EN
CALSCALE:GREGORIAN
METHOD:PUBLISH
X-WR-CALNAME:Summit Independent Living
X-ORIGINAL-URL:https://www.summitilc.org
X-WR-CALDESC:Events for Summit Independent Living
REFRESH-INTERVAL;VALUE=DURATION:PT1H
X-Robots-Tag:noindex
X-PUBLISHED-TTL:PT1H
BEGIN:VTIMEZONE
TZID:America/Denver
BEGIN:DAYLIGHT
TZOFFSETFROM:-0700
TZOFFSETTO:-0600
TZNAME:MDT
DTSTART:20240310T090000
END:DAYLIGHT
BEGIN:STANDARD
TZOFFSETFROM:-0600
TZOFFSETTO:-0700
TZNAME:MST
DTSTART:20241103T080000
END:STANDARD
BEGIN:DAYLIGHT
TZOFFSETFROM:-0700
TZOFFSETTO:-0600
TZNAME:MDT
DTSTART:20250309T090000
END:DAYLIGHT
BEGIN:STANDARD
TZOFFSETFROM:-0600
TZOFFSETTO:-0700
TZNAME:MST
DTSTART:20251102T080000
END:STANDARD
BEGIN:DAYLIGHT
TZOFFSETFROM:-0700
TZOFFSETTO:-0600
TZNAME:MDT
DTSTART:20260308T090000
END:DAYLIGHT
BEGIN:STANDARD
TZOFFSETFROM:-0600
TZOFFSETTO:-0700
TZNAME:MST
DTSTART:20261101T080000
END:STANDARD
BEGIN:DAYLIGHT
TZOFFSETFROM:-0700
TZOFFSETTO:-0600
TZNAME:MDT
DTSTART:20270314T090000
END:DAYLIGHT
BEGIN:STANDARD
TZOFFSETFROM:-0600
TZOFFSETTO:-0700
TZNAME:MST
DTSTART:20271107T080000
END:STANDARD
END:VTIMEZONE
BEGIN:VEVENT
DTSTART;TZID=America/Denver:20260423T110000
DTEND;TZID=America/Denver:20260423T123000
DTSTAMP:20260425T063623
CREATED:20250808T204130Z
LAST-MODIFIED:20251031T180244Z
UID:10006308-1776942000-1776947400@www.summitilc.org
SUMMARY:Social Security Orientation (Virtual)
DESCRIPTION:Get your benefits\, Montana! Summit offers free online classes on how to apply for Social Security Disability Insurance (SSDI) or Supplemental Security Income (SSI). So if you’re thinking of applying or are having trouble with your application\, join our zoom! \n\n\n \n\n\nOrientations are held the second and fourth Thursdays of every month from 11 a.m. to 12:30 p.m.\n\n\n \n\n\nCall your local Summit office to register!\n\n\n \n\n\nMissoula: 406-728-1630\n\n\nHamilton: 406-363-5242\n\n\nPolson: 406-215-1604\n\n\nKalispell: 406-257-0048
URL:https://www.summitilc.org/events/social-security-orientation-virtual/2026-04-23/
LOCATION:https://www.summitilc.org/events/social-security-orientation-virtual/2026-04-23/
CATEGORIES:Virtual
ATTACH;FMTTYPE=image/jpeg:https://www.summitilc.org/wp-content/uploads/2025/08/469920085_999081988927153_6596871760343998501_n.jpg
ORGANIZER;CN="Tyler Stosich":MAILTO:tstosich@summitilc.org
END:VEVENT
BEGIN:VEVENT
DTSTART;TZID=America/Denver:20260409T110000
DTEND;TZID=America/Denver:20260409T123000
DTSTAMP:20260425T063623
CREATED:20250609T183126Z
LAST-MODIFIED:20250922T154817Z
UID:10006195-1775732400-1775737800@www.summitilc.org
SUMMARY:Social Security Orientation (Virtual)
DESCRIPTION:Get your benefits\, Montana! Summit offers free online classes on how to apply for Social Security Disability Insurance (SSDI) or Supplemental Security Income (SSI). So if you’re thinking of applying or are having trouble with your application\, join our zoom! \n\n\n \n\n\nOrientations are held the second and fourth Thursdays of every month from 11 a.m. to 12:30 p.m.\n\n\n \n\n\nCall your local Summit office to register!\n\n\n \n\n\nMissoula: 406-728-1630\n\n\nHamilton: 406-363-5242\n\n\nPolson: 406-215-1604\n\n\nKalispell: 406-257-0048
URL:https://www.summitilc.org/events/social-security-orientation-3/2026-04-09/
LOCATION:https://www.summitilc.org/events/social-security-orientation-3/2026-04-09/
CATEGORIES:Virtual
ATTACH;FMTTYPE=image/jpeg:https://www.summitilc.org/wp-content/uploads/2025/08/469920085_999081988927153_6596871760343998501_n.jpg
ORGANIZER;CN="Tyler Stosich":MAILTO:tstosich@summitilc.org
END:VEVENT
BEGIN:VEVENT
DTSTART;TZID=America/Denver:20260326T110000
DTEND;TZID=America/Denver:20260326T123000
DTSTAMP:20260425T063623
CREATED:20250808T204130Z
LAST-MODIFIED:20251031T180244Z
UID:10006307-1774522800-1774528200@www.summitilc.org
SUMMARY:Social Security Orientation (Virtual)
DESCRIPTION:Get your benefits\, Montana! Summit offers free online classes on how to apply for Social Security Disability Insurance (SSDI) or Supplemental Security Income (SSI). So if you’re thinking of applying or are having trouble with your application\, join our zoom! \n\n\n \n\n\nOrientations are held the second and fourth Thursdays of every month from 11 a.m. to 12:30 p.m.\n\n\n \n\n\nCall your local Summit office to register!\n\n\n \n\n\nMissoula: 406-728-1630\n\n\nHamilton: 406-363-5242\n\n\nPolson: 406-215-1604\n\n\nKalispell: 406-257-0048
URL:https://www.summitilc.org/events/social-security-orientation-virtual/2026-03-26/
LOCATION:https://www.summitilc.org/events/social-security-orientation-virtual/2026-03-26/
CATEGORIES:Virtual
ATTACH;FMTTYPE=image/jpeg:https://www.summitilc.org/wp-content/uploads/2025/08/469920085_999081988927153_6596871760343998501_n.jpg
ORGANIZER;CN="Tyler Stosich":MAILTO:tstosich@summitilc.org
END:VEVENT
BEGIN:VEVENT
DTSTART;TZID=America/Denver:20260312T110000
DTEND;TZID=America/Denver:20260312T123000
DTSTAMP:20260425T063623
CREATED:20250609T183126Z
LAST-MODIFIED:20250922T154817Z
UID:10006194-1773313200-1773318600@www.summitilc.org
SUMMARY:Social Security Orientation (Virtual)
DESCRIPTION:Get your benefits\, Montana! Summit offers free online classes on how to apply for Social Security Disability Insurance (SSDI) or Supplemental Security Income (SSI). So if you’re thinking of applying or are having trouble with your application\, join our zoom! \n\n\n \n\n\nOrientations are held the second and fourth Thursdays of every month from 11 a.m. to 12:30 p.m.\n\n\n \n\n\nCall your local Summit office to register!\n\n\n \n\n\nMissoula: 406-728-1630\n\n\nHamilton: 406-363-5242\n\n\nPolson: 406-215-1604\n\n\nKalispell: 406-257-0048
URL:https://www.summitilc.org/events/social-security-orientation-3/2026-03-12/
LOCATION:https://www.summitilc.org/events/social-security-orientation-3/2026-03-12/
CATEGORIES:Virtual
ATTACH;FMTTYPE=image/jpeg:https://www.summitilc.org/wp-content/uploads/2025/08/469920085_999081988927153_6596871760343998501_n.jpg
ORGANIZER;CN="Tyler Stosich":MAILTO:tstosich@summitilc.org
END:VEVENT
BEGIN:VEVENT
DTSTART;TZID=America/Denver:20260226T110000
DTEND;TZID=America/Denver:20260226T123000
DTSTAMP:20260425T063623
CREATED:20250808T204130Z
LAST-MODIFIED:20251031T180244Z
UID:10006306-1772103600-1772109000@www.summitilc.org
SUMMARY:Social Security Orientation (Virtual)
DESCRIPTION:Get your benefits\, Montana! Summit offers free online classes on how to apply for Social Security Disability Insurance (SSDI) or Supplemental Security Income (SSI). So if you’re thinking of applying or are having trouble with your application\, join our zoom! \n\n\n \n\n\nOrientations are held the second and fourth Thursdays of every month from 11 a.m. to 12:30 p.m.\n\n\n \n\n\nCall your local Summit office to register!\n\n\n \n\n\nMissoula: 406-728-1630\n\n\nHamilton: 406-363-5242\n\n\nPolson: 406-215-1604\n\n\nKalispell: 406-257-0048
URL:https://www.summitilc.org/events/social-security-orientation-virtual/2026-02-26/
LOCATION:https://www.summitilc.org/events/social-security-orientation-virtual/2026-02-26/
CATEGORIES:Virtual
ATTACH;FMTTYPE=image/jpeg:https://www.summitilc.org/wp-content/uploads/2025/08/469920085_999081988927153_6596871760343998501_n.jpg
ORGANIZER;CN="Tyler Stosich":MAILTO:tstosich@summitilc.org
END:VEVENT
BEGIN:VEVENT
DTSTART;TZID=America/Denver:20260212T110000
DTEND;TZID=America/Denver:20260212T123000
DTSTAMP:20260425T063623
CREATED:20250609T183126Z
LAST-MODIFIED:20250922T154817Z
UID:10006193-1770894000-1770899400@www.summitilc.org
SUMMARY:Social Security Orientation (Virtual)
DESCRIPTION:Get your benefits\, Montana! Summit offers free online classes on how to apply for Social Security Disability Insurance (SSDI) or Supplemental Security Income (SSI). So if you’re thinking of applying or are having trouble with your application\, join our zoom! \n\n\n \n\n\nOrientations are held the second and fourth Thursdays of every month from 11 a.m. to 12:30 p.m.\n\n\n \n\n\nCall your local Summit office to register!\n\n\n \n\n\nMissoula: 406-728-1630\n\n\nHamilton: 406-363-5242\n\n\nPolson: 406-215-1604\n\n\nKalispell: 406-257-0048
URL:https://www.summitilc.org/events/social-security-orientation-3/2026-02-12/
LOCATION:https://www.summitilc.org/events/social-security-orientation-3/2026-02-12/
CATEGORIES:Virtual
ATTACH;FMTTYPE=image/jpeg:https://www.summitilc.org/wp-content/uploads/2025/08/469920085_999081988927153_6596871760343998501_n.jpg
ORGANIZER;CN="Tyler Stosich":MAILTO:tstosich@summitilc.org
END:VEVENT
BEGIN:VEVENT
DTSTART;TZID=America/Denver:20260212T103000
DTEND;TZID=America/Denver:20260212T123000
DTSTAMP:20260425T063623
CREATED:20260126T232803Z
LAST-MODIFIED:20260128T223927Z
UID:10008904-1770892200-1770899400@www.summitilc.org
SUMMARY:Annual Vocational Rehab Town Hall
DESCRIPTION:2026 Town Hall Meeting\nLet your voice be heard!\nJoin Summit staff for a hybrid virtual/in-person viewing of the state’s Annual Vocational Rehabilitation Town Hall Meeting. You can watch remotely on your own or attend a group in-person viewing at any of our offices. \nFor questions\, directions\, and other information about in-person viewings\, contact your nearest Summit office: \n\nMissoula\n3104 W. Broadway\n406-728-1630\n\n\n\nHamilton\n274 Old Corvallis Rd.\, Suite B\n406-363-5242\n\n\n\nPolson\n3 Ninth Ave. West\, Suite 1\n406-215-1604\n\n\n\nKalispell\n275 Corporate Drive\, Suite 200\n406-257-0048\n\nShare your thoughts on the following:\n\nEmployment First Strategic Plan\n2026 Vocational Rehabilitation State Plan\nState Plan for Independent Living\n\nThursday\, February 12\, 2026 from 10:30a.m. – 12:30p.m. VIRTUAL\n\n\n\n\n\n\n\nClick Here for the Meeting Link\n\n\n\n\n\n\n\nNEW World Café format: \n\nEngage in small‑group conversations in rotating breakout rooms.\nBuild on ideas from others as you move between rooms\, guided by a host who keeps the discussion flowing.\nCapture insights together using a shared digital whiteboard\, making everyone’s voice visible.\n\nResources: \n\nEmployment First White Paper\nVR State Plan with 2026 Modifications\nState Plan for Independent Living (SPIL)\n\nTo request accommodations\, please contact Lacey Conzelman via email at: lacey.conzelman@mt.gov no later than Thursday\, February 5\, 2026.
URL:https://www.summitilc.org/events/annual-vocational-rehab-town-hall/
LOCATION:Summit Conference Room – Missoula\, 3104 W. Broadway St.\, Missoula\, MT\, 59808\, United States
CATEGORIES:Hamilton,Kalispell,Missoula,Polson,Virtual
ORGANIZER;CN="Lacey Conzelman":MAILTO:lacey.conzelman@mt.gov
GEO:46.8373928;-114.0099613
X-APPLE-STRUCTURED-LOCATION;VALUE=URI;X-ADDRESS=Summit Conference Room – Missoula 3104 W. Broadway St. Missoula MT 59808 United States;X-APPLE-RADIUS=500;X-TITLE=3104 W. Broadway St.:geo:-114.0099613,46.8373928
END:VEVENT
BEGIN:VEVENT
DTSTART;TZID=America/Denver:20260122T110000
DTEND;TZID=America/Denver:20260122T123000
DTSTAMP:20260425T063623
CREATED:20250808T204130Z
LAST-MODIFIED:20251031T180244Z
UID:10006305-1769079600-1769085000@www.summitilc.org
SUMMARY:Social Security Orientation (Virtual)
DESCRIPTION:Get your benefits\, Montana! Summit offers free online classes on how to apply for Social Security Disability Insurance (SSDI) or Supplemental Security Income (SSI). So if you’re thinking of applying or are having trouble with your application\, join our zoom! \n\n\n \n\n\nOrientations are held the second and fourth Thursdays of every month from 11 a.m. to 12:30 p.m.\n\n\n \n\n\nCall your local Summit office to register!\n\n\n \n\n\nMissoula: 406-728-1630\n\n\nHamilton: 406-363-5242\n\n\nPolson: 406-215-1604\n\n\nKalispell: 406-257-0048
URL:https://www.summitilc.org/events/social-security-orientation-virtual/2026-01-22/
LOCATION:https://www.summitilc.org/events/social-security-orientation-virtual/2026-01-22/
CATEGORIES:Virtual
ATTACH;FMTTYPE=image/jpeg:https://www.summitilc.org/wp-content/uploads/2025/08/469920085_999081988927153_6596871760343998501_n.jpg
ORGANIZER;CN="Tyler Stosich":MAILTO:tstosich@summitilc.org
END:VEVENT
BEGIN:VEVENT
DTSTART;TZID=America/Denver:20260108T110000
DTEND;TZID=America/Denver:20260108T123000
DTSTAMP:20260425T063623
CREATED:20250609T183126Z
LAST-MODIFIED:20250922T154817Z
UID:10006192-1767870000-1767875400@www.summitilc.org
SUMMARY:Social Security Orientation (Virtual)
DESCRIPTION:Get your benefits\, Montana! Summit offers free online classes on how to apply for Social Security Disability Insurance (SSDI) or Supplemental Security Income (SSI). So if you’re thinking of applying or are having trouble with your application\, join our zoom! \n\n\n \n\n\nOrientations are held the second and fourth Thursdays of every month from 11 a.m. to 12:30 p.m.\n\n\n \n\n\nCall your local Summit office to register!\n\n\n \n\n\nMissoula: 406-728-1630\n\n\nHamilton: 406-363-5242\n\n\nPolson: 406-215-1604\n\n\nKalispell: 406-257-0048
URL:https://www.summitilc.org/events/social-security-orientation-3/2026-01-08/
LOCATION:https://www.summitilc.org/events/social-security-orientation-3/2026-01-08/
CATEGORIES:Virtual
ATTACH;FMTTYPE=image/jpeg:https://www.summitilc.org/wp-content/uploads/2025/08/469920085_999081988927153_6596871760343998501_n.jpg
ORGANIZER;CN="Tyler Stosich":MAILTO:tstosich@summitilc.org
END:VEVENT
BEGIN:VEVENT
DTSTART;TZID=America/Denver:20251211T110000
DTEND;TZID=America/Denver:20251211T123000
DTSTAMP:20260425T063623
CREATED:20250609T183126Z
LAST-MODIFIED:20250922T154817Z
UID:10006082-1765450800-1765456200@www.summitilc.org
SUMMARY:Social Security Orientation (Virtual)
DESCRIPTION:Get your benefits\, Montana! Summit offers free online classes on how to apply for Social Security Disability Insurance (SSDI) or Supplemental Security Income (SSI). So if you’re thinking of applying or are having trouble with your application\, join our zoom! \n\n\n \n\n\nOrientations are held the second and fourth Thursdays of every month from 11 a.m. to 12:30 p.m.\n\n\n \n\n\nCall your local Summit office to register!\n\n\n \n\n\nMissoula: 406-728-1630\n\n\nHamilton: 406-363-5242\n\n\nPolson: 406-215-1604\n\n\nKalispell: 406-257-0048
URL:https://www.summitilc.org/events/social-security-orientation-3/2025-12-11/
LOCATION:https://www.summitilc.org/events/social-security-orientation-3/2025-12-11/
CATEGORIES:Virtual
ATTACH;FMTTYPE=image/jpeg:https://www.summitilc.org/wp-content/uploads/2025/08/469920085_999081988927153_6596871760343998501_n.jpg
ORGANIZER;CN="Tyler Stosich":MAILTO:tstosich@summitilc.org
END:VEVENT
BEGIN:VEVENT
DTSTART;TZID=America/Denver:20251119T190000
DTEND;TZID=America/Denver:20251119T200000
DTSTAMP:20260425T063623
CREATED:20251112T212006Z
LAST-MODIFIED:20251114T001247Z
UID:10008736-1763578800-1763582400@www.summitilc.org
SUMMARY:In-Person Livestream Town Hall Event
DESCRIPTION:People with intellectual and developmental disabilities\, now’s your chance to make your voice heard! \nMontana’s Developmental Disabilities Program wants your ideas to improve self-direction services for people with intellectual and developmental disabilities (I/DD). \nJoin us in person for this livestream townhall event and share your ideas with state officials. \n• Doors open at 6:30 p.m. \n• Group discussion to follow \n• Refreshments provided  \n\nAbout the Project:\n\n\n \n\n\nThe Montana Developmental Disabilities Program (DDP) wants to improve its I/DD self-directed services to 1) better align with person-centered practices\, 2) ensure regulatory compliance\, and 3) meet the needs of individuals and families.
URL:https://www.summitilc.org/events/in-person-livestream-town-hall-event/
LOCATION:Summit Conference Room – Missoula\, 3104 W. Broadway St.\, Missoula\, MT\, 59808\, United States
CATEGORIES:Virtual
ATTACH;FMTTYPE=image/png:https://www.summitilc.org/wp-content/uploads/2025/11/Screenshot-2025-11-12-at-2.08.15-PM.png
GEO:46.8373928;-114.0099613
X-APPLE-STRUCTURED-LOCATION;VALUE=URI;X-ADDRESS=Summit Conference Room – Missoula 3104 W. Broadway St. Missoula MT 59808 United States;X-APPLE-RADIUS=500;X-TITLE=3104 W. Broadway St.:geo:-114.0099613,46.8373928
END:VEVENT
BEGIN:VEVENT
DTSTART;TZID=America/Denver:20251118T190000
DTEND;TZID=America/Denver:20251118T200000
DTSTAMP:20260425T063623
CREATED:20251112T210911Z
LAST-MODIFIED:20251112T210911Z
UID:10008735-1763492400-1763496000@www.summitilc.org
SUMMARY:Virtual Town Hall: Services for People with Intellectual or Developmental Disabilities
DESCRIPTION:People with intellectual and developmental disabilities\, now’s your chance to make your voice heard!\n\n\n \n\n\nMontana’s Developmental Disabilities Program wants your ideas to improve self-direction services for people with intellectual and developmental disabilities (I/DD).\n\n\n\n\n\nThey are holding two virtual meetings\, and they invite you to join and share your thoughts. \n\n\n \n\n\n• Tuesday\, November 18\n\n\nTownhall for People with I/DD and/or Their Families\n\n\n7-8 pm MT\n\n\n \n\n\nRegistration Link:\n\n\nhttps://healthmanagement.zoom.us/meeting/register/qqwijyi7RWC-9duXhvDUqw#/registration\n\n\n \n\n\n• Wednesday\, November 19\n\n\nTownhall Open to All\n\n\n7-8 pm MT\n\n\n \n\n\nRegistration Link:\n\n\nhttps://healthmanagement.zoom.us/meeting/register/ZJ83K9l1ShyeD3x1FxQDIQ \n\n\n \n\n\nAbout the Project:\n\n\n \n\n\nThe Montana Developmental Disabilities Program (DDP) wants to improve its I/DD self-directed services to 1) better align with person-centered practices\, 2) ensure regulatory compliance\, and 3) meet the needs of individuals and families.\n\n\n \n\n\nIf you have any questions\, please contact: \n\n\nMichael Woods\, Medicaid Program Officer at MWoods2@mt.gov
URL:https://www.summitilc.org/events/virtual-town-hall-services-for-people-with-intellectual-or-developmental-disabilities/
LOCATION:https://healthmanagement.zoom.us/meeting/register/qqwijyi7RWC-9duXhvDUqw#/registration
CATEGORIES:Virtual
ATTACH;FMTTYPE=image/png:https://www.summitilc.org/wp-content/uploads/2025/11/Screenshot-2025-11-12-at-2.08.15-PM.png
END:VEVENT
BEGIN:VEVENT
DTSTART;TZID=America/Denver:20251113T110000
DTEND;TZID=America/Denver:20251113T123000
DTSTAMP:20260425T063623
CREATED:20250609T183126Z
LAST-MODIFIED:20250922T154817Z
UID:10006191-1763031600-1763037000@www.summitilc.org
SUMMARY:Social Security Orientation (Virtual)
DESCRIPTION:Get your benefits\, Montana! Summit offers free online classes on how to apply for Social Security Disability Insurance (SSDI) or Supplemental Security Income (SSI). So if you’re thinking of applying or are having trouble with your application\, join our zoom! \n\n\n \n\n\nOrientations are held the second and fourth Thursdays of every month from 11 a.m. to 12:30 p.m.\n\n\n \n\n\nCall your local Summit office to register!\n\n\n \n\n\nMissoula: 406-728-1630\n\n\nHamilton: 406-363-5242\n\n\nPolson: 406-215-1604\n\n\nKalispell: 406-257-0048
URL:https://www.summitilc.org/events/social-security-orientation-3/2025-11-13/
LOCATION:https://www.summitilc.org/events/social-security-orientation-3/2025-11-13/
CATEGORIES:Virtual
ATTACH;FMTTYPE=image/jpeg:https://www.summitilc.org/wp-content/uploads/2025/08/469920085_999081988927153_6596871760343998501_n.jpg
ORGANIZER;CN="Tyler Stosich":MAILTO:tstosich@summitilc.org
END:VEVENT
END:VCALENDAR