BEGIN:VCALENDAR
VERSION:2.0
PRODID:-//Summit Independent Living - ECPv6.15.20//NONSGML v1.0//EN
CALSCALE:GREGORIAN
METHOD:PUBLISH
X-ORIGINAL-URL:https://www.summitilc.org
X-WR-CALDESC:Events for Summit Independent Living
REFRESH-INTERVAL;VALUE=DURATION:PT1H
X-Robots-Tag:noindex
X-PUBLISHED-TTL:PT1H
BEGIN:VTIMEZONE
TZID:America/Denver
BEGIN:DAYLIGHT
TZOFFSETFROM:-0700
TZOFFSETTO:-0600
TZNAME:MDT
DTSTART:20250309T090000
END:DAYLIGHT
BEGIN:STANDARD
TZOFFSETFROM:-0600
TZOFFSETTO:-0700
TZNAME:MST
DTSTART:20251102T080000
END:STANDARD
BEGIN:DAYLIGHT
TZOFFSETFROM:-0700
TZOFFSETTO:-0600
TZNAME:MDT
DTSTART:20260308T090000
END:DAYLIGHT
BEGIN:STANDARD
TZOFFSETFROM:-0600
TZOFFSETTO:-0700
TZNAME:MST
DTSTART:20261101T080000
END:STANDARD
BEGIN:DAYLIGHT
TZOFFSETFROM:-0700
TZOFFSETTO:-0600
TZNAME:MDT
DTSTART:20270314T090000
END:DAYLIGHT
BEGIN:STANDARD
TZOFFSETFROM:-0600
TZOFFSETTO:-0700
TZNAME:MST
DTSTART:20271107T080000
END:STANDARD
END:VTIMEZONE
BEGIN:VEVENT
DTSTART;TZID=America/Denver:20260520T130000
DTEND;TZID=America/Denver:20260520T160000
DTSTAMP:20260425T085542
CREATED:20240827T200939Z
LAST-MODIFIED:20250922T153343Z
UID:10004301-1779282000-1779292800@www.summitilc.org
SUMMARY:Arts & Crafts in Polson
DESCRIPTION:Join us for an afternoon of crafting and companionship. \nBring your own craft project or use our materials to join in a group activity\, like beading\, painting\, and baking. Arts & Crafts in Polson is always open to people of all abilities. \nWhen: Every Wednesday from 1:00 p.m. until 4:00 p.m. \nWhere: Summit’s Polson office\, 3 Ninth Avenue West\, Suite 1 in Polson. \nCall (406) 215-1604 for more information.
URL:https://www.summitilc.org/events/arts-craft-2-2-2/2026-05-20/
LOCATION:Summit Conference Room – Polson\, 3 9th Avenue West\, Suite 1\, Polson\, MT\, 59860\, United States
CATEGORIES:Polson
ATTACH;FMTTYPE=image/png:https://www.summitilc.org/wp-content/uploads/2024/08/Arts-Crafts-in-Polson-7.png
ORGANIZER;CN="Carol Madden":MAILTO:cmadden@summitilc.org
GEO:47.5288785;-114.0997296
X-APPLE-STRUCTURED-LOCATION;VALUE=URI;X-ADDRESS=Summit Conference Room – Polson 3 9th Avenue West Suite 1 Polson MT 59860 United States;X-APPLE-RADIUS=500;X-TITLE=3 9th Avenue West\, Suite 1:geo:-114.0997296,47.5288785
END:VEVENT
BEGIN:VEVENT
DTSTART;TZID=America/Denver:20260521T100000
DTEND;TZID=America/Denver:20260521T150000
DTSTAMP:20260425T085542
CREATED:20260325T202409Z
LAST-MODIFIED:20260325T202409Z
UID:10009018-1779357600-1779375600@www.summitilc.org
SUMMARY:Women 4 Wellness (Pablo)
DESCRIPTION:Women 4 Wellness is a community-centered health fair focused on increasing health awareness\, supporting prevention\, and connecting individuals with valuable health and wellness resources. \nEvent Details:\nDate: Thursday\, May 21\nTime: 10:00 AM to 3:00 PM\nLocation: Joe McDonald Health & Fitness Center\, 58138 US Highway 93\, Pablo\, MT 59855
URL:https://www.summitilc.org/events/women-4-wellness-pablo/
LOCATION:Salish-Kootenai College\, 59855
CATEGORIES:Polson
ATTACH;FMTTYPE=image/png:https://www.summitilc.org/wp-content/uploads/2026/03/Screenshot-2026-03-25-at-2.18.17-PM.png
ORGANIZER;CN="Teresa Nightingale":MAILTO:tnightingale@summitilc.org
GEO:47.597485;-114.111796
END:VEVENT
BEGIN:VEVENT
DTSTART;TZID=America/Denver:20260521T153000
DTEND;TZID=America/Denver:20260521T170000
DTSTAMP:20260425T085542
CREATED:20241219T174232Z
LAST-MODIFIED:20251230T223107Z
UID:10008823-1779377400-1779382800@www.summitilc.org
SUMMARY:Y.O.D.A.: Youth Opening Doors through Advocacy (Polson)
DESCRIPTION:Want to meet other young people with disabilities? Interested in learning about\, and shaping\, local laws that affect you? How do snacks and games sound? \nYou’ll find all this and more at YODA — Youth Opening Doors through Advocacy — a group for young people with disabilities. \nDiscover your community\, learn about disability culture\, and just have fun! \nYODA meets once a month in the evening at Summit’s Polson office: 3 Ninth Avenue West\, Suite 1. See you there!
URL:https://www.summitilc.org/events/y-o-d-a-youth-opening-doors-through-advocacy-polson-12/2026-05-21/
LOCATION:Summit Conference Room – Polson\, 3 9th Avenue West\, Suite 1\, Polson\, MT\, 59860\, United States
CATEGORIES:Polson
ATTACH;FMTTYPE=image/png:https://www.summitilc.org/wp-content/uploads/2024/12/Y.O.D.A.-2025.png
ORGANIZER;CN="Teresa Nightingale":MAILTO:tnightingale@summitilc.org
GEO:47.5288785;-114.0997296
X-APPLE-STRUCTURED-LOCATION;VALUE=URI;X-ADDRESS=Summit Conference Room – Polson 3 9th Avenue West Suite 1 Polson MT 59860 United States;X-APPLE-RADIUS=500;X-TITLE=3 9th Avenue West\, Suite 1:geo:-114.0997296,47.5288785
END:VEVENT
END:VCALENDAR