BEGIN:VCALENDAR
VERSION:2.0
PRODID:-//Summit Independent Living - ECPv6.15.20//NONSGML v1.0//EN
CALSCALE:GREGORIAN
METHOD:PUBLISH
X-WR-CALNAME:Summit Independent Living
X-ORIGINAL-URL:https://www.summitilc.org
X-WR-CALDESC:Events for Summit Independent Living
REFRESH-INTERVAL;VALUE=DURATION:PT1H
X-Robots-Tag:noindex
X-PUBLISHED-TTL:PT1H
BEGIN:VTIMEZONE
TZID:America/Denver
BEGIN:DAYLIGHT
TZOFFSETFROM:-0700
TZOFFSETTO:-0600
TZNAME:MDT
DTSTART:20250309T090000
END:DAYLIGHT
BEGIN:STANDARD
TZOFFSETFROM:-0600
TZOFFSETTO:-0700
TZNAME:MST
DTSTART:20251102T080000
END:STANDARD
BEGIN:DAYLIGHT
TZOFFSETFROM:-0700
TZOFFSETTO:-0600
TZNAME:MDT
DTSTART:20260308T090000
END:DAYLIGHT
BEGIN:STANDARD
TZOFFSETFROM:-0600
TZOFFSETTO:-0700
TZNAME:MST
DTSTART:20261101T080000
END:STANDARD
BEGIN:DAYLIGHT
TZOFFSETFROM:-0700
TZOFFSETTO:-0600
TZNAME:MDT
DTSTART:20270314T090000
END:DAYLIGHT
BEGIN:STANDARD
TZOFFSETFROM:-0600
TZOFFSETTO:-0700
TZNAME:MST
DTSTART:20271107T080000
END:STANDARD
END:VTIMEZONE
BEGIN:VEVENT
DTSTART;TZID=America/Denver:20260422T130000
DTEND;TZID=America/Denver:20260422T160000
DTSTAMP:20260425T071851
CREATED:20240827T200939Z
LAST-MODIFIED:20250922T153343Z
UID:10004297-1776862800-1776873600@www.summitilc.org
SUMMARY:Arts & Crafts in Polson
DESCRIPTION:Join us for an afternoon of crafting and companionship. \nBring your own craft project or use our materials to join in a group activity\, like beading\, painting\, and baking. Arts & Crafts in Polson is always open to people of all abilities. \nWhen: Every Wednesday from 1:00 p.m. until 4:00 p.m. \nWhere: Summit’s Polson office\, 3 Ninth Avenue West\, Suite 1 in Polson. \nCall (406) 215-1604 for more information.
URL:https://www.summitilc.org/events/arts-craft-2-2-2/2026-04-22/
LOCATION:Summit Conference Room – Polson\, 3 9th Avenue West\, Suite 1\, Polson\, MT\, 59860\, United States
CATEGORIES:Polson
ATTACH;FMTTYPE=image/png:https://www.summitilc.org/wp-content/uploads/2024/08/Arts-Crafts-in-Polson-7.png
ORGANIZER;CN="Carol Madden":MAILTO:cmadden@summitilc.org
GEO:47.5288785;-114.0997296
X-APPLE-STRUCTURED-LOCATION;VALUE=URI;X-ADDRESS=Summit Conference Room – Polson 3 9th Avenue West Suite 1 Polson MT 59860 United States;X-APPLE-RADIUS=500;X-TITLE=3 9th Avenue West\, Suite 1:geo:-114.0997296,47.5288785
END:VEVENT
BEGIN:VEVENT
DTSTART;TZID=America/Denver:20260423T083000
DTEND;TZID=America/Denver:20260423T140000
DTSTAMP:20260425T071851
CREATED:20260218T232346Z
LAST-MODIFIED:20260218T232346Z
UID:10008988-1776933000-1776952800@www.summitilc.org
SUMMARY:Navigating the Road to Life Transition Fair (Polson)
DESCRIPTION:Connecting students and families to post-secondary resources and support. \n• DD Services \n• Vocational Rehabilitation \n• Job Service \n• MTAP \n• Summit Independent Living \n• FVCC \n• University of Montana \n• And many more! \nThursday April 23\, 2026 Polson Boys and Girls Club 8:30 am – 2:00 pm
URL:https://www.summitilc.org/events/navigating-the-road-to-life-transition-fair-polson/
LOCATION:Polson Boys & Girls Club\, 110 17th Ave W\, Polson\, MT\, 59860\, United States
CATEGORIES:Polson
ATTACH;FMTTYPE=image/png:https://www.summitilc.org/wp-content/uploads/2026/02/Screenshot-2026-02-18-at-4.21.53-PM.png
GEO:47.6805176;-114.1660932
X-APPLE-STRUCTURED-LOCATION;VALUE=URI;X-ADDRESS=Polson Boys & Girls Club 110 17th Ave W Polson MT 59860 United States;X-APPLE-RADIUS=500;X-TITLE=110 17th Ave W:geo:-114.1660932,47.6805176
END:VEVENT
BEGIN:VEVENT
DTSTART;TZID=America/Denver:20260423T100000
DTEND;TZID=America/Denver:20260423T120000
DTSTAMP:20260425T071851
CREATED:20260127T214201Z
LAST-MODIFIED:20260127T214204Z
UID:10008910-1776938400-1776945600@www.summitilc.org
SUMMARY:Mail & Munchies (Polson)
DESCRIPTION:Sorting through paperwork from Social Security\, Medicaid\, and other mail can be overwhelming. \nWe’re here to help\, with coffee\, snacks\, and friendly faces. \nBring your paperwork to our Polson office on the fourth Thursday of every month from 10 a.m. to noon\, and we’ll go over it together — along with free coffee\, tea\, and treats. \n☕ 🫖 🍩 📃
URL:https://www.summitilc.org/events/mail-munchies-polson-2-2/2026-04-23/
LOCATION:Summit Conference Room – Polson\, 3 9th Avenue West\, Suite 1\, Polson\, MT\, 59860\, United States
CATEGORIES:Polson
ATTACH;FMTTYPE=image/png:https://www.summitilc.org/wp-content/uploads/2025/09/Screenshot-2025-09-22-at-9.41.32-AM.png
ORGANIZER;CN="Teresa Nightingale":MAILTO:tnightingale@summitilc.org
GEO:47.5288785;-114.0997296
X-APPLE-STRUCTURED-LOCATION;VALUE=URI;X-ADDRESS=Summit Conference Room – Polson 3 9th Avenue West Suite 1 Polson MT 59860 United States;X-APPLE-RADIUS=500;X-TITLE=3 9th Avenue West\, Suite 1:geo:-114.0997296,47.5288785
END:VEVENT
END:VCALENDAR