BEGIN:VCALENDAR
VERSION:2.0
PRODID:-//Summit Independent Living - ECPv6.15.20//NONSGML v1.0//EN
CALSCALE:GREGORIAN
METHOD:PUBLISH
X-ORIGINAL-URL:https://www.summitilc.org
X-WR-CALDESC:Events for Summit Independent Living
REFRESH-INTERVAL;VALUE=DURATION:PT1H
X-Robots-Tag:noindex
X-PUBLISHED-TTL:PT1H
BEGIN:VTIMEZONE
TZID:America/Denver
BEGIN:DAYLIGHT
TZOFFSETFROM:-0700
TZOFFSETTO:-0600
TZNAME:MDT
DTSTART:20250309T090000
END:DAYLIGHT
BEGIN:STANDARD
TZOFFSETFROM:-0600
TZOFFSETTO:-0700
TZNAME:MST
DTSTART:20251102T080000
END:STANDARD
BEGIN:DAYLIGHT
TZOFFSETFROM:-0700
TZOFFSETTO:-0600
TZNAME:MDT
DTSTART:20260308T090000
END:DAYLIGHT
BEGIN:STANDARD
TZOFFSETFROM:-0600
TZOFFSETTO:-0700
TZNAME:MST
DTSTART:20261101T080000
END:STANDARD
BEGIN:DAYLIGHT
TZOFFSETFROM:-0700
TZOFFSETTO:-0600
TZNAME:MDT
DTSTART:20270314T090000
END:DAYLIGHT
BEGIN:STANDARD
TZOFFSETFROM:-0600
TZOFFSETTO:-0700
TZNAME:MST
DTSTART:20271107T080000
END:STANDARD
END:VTIMEZONE
BEGIN:VEVENT
DTSTART;TZID=America/Denver:20260211T130000
DTEND;TZID=America/Denver:20260211T160000
DTSTAMP:20260425T072004
CREATED:20240827T200939Z
LAST-MODIFIED:20250922T153343Z
UID:10004287-1770814800-1770825600@www.summitilc.org
SUMMARY:Arts & Crafts in Polson
DESCRIPTION:Join us for an afternoon of crafting and companionship. \nBring your own craft project or use our materials to join in a group activity\, like beading\, painting\, and baking. Arts & Crafts in Polson is always open to people of all abilities. \nWhen: Every Wednesday from 1:00 p.m. until 4:00 p.m. \nWhere: Summit’s Polson office\, 3 Ninth Avenue West\, Suite 1 in Polson. \nCall (406) 215-1604 for more information.
URL:https://www.summitilc.org/events/arts-craft-2-2-2/2026-02-11/
LOCATION:Summit Conference Room – Polson\, 3 9th Avenue West\, Suite 1\, Polson\, MT\, 59860\, United States
CATEGORIES:Polson
ATTACH;FMTTYPE=image/png:https://www.summitilc.org/wp-content/uploads/2024/08/Arts-Crafts-in-Polson-7.png
ORGANIZER;CN="Carol Madden":MAILTO:cmadden@summitilc.org
GEO:47.5288785;-114.0997296
X-APPLE-STRUCTURED-LOCATION;VALUE=URI;X-ADDRESS=Summit Conference Room – Polson 3 9th Avenue West Suite 1 Polson MT 59860 United States;X-APPLE-RADIUS=500;X-TITLE=3 9th Avenue West\, Suite 1:geo:-114.0997296,47.5288785
END:VEVENT
BEGIN:VEVENT
DTSTART;TZID=America/Denver:20260212T103000
DTEND;TZID=America/Denver:20260212T123000
DTSTAMP:20260425T072004
CREATED:20260126T232803Z
LAST-MODIFIED:20260128T223927Z
UID:10008904-1770892200-1770899400@www.summitilc.org
SUMMARY:Annual Vocational Rehab Town Hall
DESCRIPTION:2026 Town Hall Meeting\nLet your voice be heard!\nJoin Summit staff for a hybrid virtual/in-person viewing of the state’s Annual Vocational Rehabilitation Town Hall Meeting. You can watch remotely on your own or attend a group in-person viewing at any of our offices. \nFor questions\, directions\, and other information about in-person viewings\, contact your nearest Summit office: \n\nMissoula\n3104 W. Broadway\n406-728-1630\n\n\n\nHamilton\n274 Old Corvallis Rd.\, Suite B\n406-363-5242\n\n\n\nPolson\n3 Ninth Ave. West\, Suite 1\n406-215-1604\n\n\n\nKalispell\n275 Corporate Drive\, Suite 200\n406-257-0048\n\nShare your thoughts on the following:\n\nEmployment First Strategic Plan\n2026 Vocational Rehabilitation State Plan\nState Plan for Independent Living\n\nThursday\, February 12\, 2026 from 10:30a.m. – 12:30p.m. VIRTUAL\n\n\n\n\n\n\n\nClick Here for the Meeting Link\n\n\n\n\n\n\n\nNEW World Café format: \n\nEngage in small‑group conversations in rotating breakout rooms.\nBuild on ideas from others as you move between rooms\, guided by a host who keeps the discussion flowing.\nCapture insights together using a shared digital whiteboard\, making everyone’s voice visible.\n\nResources: \n\nEmployment First White Paper\nVR State Plan with 2026 Modifications\nState Plan for Independent Living (SPIL)\n\nTo request accommodations\, please contact Lacey Conzelman via email at: lacey.conzelman@mt.gov no later than Thursday\, February 5\, 2026.
URL:https://www.summitilc.org/events/annual-vocational-rehab-town-hall/
LOCATION:Summit Conference Room – Missoula\, 3104 W. Broadway St.\, Missoula\, MT\, 59808\, United States
CATEGORIES:Hamilton,Kalispell,Missoula,Polson,Virtual
ORGANIZER;CN="Lacey Conzelman":MAILTO:lacey.conzelman@mt.gov
GEO:46.8373928;-114.0099613
X-APPLE-STRUCTURED-LOCATION;VALUE=URI;X-ADDRESS=Summit Conference Room – Missoula 3104 W. Broadway St. Missoula MT 59808 United States;X-APPLE-RADIUS=500;X-TITLE=3104 W. Broadway St.:geo:-114.0099613,46.8373928
END:VEVENT
END:VCALENDAR