BEGIN:VCALENDAR
VERSION:2.0
PRODID:-//Summit Independent Living - ECPv6.15.20//NONSGML v1.0//EN
CALSCALE:GREGORIAN
METHOD:PUBLISH
X-ORIGINAL-URL:https://www.summitilc.org
X-WR-CALDESC:Events for Summit Independent Living
REFRESH-INTERVAL;VALUE=DURATION:PT1H
X-Robots-Tag:noindex
X-PUBLISHED-TTL:PT1H
BEGIN:VTIMEZONE
TZID:America/Denver
BEGIN:DAYLIGHT
TZOFFSETFROM:-0700
TZOFFSETTO:-0600
TZNAME:MDT
DTSTART:20250309T090000
END:DAYLIGHT
BEGIN:STANDARD
TZOFFSETFROM:-0600
TZOFFSETTO:-0700
TZNAME:MST
DTSTART:20251102T080000
END:STANDARD
BEGIN:DAYLIGHT
TZOFFSETFROM:-0700
TZOFFSETTO:-0600
TZNAME:MDT
DTSTART:20260308T090000
END:DAYLIGHT
BEGIN:STANDARD
TZOFFSETFROM:-0600
TZOFFSETTO:-0700
TZNAME:MST
DTSTART:20261101T080000
END:STANDARD
BEGIN:DAYLIGHT
TZOFFSETFROM:-0700
TZOFFSETTO:-0600
TZNAME:MDT
DTSTART:20270314T090000
END:DAYLIGHT
BEGIN:STANDARD
TZOFFSETFROM:-0600
TZOFFSETTO:-0700
TZNAME:MST
DTSTART:20271107T080000
END:STANDARD
END:VTIMEZONE
BEGIN:VEVENT
DTSTART;TZID=America/Denver:20260504T120000
DTEND;TZID=America/Denver:20260504T130000
DTSTAMP:20260425T084520
CREATED:20260421T152001Z
LAST-MODIFIED:20260421T152001Z
UID:10009460-1777896000-1777899600@www.summitilc.org
SUMMARY:504 Celebration (Helena)
DESCRIPTION:Join Montana’s disability community for a party in honor of Section 504 — a visible\, joyous celebration of disability culture. \nWe live in the community for a reason. \n\nLet’s party to honor those who fought before us to secure our right to live\, work\, and play in the communities of our choosing!\nLet’s party on behalf of those who can’t join us from their institutional bedrooms!\nLet’s party to charge our batteries for the ongoing fight to defend and expand accessibility and acceptance across our great state!\n\nWhen our simple existence is resistance\, \nlet’s exist as big and bold as possible! \nWhen: Monday\, May 4\, 2026 at 12:00 noon \nWhere: The Montana State Mazurek Justice Building \n215 N Sanders St \nHelena\, MT 59601 \nWho: Anyone who has a disability\, anyone who loves someone with a disability\, anyone who believes people who need support can and should live in the community regardless of age or disability – you are our community and you are welcome.
URL:https://www.summitilc.org/events/504-celebration-helena/
LOCATION:The Montana State Mazurek Justice Building\, 215 N Sanders St\, Helena\, 59601\, United States
CATEGORIES:Other
ATTACH;FMTTYPE=image/png:https://www.summitilc.org/wp-content/uploads/2026/04/504-day-flier-w-mountains-scaled-1.png
END:VEVENT
END:VCALENDAR