BEGIN:VCALENDAR
VERSION:2.0
PRODID:-//Summit Independent Living - ECPv6.15.20//NONSGML v1.0//EN
CALSCALE:GREGORIAN
METHOD:PUBLISH
X-WR-CALNAME:Summit Independent Living
X-ORIGINAL-URL:https://www.summitilc.org
X-WR-CALDESC:Events for Summit Independent Living
REFRESH-INTERVAL;VALUE=DURATION:PT1H
X-Robots-Tag:noindex
X-PUBLISHED-TTL:PT1H
BEGIN:VTIMEZONE
TZID:America/Denver
BEGIN:DAYLIGHT
TZOFFSETFROM:-0700
TZOFFSETTO:-0600
TZNAME:MDT
DTSTART:20250309T090000
END:DAYLIGHT
BEGIN:STANDARD
TZOFFSETFROM:-0600
TZOFFSETTO:-0700
TZNAME:MST
DTSTART:20251102T080000
END:STANDARD
BEGIN:DAYLIGHT
TZOFFSETFROM:-0700
TZOFFSETTO:-0600
TZNAME:MDT
DTSTART:20260308T090000
END:DAYLIGHT
BEGIN:STANDARD
TZOFFSETFROM:-0600
TZOFFSETTO:-0700
TZNAME:MST
DTSTART:20261101T080000
END:STANDARD
BEGIN:DAYLIGHT
TZOFFSETFROM:-0700
TZOFFSETTO:-0600
TZNAME:MDT
DTSTART:20270314T090000
END:DAYLIGHT
BEGIN:STANDARD
TZOFFSETFROM:-0600
TZOFFSETTO:-0700
TZNAME:MST
DTSTART:20271107T080000
END:STANDARD
END:VTIMEZONE
BEGIN:VEVENT
DTSTART;TZID=America/Denver:20260513T110000
DTEND;TZID=America/Denver:20260513T140000
DTSTAMP:20260425T070310
CREATED:20250730T200950Z
LAST-MODIFIED:20251003T155058Z
UID:10006020-1778670000-1778680800@www.summitilc.org
SUMMARY:R.A.D.: Resource Access Day
DESCRIPTION:Could you use help with legal support\, housing and benefits assistance\, healthcare\, and other services? Then stop by the Missoula Public Library for RAD — Resource Access Day!\n\n\n \n\n\nDozens of nonprofits (including us!)\, service organizations\, and city and county agencies have partnered up to provide our community with free resources every second Wednesday of the month from 11 a.m. to 2 p.m.\n\n\n \n\n\nAll services are offered on a drop-in basis and lunch will be provided! Stop by the fourth floor!
URL:https://www.summitilc.org/events/r-a-d-resource-access-day-2/2026-05-13/
LOCATION:Missoula Public Library\, 455 E. Main St.\, Missoula\, MT\, 59802\, United States
CATEGORIES:Other
ATTACH;FMTTYPE=image/png:https://www.summitilc.org/wp-content/uploads/2025/07/Screenshot-2025-10-03-at-9.50.09-AM.png
GEO:46.8698524;-113.9898726
X-APPLE-STRUCTURED-LOCATION;VALUE=URI;X-ADDRESS=Missoula Public Library 455 E. Main St. Missoula MT 59802 United States;X-APPLE-RADIUS=500;X-TITLE=455 E. Main St.:geo:-113.9898726,46.8698524
END:VEVENT
END:VCALENDAR