BEGIN:VCALENDAR
VERSION:2.0
PRODID:-//Summit Independent Living - ECPv6.15.20//NONSGML v1.0//EN
CALSCALE:GREGORIAN
METHOD:PUBLISH
X-WR-CALNAME:Summit Independent Living
X-ORIGINAL-URL:https://www.summitilc.org
X-WR-CALDESC:Events for Summit Independent Living
REFRESH-INTERVAL;VALUE=DURATION:PT1H
X-Robots-Tag:noindex
X-PUBLISHED-TTL:PT1H
BEGIN:VTIMEZONE
TZID:America/Denver
BEGIN:DAYLIGHT
TZOFFSETFROM:-0700
TZOFFSETTO:-0600
TZNAME:MDT
DTSTART:20250309T090000
END:DAYLIGHT
BEGIN:STANDARD
TZOFFSETFROM:-0600
TZOFFSETTO:-0700
TZNAME:MST
DTSTART:20251102T080000
END:STANDARD
BEGIN:DAYLIGHT
TZOFFSETFROM:-0700
TZOFFSETTO:-0600
TZNAME:MDT
DTSTART:20260308T090000
END:DAYLIGHT
BEGIN:STANDARD
TZOFFSETFROM:-0600
TZOFFSETTO:-0700
TZNAME:MST
DTSTART:20261101T080000
END:STANDARD
BEGIN:DAYLIGHT
TZOFFSETFROM:-0700
TZOFFSETTO:-0600
TZNAME:MDT
DTSTART:20270314T090000
END:DAYLIGHT
BEGIN:STANDARD
TZOFFSETFROM:-0600
TZOFFSETTO:-0700
TZNAME:MST
DTSTART:20271107T080000
END:STANDARD
END:VTIMEZONE
BEGIN:VEVENT
DTSTART;TZID=America/Denver:20260212T103000
DTEND;TZID=America/Denver:20260212T123000
DTSTAMP:20260425T070853
CREATED:20260126T232803Z
LAST-MODIFIED:20260128T223927Z
UID:10008904-1770892200-1770899400@www.summitilc.org
SUMMARY:Annual Vocational Rehab Town Hall
DESCRIPTION:2026 Town Hall Meeting\nLet your voice be heard!\nJoin Summit staff for a hybrid virtual/in-person viewing of the state’s Annual Vocational Rehabilitation Town Hall Meeting. You can watch remotely on your own or attend a group in-person viewing at any of our offices. \nFor questions\, directions\, and other information about in-person viewings\, contact your nearest Summit office: \n\nMissoula\n3104 W. Broadway\n406-728-1630\n\n\n\nHamilton\n274 Old Corvallis Rd.\, Suite B\n406-363-5242\n\n\n\nPolson\n3 Ninth Ave. West\, Suite 1\n406-215-1604\n\n\n\nKalispell\n275 Corporate Drive\, Suite 200\n406-257-0048\n\nShare your thoughts on the following:\n\nEmployment First Strategic Plan\n2026 Vocational Rehabilitation State Plan\nState Plan for Independent Living\n\nThursday\, February 12\, 2026 from 10:30a.m. – 12:30p.m. VIRTUAL\n\n\n\n\n\n\n\nClick Here for the Meeting Link\n\n\n\n\n\n\n\nNEW World Café format: \n\nEngage in small‑group conversations in rotating breakout rooms.\nBuild on ideas from others as you move between rooms\, guided by a host who keeps the discussion flowing.\nCapture insights together using a shared digital whiteboard\, making everyone’s voice visible.\n\nResources: \n\nEmployment First White Paper\nVR State Plan with 2026 Modifications\nState Plan for Independent Living (SPIL)\n\nTo request accommodations\, please contact Lacey Conzelman via email at: lacey.conzelman@mt.gov no later than Thursday\, February 5\, 2026.
URL:https://www.summitilc.org/events/annual-vocational-rehab-town-hall/
LOCATION:Summit Conference Room – Missoula\, 3104 W. Broadway St.\, Missoula\, MT\, 59808\, United States
CATEGORIES:Hamilton,Kalispell,Missoula,Polson,Virtual
ORGANIZER;CN="Lacey Conzelman":MAILTO:lacey.conzelman@mt.gov
GEO:46.8373928;-114.0099613
X-APPLE-STRUCTURED-LOCATION;VALUE=URI;X-ADDRESS=Summit Conference Room – Missoula 3104 W. Broadway St. Missoula MT 59808 United States;X-APPLE-RADIUS=500;X-TITLE=3104 W. Broadway St.:geo:-114.0099613,46.8373928
END:VEVENT
BEGIN:VEVENT
DTSTART;TZID=America/Denver:20260212T173000
DTEND;TZID=America/Denver:20260212T190000
DTSTAMP:20260425T070853
CREATED:20250923T211422Z
LAST-MODIFIED:20260112T190034Z
UID:10007088-1770917400-1770922800@www.summitilc.org
SUMMARY:BASE Improv Workshop (Missoula)
DESCRIPTION:Interested in learning to fail? Then improv might be for you! \nJoin us for our FREE weekly improv workshop every Thursday at BASE from 5:30 p.m. to 7 p.m. \nIt’s open to folks of all abilities and experience levels. Our workshops fill up quickly\, so to reserve your space\, call 406 215 1080 or contact us through basemissoula.org to reserve your space!
URL:https://www.summitilc.org/events/base-improv-workshop-missoula/2026-02-12/
LOCATION:BASE\, 3104 W. Broadway St.\, Missoula\, MT\, 59808\, United States
CATEGORIES:BASE,Missoula
ATTACH;FMTTYPE=image/png:https://www.summitilc.org/wp-content/uploads/2025/09/IMPROV.png
ORGANIZER;CN="John Howard":MAILTO:jhoward@summitilic.org
GEO:46.8777495;-114.0025934
X-APPLE-STRUCTURED-LOCATION;VALUE=URI;X-ADDRESS=BASE 3104 W. Broadway St. Missoula MT 59808 United States;X-APPLE-RADIUS=500;X-TITLE=3104 W. Broadway St.:geo:-114.0025934,46.8777495
END:VEVENT
BEGIN:VEVENT
DTSTART;TZID=America/Denver:20260213T150000
DTEND;TZID=America/Denver:20260213T170000
DTSTAMP:20260425T070853
CREATED:20250923T212752Z
LAST-MODIFIED:20251010T190657Z
UID:10008334-1770994800-1771002000@www.summitilc.org
SUMMARY:Three-Dragon Ante at BASE (Missoula)
DESCRIPTION:🐉🎲 Dive into fantasy card gaming with us at our inclusive Three-Dragon Ante game day\, every second Friday! \nAll ages and abilities are welcome to join in this fantasy card game\,combining luck\, strategy\, and camaraderie. \nExperience the thrill of high stakes and forge new friendships!
URL:https://www.summitilc.org/events/three-dragon-ante-at-base-missoula/2026-02-13/
LOCATION:BASE\, 3104 W. Broadway St.\, Missoula\, MT\, 59808\, United States
CATEGORIES:BASE,Missoula
ATTACH;FMTTYPE=image/webp:https://www.summitilc.org/wp-content/uploads/2025/09/pic336502.webp
ORGANIZER;CN="John Howard":MAILTO:jhoward@summitilic.org
GEO:46.8777495;-114.0025934
X-APPLE-STRUCTURED-LOCATION;VALUE=URI;X-ADDRESS=BASE 3104 W. Broadway St. Missoula MT 59808 United States;X-APPLE-RADIUS=500;X-TITLE=3104 W. Broadway St.:geo:-114.0025934,46.8777495
END:VEVENT
END:VCALENDAR