BEGIN:VCALENDAR
VERSION:2.0
PRODID:-//Summit Independent Living - ECPv6.15.20//NONSGML v1.0//EN
CALSCALE:GREGORIAN
METHOD:PUBLISH
X-ORIGINAL-URL:https://www.summitilc.org
X-WR-CALDESC:Events for Summit Independent Living
REFRESH-INTERVAL;VALUE=DURATION:PT1H
X-Robots-Tag:noindex
X-PUBLISHED-TTL:PT1H
BEGIN:VTIMEZONE
TZID:America/Denver
BEGIN:DAYLIGHT
TZOFFSETFROM:-0700
TZOFFSETTO:-0600
TZNAME:MDT
DTSTART:20250309T090000
END:DAYLIGHT
BEGIN:STANDARD
TZOFFSETFROM:-0600
TZOFFSETTO:-0700
TZNAME:MST
DTSTART:20251102T080000
END:STANDARD
BEGIN:DAYLIGHT
TZOFFSETFROM:-0700
TZOFFSETTO:-0600
TZNAME:MDT
DTSTART:20260308T090000
END:DAYLIGHT
BEGIN:STANDARD
TZOFFSETFROM:-0600
TZOFFSETTO:-0700
TZNAME:MST
DTSTART:20261101T080000
END:STANDARD
BEGIN:DAYLIGHT
TZOFFSETFROM:-0700
TZOFFSETTO:-0600
TZNAME:MDT
DTSTART:20270314T090000
END:DAYLIGHT
BEGIN:STANDARD
TZOFFSETFROM:-0600
TZOFFSETTO:-0700
TZNAME:MST
DTSTART:20271107T080000
END:STANDARD
END:VTIMEZONE
BEGIN:VEVENT
DTSTART;TZID=America/Denver:20260129T173000
DTEND;TZID=America/Denver:20260129T190000
DTSTAMP:20260425T065107
CREATED:20250923T211422Z
LAST-MODIFIED:20260112T190034Z
UID:10007086-1769707800-1769713200@www.summitilc.org
SUMMARY:BASE Improv Workshop (Missoula)
DESCRIPTION:Interested in learning to fail? Then improv might be for you! \nJoin us for our FREE weekly improv workshop every Thursday at BASE from 5:30 p.m. to 7 p.m. \nIt’s open to folks of all abilities and experience levels. Our workshops fill up quickly\, so to reserve your space\, call 406 215 1080 or contact us through basemissoula.org to reserve your space!
URL:https://www.summitilc.org/events/base-improv-workshop-missoula/2026-01-29/
LOCATION:BASE\, 3104 W. Broadway St.\, Missoula\, MT\, 59808\, United States
CATEGORIES:BASE,Missoula
ATTACH;FMTTYPE=image/png:https://www.summitilc.org/wp-content/uploads/2025/09/IMPROV.png
ORGANIZER;CN="John Howard":MAILTO:jhoward@summitilic.org
GEO:46.8777495;-114.0025934
X-APPLE-STRUCTURED-LOCATION;VALUE=URI;X-ADDRESS=BASE 3104 W. Broadway St. Missoula MT 59808 United States;X-APPLE-RADIUS=500;X-TITLE=3104 W. Broadway St.:geo:-114.0025934,46.8777495
END:VEVENT
END:VCALENDAR