BEGIN:VCALENDAR
VERSION:2.0
PRODID:-//Summit Independent Living - ECPv6.15.20//NONSGML v1.0//EN
CALSCALE:GREGORIAN
METHOD:PUBLISH
X-WR-CALNAME:Summit Independent Living
X-ORIGINAL-URL:https://www.summitilc.org
X-WR-CALDESC:Events for Summit Independent Living
REFRESH-INTERVAL;VALUE=DURATION:PT1H
X-Robots-Tag:noindex
X-PUBLISHED-TTL:PT1H
BEGIN:VTIMEZONE
TZID:America/Denver
BEGIN:DAYLIGHT
TZOFFSETFROM:-0700
TZOFFSETTO:-0600
TZNAME:MDT
DTSTART:20240310T090000
END:DAYLIGHT
BEGIN:STANDARD
TZOFFSETFROM:-0600
TZOFFSETTO:-0700
TZNAME:MST
DTSTART:20241103T080000
END:STANDARD
BEGIN:DAYLIGHT
TZOFFSETFROM:-0700
TZOFFSETTO:-0600
TZNAME:MDT
DTSTART:20250309T090000
END:DAYLIGHT
BEGIN:STANDARD
TZOFFSETFROM:-0600
TZOFFSETTO:-0700
TZNAME:MST
DTSTART:20251102T080000
END:STANDARD
BEGIN:DAYLIGHT
TZOFFSETFROM:-0700
TZOFFSETTO:-0600
TZNAME:MDT
DTSTART:20260308T090000
END:DAYLIGHT
BEGIN:STANDARD
TZOFFSETFROM:-0600
TZOFFSETTO:-0700
TZNAME:MST
DTSTART:20261101T080000
END:STANDARD
END:VTIMEZONE
BEGIN:VEVENT
DTSTART;TZID=America/Denver:20251203T160000
DTEND;TZID=America/Denver:20251203T170000
DTSTAMP:20260425T084611
CREATED:20250926T164240Z
LAST-MODIFIED:20250926T164240Z
UID:10007708-1764777600-1764781200@www.summitilc.org
SUMMARY:All-Abilities Movement Class (With Stage Combat!)
DESCRIPTION:⚡IT’S BACK AT A NEW DAY AND TIME!⚡ Do you want to get in motion? Feel the need to dance? Are you curious about what the heck “swashbuckling” is?\n\n\n \n\n\nJoin our weekly movement class\, open to all ages and all abilities. Get your body moving\, dance\, and even learn the basics of stage combat!\n\n\n \n\n\nThe fun starts every Wednesday at 4 p.m. at Summit’s BASE location\, 725 W. Alder St.\, Suite 4 (the Old Warehouse Mall) in Missoula.\n\n\n \n\n\nSpace is limited\, so email John at jhoward@summitilc.org or call (406) 215-1080 to reserve your spot!
URL:https://www.summitilc.org/events/all-abilities-movement-class-with-stage-combat/2025-12-03/
LOCATION:BASE\, 3104 W. Broadway St.\, Missoula\, MT\, 59808\, United States
CATEGORIES:BASE,Missoula
ATTACH;FMTTYPE=image/png:https://www.summitilc.org/wp-content/uploads/2025/09/All-Abilities-Movement-Class-1.png
ORGANIZER;CN="John Howard":MAILTO:jhoward@summitilic.org
GEO:46.8777495;-114.0025934
X-APPLE-STRUCTURED-LOCATION;VALUE=URI;X-ADDRESS=BASE 3104 W. Broadway St. Missoula MT 59808 United States;X-APPLE-RADIUS=500;X-TITLE=3104 W. Broadway St.:geo:-114.0025934,46.8777495
END:VEVENT
BEGIN:VEVENT
DTSTART;TZID=America/Denver:20251204T173000
DTEND;TZID=America/Denver:20251204T190000
DTSTAMP:20260425T084611
CREATED:20250923T211422Z
LAST-MODIFIED:20260112T190034Z
UID:10007078-1764869400-1764874800@www.summitilc.org
SUMMARY:BASE Improv Workshop (Missoula)
DESCRIPTION:Interested in learning to fail? Then improv might be for you! \nJoin us for our FREE weekly improv workshop every Thursday at BASE from 5:30 p.m. to 7 p.m. \nIt’s open to folks of all abilities and experience levels. Our workshops fill up quickly\, so to reserve your space\, call 406 215 1080 or contact us through basemissoula.org to reserve your space!
URL:https://www.summitilc.org/events/base-improv-workshop-missoula/2025-12-04/
LOCATION:BASE\, 3104 W. Broadway St.\, Missoula\, MT\, 59808\, United States
CATEGORIES:BASE,Missoula
ATTACH;FMTTYPE=image/png:https://www.summitilc.org/wp-content/uploads/2025/09/IMPROV.png
ORGANIZER;CN="John Howard":MAILTO:jhoward@summitilic.org
GEO:46.8777495;-114.0025934
X-APPLE-STRUCTURED-LOCATION;VALUE=URI;X-ADDRESS=BASE 3104 W. Broadway St. Missoula MT 59808 United States;X-APPLE-RADIUS=500;X-TITLE=3104 W. Broadway St.:geo:-114.0025934,46.8777495
END:VEVENT
BEGIN:VEVENT
DTSTART;TZID=America/Denver:20251205T150000
DTEND;TZID=America/Denver:20251205T170000
DTSTAMP:20260425T084611
CREATED:20250923T195856Z
LAST-MODIFIED:20251003T154308Z
UID:10007010-1764946800-1764954000@www.summitilc.org
SUMMARY:Magic: The Gathering Game Day (Missoula)
DESCRIPTION:🎲🧙️ Gather with us on the first Friday of every month for an inclusive Magic: The Gathering game day! \nAll ages and abilities are welcome as we build community and engage in exciting strategic gameplay. \nCome cast spells\, summon creatures\, and make new friends\, from 3 p.m. to 5 p.m. at BASE!
URL:https://www.summitilc.org/events/magic-the-gathering-game-day-missoula/2025-12-05/
LOCATION:BASE\, 3104 W. Broadway St.\, Missoula\, MT\, 59808\, United States
CATEGORIES:BASE,Missoula
ATTACH;FMTTYPE=image/png:https://www.summitilc.org/wp-content/uploads/2025/09/Magic-The-Gathering-Game-Day-1.png
ORGANIZER;CN="John Howard":MAILTO:jhoward@summitilic.org
GEO:46.8777495;-114.0025934
X-APPLE-STRUCTURED-LOCATION;VALUE=URI;X-ADDRESS=BASE 3104 W. Broadway St. Missoula MT 59808 United States;X-APPLE-RADIUS=500;X-TITLE=3104 W. Broadway St.:geo:-114.0025934,46.8777495
END:VEVENT
END:VCALENDAR