BEGIN:VCALENDAR
VERSION:2.0
PRODID:-//Summit Independent Living - ECPv6.15.20//NONSGML v1.0//EN
CALSCALE:GREGORIAN
METHOD:PUBLISH
X-ORIGINAL-URL:https://www.summitilc.org
X-WR-CALDESC:Events for Summit Independent Living
REFRESH-INTERVAL;VALUE=DURATION:PT1H
X-Robots-Tag:noindex
X-PUBLISHED-TTL:PT1H
BEGIN:VTIMEZONE
TZID:America/Denver
BEGIN:DAYLIGHT
TZOFFSETFROM:-0700
TZOFFSETTO:-0600
TZNAME:MDT
DTSTART:20250309T090000
END:DAYLIGHT
BEGIN:STANDARD
TZOFFSETFROM:-0600
TZOFFSETTO:-0700
TZNAME:MST
DTSTART:20251102T080000
END:STANDARD
BEGIN:DAYLIGHT
TZOFFSETFROM:-0700
TZOFFSETTO:-0600
TZNAME:MDT
DTSTART:20260308T090000
END:DAYLIGHT
BEGIN:STANDARD
TZOFFSETFROM:-0600
TZOFFSETTO:-0700
TZNAME:MST
DTSTART:20261101T080000
END:STANDARD
BEGIN:DAYLIGHT
TZOFFSETFROM:-0700
TZOFFSETTO:-0600
TZNAME:MDT
DTSTART:20270314T090000
END:DAYLIGHT
BEGIN:STANDARD
TZOFFSETFROM:-0600
TZOFFSETTO:-0700
TZNAME:MST
DTSTART:20271107T080000
END:STANDARD
END:VTIMEZONE
BEGIN:VEVENT
DTSTART;TZID=America/Denver:20260331T173000
DTEND;TZID=America/Denver:20260331T193000
DTSTAMP:20260424T174321
CREATED:20260225T211534Z
LAST-MODIFIED:20260225T211534Z
UID:10008992-1774978200-1774985400@www.summitilc.org
SUMMARY:Mission Match-Up Volunteer Expo (Missoula)
DESCRIPTION:Want to support us and our work? Stop by our table at Mission Match-Up at the Missoula Fairgrounds! \nMission Match-Up connects local nonprofits with volunteers\, donors\, and community partners in a fun\, welcoming environment. They’ll have a food truck\, drinks\, photo booth\, and door prizes\, including tickets to the Zootown Music Festival. \nCome by and find out how you can help us help Montanans with disabilities.
URL:https://www.summitilc.org/events/mission-match-up-volunteer-expo-missoula/
LOCATION:Missoula Fairgrounds\, 1101 South Ave W\, Missoula\, MT\, 59801\, United States
CATEGORIES:Missoula
ATTACH;FMTTYPE=application/pdf:https://www.summitilc.org/wp-content/uploads/2026/02/mission-matchup-flyer-2026.pdf
GEO:46.8479143;-114.0164442
X-APPLE-STRUCTURED-LOCATION;VALUE=URI;X-ADDRESS=Missoula Fairgrounds 1101 South Ave W Missoula MT 59801 United States;X-APPLE-RADIUS=500;X-TITLE=1101 South Ave W:geo:-114.0164442,46.8479143
END:VEVENT
END:VCALENDAR