BEGIN:VCALENDAR
VERSION:2.0
PRODID:-//Summit Independent Living - ECPv6.15.20//NONSGML v1.0//EN
CALSCALE:GREGORIAN
METHOD:PUBLISH
X-WR-CALNAME:Summit Independent Living
X-ORIGINAL-URL:https://www.summitilc.org
X-WR-CALDESC:Events for Summit Independent Living
REFRESH-INTERVAL;VALUE=DURATION:PT1H
X-Robots-Tag:noindex
X-PUBLISHED-TTL:PT1H
BEGIN:VTIMEZONE
TZID:America/Denver
BEGIN:DAYLIGHT
TZOFFSETFROM:-0700
TZOFFSETTO:-0600
TZNAME:MDT
DTSTART:20250309T090000
END:DAYLIGHT
BEGIN:STANDARD
TZOFFSETFROM:-0600
TZOFFSETTO:-0700
TZNAME:MST
DTSTART:20251102T080000
END:STANDARD
BEGIN:DAYLIGHT
TZOFFSETFROM:-0700
TZOFFSETTO:-0600
TZNAME:MDT
DTSTART:20260308T090000
END:DAYLIGHT
BEGIN:STANDARD
TZOFFSETFROM:-0600
TZOFFSETTO:-0700
TZNAME:MST
DTSTART:20261101T080000
END:STANDARD
BEGIN:DAYLIGHT
TZOFFSETFROM:-0700
TZOFFSETTO:-0600
TZNAME:MDT
DTSTART:20270314T090000
END:DAYLIGHT
BEGIN:STANDARD
TZOFFSETFROM:-0600
TZOFFSETTO:-0700
TZNAME:MST
DTSTART:20271107T080000
END:STANDARD
END:VTIMEZONE
BEGIN:VEVENT
DTSTART;TZID=America/Denver:20260512T160000
DTEND;TZID=America/Denver:20260512T173000
DTSTAMP:20260425T071235
CREATED:20240720T194809Z
LAST-MODIFIED:20251121T180139Z
UID:10003216-1778601600-1778607000@www.summitilc.org
SUMMARY:Y.O.D.A.: Youth Opening Doors through Advocacy (Kalispell)
DESCRIPTION:Looking for info about getting a driver’s license\, or finding an apartment? Interested in learning about\, and shaping\, local laws that affect you? How do snacks and games sound? \nYou’ll find all this and more at YODA — Youth Opening Doors through Advocacy — a group for young people with disabilities. \nDiscover your community\, learn about disability culture\, and just have fun! \nYODA meets on the second and fourth Tuesday of every month from 4 p.m. to 5:30 p.m. \nStop by Summit’s Kalispell office at 275 Corporate Dr.\, Suite 200. See you there!
URL:https://www.summitilc.org/events/y-o-d-a-youth-opening-doors-through-advocacy-3/2026-05-12/
LOCATION:Summit Independent Living-Kalispell\, 275 Corporate Dr.\, Suite 200\, Kalispell\, MT\, 59901\, United States
CATEGORIES:Kalispell
ORGANIZER;CN="Dianna Kintzler":MAILTO:dkintzler@summitilc.org
GEO:48.2007659;-114.334172
X-APPLE-STRUCTURED-LOCATION;VALUE=URI;X-ADDRESS=Summit Independent Living-Kalispell 275 Corporate Dr. Suite 200 Kalispell MT 59901 United States;X-APPLE-RADIUS=500;X-TITLE=275 Corporate Dr.\, Suite 200:geo:-114.334172,48.2007659
END:VEVENT
BEGIN:VEVENT
DTSTART;TZID=America/Denver:20260514T100000
DTEND;TZID=America/Denver:20260514T120000
DTSTAMP:20260425T071235
CREATED:20250821T190546Z
LAST-MODIFIED:20251121T182549Z
UID:10006672-1778752800-1778760000@www.summitilc.org
SUMMARY:Mail & Munchies (Kalispell)
DESCRIPTION:Sorting through paperwork from Social Security\, Medicaid\, and other programs can be overwhelming. \nWe’re here to help you cut through the red tape\, with coffee\, snacks\, and friendly faces. \nBring your paperwork to our Kalispell office on the second Thursday of every month from 10 a.m. to noon\, and we’ll go over it together — along with free coffee\, tea\, and treats. \n☕ 🫖 🍩 📃
URL:https://www.summitilc.org/events/mail-munchies-kalispell/2026-05-14/
LOCATION:Summit Conference Room – Kalispell\, 275 Corporate Drive\, #200\, Kalispell\, MT\, 59901\, United States
CATEGORIES:Kalispell
ATTACH;FMTTYPE=image/png:https://www.summitilc.org/wp-content/uploads/2025/09/Screenshot-2025-09-22-at-9.41.32-AM.png
ORGANIZER;CN="Dianna Kintzler":MAILTO:dkintzler@summitilc.org
GEO:48.2007659;-114.334172
X-APPLE-STRUCTURED-LOCATION;VALUE=URI;X-ADDRESS=Summit Conference Room – Kalispell 275 Corporate Drive #200 Kalispell MT 59901 United States;X-APPLE-RADIUS=500;X-TITLE=275 Corporate Drive\, #200:geo:-114.334172,48.2007659
END:VEVENT
END:VCALENDAR