BEGIN:VCALENDAR
VERSION:2.0
PRODID:-//Summit Independent Living - ECPv6.15.20//NONSGML v1.0//EN
CALSCALE:GREGORIAN
METHOD:PUBLISH
X-WR-CALNAME:Summit Independent Living
X-ORIGINAL-URL:https://www.summitilc.org
X-WR-CALDESC:Events for Summit Independent Living
REFRESH-INTERVAL;VALUE=DURATION:PT1H
X-Robots-Tag:noindex
X-PUBLISHED-TTL:PT1H
BEGIN:VTIMEZONE
TZID:America/Denver
BEGIN:DAYLIGHT
TZOFFSETFROM:-0700
TZOFFSETTO:-0600
TZNAME:MDT
DTSTART:20250309T090000
END:DAYLIGHT
BEGIN:STANDARD
TZOFFSETFROM:-0600
TZOFFSETTO:-0700
TZNAME:MST
DTSTART:20251102T080000
END:STANDARD
BEGIN:DAYLIGHT
TZOFFSETFROM:-0700
TZOFFSETTO:-0600
TZNAME:MDT
DTSTART:20260308T090000
END:DAYLIGHT
BEGIN:STANDARD
TZOFFSETFROM:-0600
TZOFFSETTO:-0700
TZNAME:MST
DTSTART:20261101T080000
END:STANDARD
BEGIN:DAYLIGHT
TZOFFSETFROM:-0700
TZOFFSETTO:-0600
TZNAME:MDT
DTSTART:20270314T090000
END:DAYLIGHT
BEGIN:STANDARD
TZOFFSETFROM:-0600
TZOFFSETTO:-0700
TZNAME:MST
DTSTART:20271107T080000
END:STANDARD
END:VTIMEZONE
BEGIN:VEVENT
DTSTART;TZID=America/Denver:20260219T140000
DTEND;TZID=America/Denver:20260219T160000
DTSTAMP:20260425T085309
CREATED:20240917T173448Z
LAST-MODIFIED:20251121T180401Z
UID:10004527-1771509600-1771516800@www.summitilc.org
SUMMARY:Third Thursday Crafternoon (Kalispell)
DESCRIPTION:Third Thursday Crafternoon is an arts and crafts get-together for folks of all abilities. \nCome join us and try one of the provided projects or bring something of your own to work on! We try to use recycled materials in each project that we make. \nThird Thursday Crafternoon meets every third Thursday of the month from 2:00 p.m. until 4:00 p.m. at the Summit office in Kalispell. \nFor more information or to RSVP\, call or email Dianna at 406-257-0048 or dkintzler@summitilc.org
URL:https://www.summitilc.org/events/third-wednesday-crafternoon-2-2-2/2026-02-19/
LOCATION:Summit Conference Room – Kalispell\, 275 Corporate Drive\, #200\, Kalispell\, MT\, 59901\, United States
CATEGORIES:Kalispell
ATTACH;FMTTYPE=image/png:https://www.summitilc.org/wp-content/uploads/2023/04/3rd-Thursday-Crafternoon-1080-×-1080-px.png
ORGANIZER;CN="Dianna Kintzler":MAILTO:dkintzler@summitilc.org
GEO:48.2007659;-114.334172
X-APPLE-STRUCTURED-LOCATION;VALUE=URI;X-ADDRESS=Summit Conference Room – Kalispell 275 Corporate Drive #200 Kalispell MT 59901 United States;X-APPLE-RADIUS=500;X-TITLE=275 Corporate Drive\, #200:geo:-114.334172,48.2007659
END:VEVENT
END:VCALENDAR