BEGIN:VCALENDAR
VERSION:2.0
PRODID:-//Summit Independent Living - ECPv6.15.20//NONSGML v1.0//EN
CALSCALE:GREGORIAN
METHOD:PUBLISH
X-WR-CALNAME:Summit Independent Living
X-ORIGINAL-URL:https://www.summitilc.org
X-WR-CALDESC:Events for Summit Independent Living
REFRESH-INTERVAL;VALUE=DURATION:PT1H
X-Robots-Tag:noindex
X-PUBLISHED-TTL:PT1H
BEGIN:VTIMEZONE
TZID:America/Denver
BEGIN:DAYLIGHT
TZOFFSETFROM:-0700
TZOFFSETTO:-0600
TZNAME:MDT
DTSTART:20240310T090000
END:DAYLIGHT
BEGIN:STANDARD
TZOFFSETFROM:-0600
TZOFFSETTO:-0700
TZNAME:MST
DTSTART:20241103T080000
END:STANDARD
BEGIN:DAYLIGHT
TZOFFSETFROM:-0700
TZOFFSETTO:-0600
TZNAME:MDT
DTSTART:20250309T090000
END:DAYLIGHT
BEGIN:STANDARD
TZOFFSETFROM:-0600
TZOFFSETTO:-0700
TZNAME:MST
DTSTART:20251102T080000
END:STANDARD
BEGIN:DAYLIGHT
TZOFFSETFROM:-0700
TZOFFSETTO:-0600
TZNAME:MDT
DTSTART:20260308T090000
END:DAYLIGHT
BEGIN:STANDARD
TZOFFSETFROM:-0600
TZOFFSETTO:-0700
TZNAME:MST
DTSTART:20261101T080000
END:STANDARD
END:VTIMEZONE
BEGIN:VEVENT
DTSTART;TZID=America/Denver:20251203T160000
DTEND;TZID=America/Denver:20251203T170000
DTSTAMP:20260425T090353
CREATED:20250926T164240Z
LAST-MODIFIED:20250926T164240Z
UID:10007708-1764777600-1764781200@www.summitilc.org
SUMMARY:All-Abilities Movement Class (With Stage Combat!)
DESCRIPTION:⚡IT’S BACK AT A NEW DAY AND TIME!⚡ Do you want to get in motion? Feel the need to dance? Are you curious about what the heck “swashbuckling” is?\n\n\n \n\n\nJoin our weekly movement class\, open to all ages and all abilities. Get your body moving\, dance\, and even learn the basics of stage combat!\n\n\n \n\n\nThe fun starts every Wednesday at 4 p.m. at Summit’s BASE location\, 725 W. Alder St.\, Suite 4 (the Old Warehouse Mall) in Missoula.\n\n\n \n\n\nSpace is limited\, so email John at jhoward@summitilc.org or call (406) 215-1080 to reserve your spot!
URL:https://www.summitilc.org/events/all-abilities-movement-class-with-stage-combat/2025-12-03/
LOCATION:BASE\, 3104 W. Broadway St.\, Missoula\, MT\, 59808\, United States
CATEGORIES:BASE,Missoula
ATTACH;FMTTYPE=image/png:https://www.summitilc.org/wp-content/uploads/2025/09/All-Abilities-Movement-Class-1.png
ORGANIZER;CN="John Howard":MAILTO:jhoward@summitilic.org
GEO:46.8777495;-114.0025934
X-APPLE-STRUCTURED-LOCATION;VALUE=URI;X-ADDRESS=BASE 3104 W. Broadway St. Missoula MT 59808 United States;X-APPLE-RADIUS=500;X-TITLE=3104 W. Broadway St.:geo:-114.0025934,46.8777495
END:VEVENT
BEGIN:VEVENT
DTSTART;TZID=America/Denver:20251126T160000
DTEND;TZID=America/Denver:20251126T170000
DTSTAMP:20260425T090353
CREATED:20250926T164240Z
LAST-MODIFIED:20250926T164240Z
UID:10007707-1764172800-1764176400@www.summitilc.org
SUMMARY:All-Abilities Movement Class (With Stage Combat!)
DESCRIPTION:⚡IT’S BACK AT A NEW DAY AND TIME!⚡ Do you want to get in motion? Feel the need to dance? Are you curious about what the heck “swashbuckling” is?\n\n\n \n\n\nJoin our weekly movement class\, open to all ages and all abilities. Get your body moving\, dance\, and even learn the basics of stage combat!\n\n\n \n\n\nThe fun starts every Wednesday at 4 p.m. at Summit’s BASE location\, 725 W. Alder St.\, Suite 4 (the Old Warehouse Mall) in Missoula.\n\n\n \n\n\nSpace is limited\, so email John at jhoward@summitilc.org or call (406) 215-1080 to reserve your spot!
URL:https://www.summitilc.org/events/all-abilities-movement-class-with-stage-combat/2025-11-26/
LOCATION:BASE\, 3104 W. Broadway St.\, Missoula\, MT\, 59808\, United States
CATEGORIES:BASE,Missoula
ATTACH;FMTTYPE=image/png:https://www.summitilc.org/wp-content/uploads/2025/09/All-Abilities-Movement-Class-1.png
ORGANIZER;CN="John Howard":MAILTO:jhoward@summitilic.org
GEO:46.8777495;-114.0025934
X-APPLE-STRUCTURED-LOCATION;VALUE=URI;X-ADDRESS=BASE 3104 W. Broadway St. Missoula MT 59808 United States;X-APPLE-RADIUS=500;X-TITLE=3104 W. Broadway St.:geo:-114.0025934,46.8777495
END:VEVENT
BEGIN:VEVENT
DTSTART;TZID=America/Denver:20251121T130000
DTEND;TZID=America/Denver:20251121T150000
DTSTAMP:20260425T090353
CREATED:20230406T033439Z
LAST-MODIFIED:20260112T190127Z
UID:10001677-1763730000-1763737200@www.summitilc.org
SUMMARY:BASE Art Club (Missoula)
DESCRIPTION:BASE Art Club is open to people of all ages and all abilities. Beginners\, crafters\, and fans of DIY projects are welcome. We’ll provide the materials; just come as you are. \nBASE Art Club meets every Friday from 1:00 p.m. to 3:00 p.m. at 725 W. Alder St.\, #4 (the Old Warehouse Mall) in Missoula. \nIf you’re new to the group or would like more information\, please call 406 215 1080 or contact Gavin at our BASE office.
URL:https://www.summitilc.org/events/base-art-group/2025-11-21/
LOCATION:BASE\, 3104 W. Broadway St.\, Missoula\, MT\, 59808\, United States
CATEGORIES:BASE
ATTACH;FMTTYPE=image/png:https://www.summitilc.org/wp-content/uploads/2023/04/Art-Club-1124.png
ORGANIZER;CN="Gavin Workman":MAILTO:gworkman@summitilc.org
GEO:46.8777495;-114.0025934
X-APPLE-STRUCTURED-LOCATION;VALUE=URI;X-ADDRESS=BASE 3104 W. Broadway St. Missoula MT 59808 United States;X-APPLE-RADIUS=500;X-TITLE=3104 W. Broadway St.:geo:-114.0025934,46.8777495
END:VEVENT
BEGIN:VEVENT
DTSTART;TZID=America/Denver:20251120T173000
DTEND;TZID=America/Denver:20251120T190000
DTSTAMP:20260425T090353
CREATED:20250923T211422Z
LAST-MODIFIED:20260112T190034Z
UID:10007076-1763659800-1763665200@www.summitilc.org
SUMMARY:BASE Improv Workshop (Missoula)
DESCRIPTION:Interested in learning to fail? Then improv might be for you! \nJoin us for our FREE weekly improv workshop every Thursday at BASE from 5:30 p.m. to 7 p.m. \nIt’s open to folks of all abilities and experience levels. Our workshops fill up quickly\, so to reserve your space\, call 406 215 1080 or contact us through basemissoula.org to reserve your space!
URL:https://www.summitilc.org/events/base-improv-workshop-missoula/2025-11-20/
LOCATION:BASE\, 3104 W. Broadway St.\, Missoula\, MT\, 59808\, United States
CATEGORIES:BASE,Missoula
ATTACH;FMTTYPE=image/png:https://www.summitilc.org/wp-content/uploads/2025/09/IMPROV.png
ORGANIZER;CN="John Howard":MAILTO:jhoward@summitilic.org
GEO:46.8777495;-114.0025934
X-APPLE-STRUCTURED-LOCATION;VALUE=URI;X-ADDRESS=BASE 3104 W. Broadway St. Missoula MT 59808 United States;X-APPLE-RADIUS=500;X-TITLE=3104 W. Broadway St.:geo:-114.0025934,46.8777495
END:VEVENT
BEGIN:VEVENT
DTSTART;TZID=America/Denver:20251119T160000
DTEND;TZID=America/Denver:20251119T170000
DTSTAMP:20260425T090353
CREATED:20250926T164240Z
LAST-MODIFIED:20250926T164240Z
UID:10007706-1763568000-1763571600@www.summitilc.org
SUMMARY:All-Abilities Movement Class (With Stage Combat!)
DESCRIPTION:⚡IT’S BACK AT A NEW DAY AND TIME!⚡ Do you want to get in motion? Feel the need to dance? Are you curious about what the heck “swashbuckling” is?\n\n\n \n\n\nJoin our weekly movement class\, open to all ages and all abilities. Get your body moving\, dance\, and even learn the basics of stage combat!\n\n\n \n\n\nThe fun starts every Wednesday at 4 p.m. at Summit’s BASE location\, 725 W. Alder St.\, Suite 4 (the Old Warehouse Mall) in Missoula.\n\n\n \n\n\nSpace is limited\, so email John at jhoward@summitilc.org or call (406) 215-1080 to reserve your spot!
URL:https://www.summitilc.org/events/all-abilities-movement-class-with-stage-combat/2025-11-19/
LOCATION:BASE\, 3104 W. Broadway St.\, Missoula\, MT\, 59808\, United States
CATEGORIES:BASE,Missoula
ATTACH;FMTTYPE=image/png:https://www.summitilc.org/wp-content/uploads/2025/09/All-Abilities-Movement-Class-1.png
ORGANIZER;CN="John Howard":MAILTO:jhoward@summitilic.org
GEO:46.8777495;-114.0025934
X-APPLE-STRUCTURED-LOCATION;VALUE=URI;X-ADDRESS=BASE 3104 W. Broadway St. Missoula MT 59808 United States;X-APPLE-RADIUS=500;X-TITLE=3104 W. Broadway St.:geo:-114.0025934,46.8777495
END:VEVENT
BEGIN:VEVENT
DTSTART;TZID=America/Denver:20251114T150000
DTEND;TZID=America/Denver:20251114T170000
DTSTAMP:20260425T090353
CREATED:20250923T212752Z
LAST-MODIFIED:20251010T190657Z
UID:10008331-1763132400-1763139600@www.summitilc.org
SUMMARY:Three-Dragon Ante at BASE (Missoula)
DESCRIPTION:🐉🎲 Dive into fantasy card gaming with us at our inclusive Three-Dragon Ante game day\, every second Friday! \nAll ages and abilities are welcome to join in this fantasy card game\,combining luck\, strategy\, and camaraderie. \nExperience the thrill of high stakes and forge new friendships!
URL:https://www.summitilc.org/events/three-dragon-ante-at-base-missoula/2025-11-14/
LOCATION:BASE\, 3104 W. Broadway St.\, Missoula\, MT\, 59808\, United States
CATEGORIES:BASE,Missoula
ATTACH;FMTTYPE=image/webp:https://www.summitilc.org/wp-content/uploads/2025/09/pic336502.webp
ORGANIZER;CN="John Howard":MAILTO:jhoward@summitilic.org
GEO:46.8777495;-114.0025934
X-APPLE-STRUCTURED-LOCATION;VALUE=URI;X-ADDRESS=BASE 3104 W. Broadway St. Missoula MT 59808 United States;X-APPLE-RADIUS=500;X-TITLE=3104 W. Broadway St.:geo:-114.0025934,46.8777495
END:VEVENT
BEGIN:VEVENT
DTSTART;TZID=America/Denver:20251114T130000
DTEND;TZID=America/Denver:20251114T150000
DTSTAMP:20260425T090353
CREATED:20230406T033439Z
LAST-MODIFIED:20260112T190127Z
UID:10001676-1763125200-1763132400@www.summitilc.org
SUMMARY:BASE Art Club (Missoula)
DESCRIPTION:BASE Art Club is open to people of all ages and all abilities. Beginners\, crafters\, and fans of DIY projects are welcome. We’ll provide the materials; just come as you are. \nBASE Art Club meets every Friday from 1:00 p.m. to 3:00 p.m. at 725 W. Alder St.\, #4 (the Old Warehouse Mall) in Missoula. \nIf you’re new to the group or would like more information\, please call 406 215 1080 or contact Gavin at our BASE office.
URL:https://www.summitilc.org/events/base-art-group/2025-11-14/
LOCATION:BASE\, 3104 W. Broadway St.\, Missoula\, MT\, 59808\, United States
CATEGORIES:BASE
ATTACH;FMTTYPE=image/png:https://www.summitilc.org/wp-content/uploads/2023/04/Art-Club-1124.png
ORGANIZER;CN="Gavin Workman":MAILTO:gworkman@summitilc.org
GEO:46.8777495;-114.0025934
X-APPLE-STRUCTURED-LOCATION;VALUE=URI;X-ADDRESS=BASE 3104 W. Broadway St. Missoula MT 59808 United States;X-APPLE-RADIUS=500;X-TITLE=3104 W. Broadway St.:geo:-114.0025934,46.8777495
END:VEVENT
BEGIN:VEVENT
DTSTART;TZID=America/Denver:20251113T173000
DTEND;TZID=America/Denver:20251113T190000
DTSTAMP:20260425T090353
CREATED:20250923T211422Z
LAST-MODIFIED:20260112T190034Z
UID:10007075-1763055000-1763060400@www.summitilc.org
SUMMARY:BASE Improv Workshop (Missoula)
DESCRIPTION:Interested in learning to fail? Then improv might be for you! \nJoin us for our FREE weekly improv workshop every Thursday at BASE from 5:30 p.m. to 7 p.m. \nIt’s open to folks of all abilities and experience levels. Our workshops fill up quickly\, so to reserve your space\, call 406 215 1080 or contact us through basemissoula.org to reserve your space!
URL:https://www.summitilc.org/events/base-improv-workshop-missoula/2025-11-13/
LOCATION:BASE\, 3104 W. Broadway St.\, Missoula\, MT\, 59808\, United States
CATEGORIES:BASE,Missoula
ATTACH;FMTTYPE=image/png:https://www.summitilc.org/wp-content/uploads/2025/09/IMPROV.png
ORGANIZER;CN="John Howard":MAILTO:jhoward@summitilic.org
GEO:46.8777495;-114.0025934
X-APPLE-STRUCTURED-LOCATION;VALUE=URI;X-ADDRESS=BASE 3104 W. Broadway St. Missoula MT 59808 United States;X-APPLE-RADIUS=500;X-TITLE=3104 W. Broadway St.:geo:-114.0025934,46.8777495
END:VEVENT
BEGIN:VEVENT
DTSTART;TZID=America/Denver:20251112T160000
DTEND;TZID=America/Denver:20251112T170000
DTSTAMP:20260425T090353
CREATED:20250926T164240Z
LAST-MODIFIED:20250926T164240Z
UID:10007705-1762963200-1762966800@www.summitilc.org
SUMMARY:All-Abilities Movement Class (With Stage Combat!)
DESCRIPTION:⚡IT’S BACK AT A NEW DAY AND TIME!⚡ Do you want to get in motion? Feel the need to dance? Are you curious about what the heck “swashbuckling” is?\n\n\n \n\n\nJoin our weekly movement class\, open to all ages and all abilities. Get your body moving\, dance\, and even learn the basics of stage combat!\n\n\n \n\n\nThe fun starts every Wednesday at 4 p.m. at Summit’s BASE location\, 725 W. Alder St.\, Suite 4 (the Old Warehouse Mall) in Missoula.\n\n\n \n\n\nSpace is limited\, so email John at jhoward@summitilc.org or call (406) 215-1080 to reserve your spot!
URL:https://www.summitilc.org/events/all-abilities-movement-class-with-stage-combat/2025-11-12/
LOCATION:BASE\, 3104 W. Broadway St.\, Missoula\, MT\, 59808\, United States
CATEGORIES:BASE,Missoula
ATTACH;FMTTYPE=image/png:https://www.summitilc.org/wp-content/uploads/2025/09/All-Abilities-Movement-Class-1.png
ORGANIZER;CN="John Howard":MAILTO:jhoward@summitilic.org
GEO:46.8777495;-114.0025934
X-APPLE-STRUCTURED-LOCATION;VALUE=URI;X-ADDRESS=BASE 3104 W. Broadway St. Missoula MT 59808 United States;X-APPLE-RADIUS=500;X-TITLE=3104 W. Broadway St.:geo:-114.0025934,46.8777495
END:VEVENT
BEGIN:VEVENT
DTSTART;TZID=America/Denver:20251107T150000
DTEND;TZID=America/Denver:20251107T170000
DTSTAMP:20260425T090353
CREATED:20250923T195856Z
LAST-MODIFIED:20251003T154308Z
UID:10007009-1762527600-1762534800@www.summitilc.org
SUMMARY:Magic: The Gathering Game Day (Missoula)
DESCRIPTION:🎲🧙️ Gather with us on the first Friday of every month for an inclusive Magic: The Gathering game day! \nAll ages and abilities are welcome as we build community and engage in exciting strategic gameplay. \nCome cast spells\, summon creatures\, and make new friends\, from 3 p.m. to 5 p.m. at BASE!
URL:https://www.summitilc.org/events/magic-the-gathering-game-day-missoula/2025-11-07/
LOCATION:BASE\, 3104 W. Broadway St.\, Missoula\, MT\, 59808\, United States
CATEGORIES:BASE,Missoula
ATTACH;FMTTYPE=image/png:https://www.summitilc.org/wp-content/uploads/2025/09/Magic-The-Gathering-Game-Day-1.png
ORGANIZER;CN="John Howard":MAILTO:jhoward@summitilic.org
GEO:46.8777495;-114.0025934
X-APPLE-STRUCTURED-LOCATION;VALUE=URI;X-ADDRESS=BASE 3104 W. Broadway St. Missoula MT 59808 United States;X-APPLE-RADIUS=500;X-TITLE=3104 W. Broadway St.:geo:-114.0025934,46.8777495
END:VEVENT
BEGIN:VEVENT
DTSTART;TZID=America/Denver:20251107T130000
DTEND;TZID=America/Denver:20251107T150000
DTSTAMP:20260425T090353
CREATED:20230406T033439Z
LAST-MODIFIED:20260112T190127Z
UID:10001675-1762520400-1762527600@www.summitilc.org
SUMMARY:BASE Art Club (Missoula)
DESCRIPTION:BASE Art Club is open to people of all ages and all abilities. Beginners\, crafters\, and fans of DIY projects are welcome. We’ll provide the materials; just come as you are. \nBASE Art Club meets every Friday from 1:00 p.m. to 3:00 p.m. at 725 W. Alder St.\, #4 (the Old Warehouse Mall) in Missoula. \nIf you’re new to the group or would like more information\, please call 406 215 1080 or contact Gavin at our BASE office.
URL:https://www.summitilc.org/events/base-art-group/2025-11-07/
LOCATION:BASE\, 3104 W. Broadway St.\, Missoula\, MT\, 59808\, United States
CATEGORIES:BASE
ATTACH;FMTTYPE=image/png:https://www.summitilc.org/wp-content/uploads/2023/04/Art-Club-1124.png
ORGANIZER;CN="Gavin Workman":MAILTO:gworkman@summitilc.org
GEO:46.8777495;-114.0025934
X-APPLE-STRUCTURED-LOCATION;VALUE=URI;X-ADDRESS=BASE 3104 W. Broadway St. Missoula MT 59808 United States;X-APPLE-RADIUS=500;X-TITLE=3104 W. Broadway St.:geo:-114.0025934,46.8777495
END:VEVENT
BEGIN:VEVENT
DTSTART;TZID=America/Denver:20251106T173000
DTEND;TZID=America/Denver:20251106T190000
DTSTAMP:20260425T090353
CREATED:20250923T211422Z
LAST-MODIFIED:20260112T190034Z
UID:10007074-1762450200-1762455600@www.summitilc.org
SUMMARY:BASE Improv Workshop (Missoula)
DESCRIPTION:Interested in learning to fail? Then improv might be for you! \nJoin us for our FREE weekly improv workshop every Thursday at BASE from 5:30 p.m. to 7 p.m. \nIt’s open to folks of all abilities and experience levels. Our workshops fill up quickly\, so to reserve your space\, call 406 215 1080 or contact us through basemissoula.org to reserve your space!
URL:https://www.summitilc.org/events/base-improv-workshop-missoula/2025-11-06/
LOCATION:BASE\, 3104 W. Broadway St.\, Missoula\, MT\, 59808\, United States
CATEGORIES:BASE,Missoula
ATTACH;FMTTYPE=image/png:https://www.summitilc.org/wp-content/uploads/2025/09/IMPROV.png
ORGANIZER;CN="John Howard":MAILTO:jhoward@summitilic.org
GEO:46.8777495;-114.0025934
X-APPLE-STRUCTURED-LOCATION;VALUE=URI;X-ADDRESS=BASE 3104 W. Broadway St. Missoula MT 59808 United States;X-APPLE-RADIUS=500;X-TITLE=3104 W. Broadway St.:geo:-114.0025934,46.8777495
END:VEVENT
BEGIN:VEVENT
DTSTART;TZID=America/Denver:20251105T160000
DTEND;TZID=America/Denver:20251105T170000
DTSTAMP:20260425T090353
CREATED:20250926T164240Z
LAST-MODIFIED:20250926T164240Z
UID:10007704-1762358400-1762362000@www.summitilc.org
SUMMARY:All-Abilities Movement Class (With Stage Combat!)
DESCRIPTION:⚡IT’S BACK AT A NEW DAY AND TIME!⚡ Do you want to get in motion? Feel the need to dance? Are you curious about what the heck “swashbuckling” is?\n\n\n \n\n\nJoin our weekly movement class\, open to all ages and all abilities. Get your body moving\, dance\, and even learn the basics of stage combat!\n\n\n \n\n\nThe fun starts every Wednesday at 4 p.m. at Summit’s BASE location\, 725 W. Alder St.\, Suite 4 (the Old Warehouse Mall) in Missoula.\n\n\n \n\n\nSpace is limited\, so email John at jhoward@summitilc.org or call (406) 215-1080 to reserve your spot!
URL:https://www.summitilc.org/events/all-abilities-movement-class-with-stage-combat/2025-11-05/
LOCATION:BASE\, 3104 W. Broadway St.\, Missoula\, MT\, 59808\, United States
CATEGORIES:BASE,Missoula
ATTACH;FMTTYPE=image/png:https://www.summitilc.org/wp-content/uploads/2025/09/All-Abilities-Movement-Class-1.png
ORGANIZER;CN="John Howard":MAILTO:jhoward@summitilic.org
GEO:46.8777495;-114.0025934
X-APPLE-STRUCTURED-LOCATION;VALUE=URI;X-ADDRESS=BASE 3104 W. Broadway St. Missoula MT 59808 United States;X-APPLE-RADIUS=500;X-TITLE=3104 W. Broadway St.:geo:-114.0025934,46.8777495
END:VEVENT
BEGIN:VEVENT
DTSTART;TZID=America/Denver:20251031T130000
DTEND;TZID=America/Denver:20251031T150000
DTSTAMP:20260425T090353
CREATED:20230406T033439Z
LAST-MODIFIED:20260112T190127Z
UID:10001674-1761915600-1761922800@www.summitilc.org
SUMMARY:BASE Art Club (Missoula)
DESCRIPTION:BASE Art Club is open to people of all ages and all abilities. Beginners\, crafters\, and fans of DIY projects are welcome. We’ll provide the materials; just come as you are. \nBASE Art Club meets every Friday from 1:00 p.m. to 3:00 p.m. at 725 W. Alder St.\, #4 (the Old Warehouse Mall) in Missoula. \nIf you’re new to the group or would like more information\, please call 406 215 1080 or contact Gavin at our BASE office.
URL:https://www.summitilc.org/events/base-art-group/2025-10-31/
LOCATION:BASE\, 3104 W. Broadway St.\, Missoula\, MT\, 59808\, United States
CATEGORIES:BASE
ATTACH;FMTTYPE=image/png:https://www.summitilc.org/wp-content/uploads/2023/04/Art-Club-1124.png
ORGANIZER;CN="Gavin Workman":MAILTO:gworkman@summitilc.org
GEO:46.8777495;-114.0025934
X-APPLE-STRUCTURED-LOCATION;VALUE=URI;X-ADDRESS=BASE 3104 W. Broadway St. Missoula MT 59808 United States;X-APPLE-RADIUS=500;X-TITLE=3104 W. Broadway St.:geo:-114.0025934,46.8777495
END:VEVENT
BEGIN:VEVENT
DTSTART;TZID=America/Denver:20251030T173000
DTEND;TZID=America/Denver:20251030T190000
DTSTAMP:20260425T090353
CREATED:20250923T211422Z
LAST-MODIFIED:20260112T190034Z
UID:10007073-1761845400-1761850800@www.summitilc.org
SUMMARY:BASE Improv Workshop (Missoula)
DESCRIPTION:Interested in learning to fail? Then improv might be for you! \nJoin us for our FREE weekly improv workshop every Thursday at BASE from 5:30 p.m. to 7 p.m. \nIt’s open to folks of all abilities and experience levels. Our workshops fill up quickly\, so to reserve your space\, call 406 215 1080 or contact us through basemissoula.org to reserve your space!
URL:https://www.summitilc.org/events/base-improv-workshop-missoula/2025-10-30/
LOCATION:BASE\, 3104 W. Broadway St.\, Missoula\, MT\, 59808\, United States
CATEGORIES:BASE,Missoula
ATTACH;FMTTYPE=image/png:https://www.summitilc.org/wp-content/uploads/2025/09/IMPROV.png
ORGANIZER;CN="John Howard":MAILTO:jhoward@summitilic.org
GEO:46.8777495;-114.0025934
X-APPLE-STRUCTURED-LOCATION;VALUE=URI;X-ADDRESS=BASE 3104 W. Broadway St. Missoula MT 59808 United States;X-APPLE-RADIUS=500;X-TITLE=3104 W. Broadway St.:geo:-114.0025934,46.8777495
END:VEVENT
BEGIN:VEVENT
DTSTART;TZID=America/Denver:20251029T160000
DTEND;TZID=America/Denver:20251029T170000
DTSTAMP:20260425T090353
CREATED:20250926T164240Z
LAST-MODIFIED:20250926T164240Z
UID:10007703-1761753600-1761757200@www.summitilc.org
SUMMARY:All-Abilities Movement Class (With Stage Combat!)
DESCRIPTION:⚡IT’S BACK AT A NEW DAY AND TIME!⚡ Do you want to get in motion? Feel the need to dance? Are you curious about what the heck “swashbuckling” is?\n\n\n \n\n\nJoin our weekly movement class\, open to all ages and all abilities. Get your body moving\, dance\, and even learn the basics of stage combat!\n\n\n \n\n\nThe fun starts every Wednesday at 4 p.m. at Summit’s BASE location\, 725 W. Alder St.\, Suite 4 (the Old Warehouse Mall) in Missoula.\n\n\n \n\n\nSpace is limited\, so email John at jhoward@summitilc.org or call (406) 215-1080 to reserve your spot!
URL:https://www.summitilc.org/events/all-abilities-movement-class-with-stage-combat/2025-10-29/
LOCATION:BASE\, 3104 W. Broadway St.\, Missoula\, MT\, 59808\, United States
CATEGORIES:BASE,Missoula
ATTACH;FMTTYPE=image/png:https://www.summitilc.org/wp-content/uploads/2025/09/All-Abilities-Movement-Class-1.png
ORGANIZER;CN="John Howard":MAILTO:jhoward@summitilic.org
GEO:46.8777495;-114.0025934
X-APPLE-STRUCTURED-LOCATION;VALUE=URI;X-ADDRESS=BASE 3104 W. Broadway St. Missoula MT 59808 United States;X-APPLE-RADIUS=500;X-TITLE=3104 W. Broadway St.:geo:-114.0025934,46.8777495
END:VEVENT
BEGIN:VEVENT
DTSTART;TZID=America/Denver:20251024T130000
DTEND;TZID=America/Denver:20251024T150000
DTSTAMP:20260425T090353
CREATED:20230406T033439Z
LAST-MODIFIED:20260112T190127Z
UID:10001673-1761310800-1761318000@www.summitilc.org
SUMMARY:BASE Art Club (Missoula)
DESCRIPTION:BASE Art Club is open to people of all ages and all abilities. Beginners\, crafters\, and fans of DIY projects are welcome. We’ll provide the materials; just come as you are. \nBASE Art Club meets every Friday from 1:00 p.m. to 3:00 p.m. at 725 W. Alder St.\, #4 (the Old Warehouse Mall) in Missoula. \nIf you’re new to the group or would like more information\, please call 406 215 1080 or contact Gavin at our BASE office.
URL:https://www.summitilc.org/events/base-art-group/2025-10-24/
LOCATION:BASE\, 3104 W. Broadway St.\, Missoula\, MT\, 59808\, United States
CATEGORIES:BASE
ATTACH;FMTTYPE=image/png:https://www.summitilc.org/wp-content/uploads/2023/04/Art-Club-1124.png
ORGANIZER;CN="Gavin Workman":MAILTO:gworkman@summitilc.org
GEO:46.8777495;-114.0025934
X-APPLE-STRUCTURED-LOCATION;VALUE=URI;X-ADDRESS=BASE 3104 W. Broadway St. Missoula MT 59808 United States;X-APPLE-RADIUS=500;X-TITLE=3104 W. Broadway St.:geo:-114.0025934,46.8777495
END:VEVENT
END:VCALENDAR