BEGIN:VCALENDAR
VERSION:2.0
PRODID:-//Summit Independent Living - ECPv6.15.20//NONSGML v1.0//EN
CALSCALE:GREGORIAN
METHOD:PUBLISH
X-WR-CALNAME:Summit Independent Living
X-ORIGINAL-URL:https://www.summitilc.org
X-WR-CALDESC:Events for Summit Independent Living
REFRESH-INTERVAL;VALUE=DURATION:PT1H
X-Robots-Tag:noindex
X-PUBLISHED-TTL:PT1H
BEGIN:VTIMEZONE
TZID:America/Denver
BEGIN:DAYLIGHT
TZOFFSETFROM:-0700
TZOFFSETTO:-0600
TZNAME:MDT
DTSTART:20250309T090000
END:DAYLIGHT
BEGIN:STANDARD
TZOFFSETFROM:-0600
TZOFFSETTO:-0700
TZNAME:MST
DTSTART:20251102T080000
END:STANDARD
BEGIN:DAYLIGHT
TZOFFSETFROM:-0700
TZOFFSETTO:-0600
TZNAME:MDT
DTSTART:20260308T090000
END:DAYLIGHT
BEGIN:STANDARD
TZOFFSETFROM:-0600
TZOFFSETTO:-0700
TZNAME:MST
DTSTART:20261101T080000
END:STANDARD
BEGIN:DAYLIGHT
TZOFFSETFROM:-0700
TZOFFSETTO:-0600
TZNAME:MDT
DTSTART:20270314T090000
END:DAYLIGHT
BEGIN:STANDARD
TZOFFSETFROM:-0600
TZOFFSETTO:-0700
TZNAME:MST
DTSTART:20271107T080000
END:STANDARD
END:VTIMEZONE
BEGIN:VEVENT
DTSTART;TZID=America/Denver:20260717T130000
DTEND;TZID=America/Denver:20260717T150000
DTSTAMP:20260425T084401
CREATED:20230406T033439Z
LAST-MODIFIED:20260112T190127Z
UID:10001711-1784293200-1784300400@www.summitilc.org
SUMMARY:BASE Art Club (Missoula)
DESCRIPTION:BASE Art Club is open to people of all ages and all abilities. Beginners\, crafters\, and fans of DIY projects are welcome. We’ll provide the materials; just come as you are. \nBASE Art Club meets every Friday from 1:00 p.m. to 3:00 p.m. at 725 W. Alder St.\, #4 (the Old Warehouse Mall) in Missoula. \nIf you’re new to the group or would like more information\, please call 406 215 1080 or contact Gavin at our BASE office.
URL:https://www.summitilc.org/events/base-art-group/2026-07-17/
LOCATION:BASE\, 3104 W. Broadway St.\, Missoula\, MT\, 59808\, United States
CATEGORIES:BASE
ATTACH;FMTTYPE=image/png:https://www.summitilc.org/wp-content/uploads/2023/04/Art-Club-1124.png
ORGANIZER;CN="Gavin Workman":MAILTO:gworkman@summitilc.org
GEO:46.8777495;-114.0025934
X-APPLE-STRUCTURED-LOCATION;VALUE=URI;X-ADDRESS=BASE 3104 W. Broadway St. Missoula MT 59808 United States;X-APPLE-RADIUS=500;X-TITLE=3104 W. Broadway St.:geo:-114.0025934,46.8777495
END:VEVENT
END:VCALENDAR