BEGIN:VCALENDAR
VERSION:2.0
PRODID:-//Summit Independent Living - ECPv6.15.20//NONSGML v1.0//EN
CALSCALE:GREGORIAN
METHOD:PUBLISH
X-ORIGINAL-URL:https://www.summitilc.org
X-WR-CALDESC:Events for Summit Independent Living
REFRESH-INTERVAL;VALUE=DURATION:PT1H
X-Robots-Tag:noindex
X-PUBLISHED-TTL:PT1H
BEGIN:VTIMEZONE
TZID:America/Denver
BEGIN:DAYLIGHT
TZOFFSETFROM:-0700
TZOFFSETTO:-0600
TZNAME:MDT
DTSTART:20250309T090000
END:DAYLIGHT
BEGIN:STANDARD
TZOFFSETFROM:-0600
TZOFFSETTO:-0700
TZNAME:MST
DTSTART:20251102T080000
END:STANDARD
BEGIN:DAYLIGHT
TZOFFSETFROM:-0700
TZOFFSETTO:-0600
TZNAME:MDT
DTSTART:20260308T090000
END:DAYLIGHT
BEGIN:STANDARD
TZOFFSETFROM:-0600
TZOFFSETTO:-0700
TZNAME:MST
DTSTART:20261101T080000
END:STANDARD
BEGIN:DAYLIGHT
TZOFFSETFROM:-0700
TZOFFSETTO:-0600
TZNAME:MDT
DTSTART:20270314T090000
END:DAYLIGHT
BEGIN:STANDARD
TZOFFSETFROM:-0600
TZOFFSETTO:-0700
TZNAME:MST
DTSTART:20271107T080000
END:STANDARD
END:VTIMEZONE
BEGIN:VEVENT
DTSTART;TZID=America/Denver:20261228T120000
DTEND;TZID=America/Denver:20261228T130000
DTSTAMP:20260425T094349
CREATED:20251202T212246Z
LAST-MODIFIED:20260330T200922Z
UID:10007453-1798459200-1798462800@www.summitilc.org
SUMMARY:All Abilities Yoga (Missoula)
DESCRIPTION:🧘️🌟 Summit hosts free All-Abilities Yoga classes every Monday! 🌟🧘️ \nJoin our empowering and accessible yoga sessions\, designed for everyone to explore their inner strength. \n\n\nIt all happens from noon to 1 p.m. at Summit’s Missoula headquarters.\n\n\n\n\n\nCelebrate unity and community as we flow together!
URL:https://www.summitilc.org/events/all-abilities-yoga-via-zoom-13-2/2026-12-28/
LOCATION:Summit Conference Room – Missoula\, 3104 W. Broadway St.\, Missoula\, MT\, 59808\, United States
CATEGORIES:Missoula
ATTACH;FMTTYPE=image/png:https://www.summitilc.org/wp-content/uploads/2025/12/New-Yoga-Promotion-Socials.png
ORGANIZER;CN="John Howard":MAILTO:jhoward@summitilic.org
GEO:46.8373928;-114.0099613
X-APPLE-STRUCTURED-LOCATION;VALUE=URI;X-ADDRESS=Summit Conference Room – Missoula 3104 W. Broadway St. Missoula MT 59808 United States;X-APPLE-RADIUS=500;X-TITLE=3104 W. Broadway St.:geo:-114.0099613,46.8373928
END:VEVENT
END:VCALENDAR