BEGIN:VCALENDAR
VERSION:2.0
PRODID:-//Summit Independent Living - ECPv6.15.20//NONSGML v1.0//EN
CALSCALE:GREGORIAN
METHOD:PUBLISH
X-WR-CALNAME:Summit Independent Living
X-ORIGINAL-URL:https://www.summitilc.org
X-WR-CALDESC:Events for Summit Independent Living
REFRESH-INTERVAL;VALUE=DURATION:PT1H
X-Robots-Tag:noindex
X-PUBLISHED-TTL:PT1H
BEGIN:VTIMEZONE
TZID:America/Denver
BEGIN:DAYLIGHT
TZOFFSETFROM:-0700
TZOFFSETTO:-0600
TZNAME:MDT
DTSTART:20250309T090000
END:DAYLIGHT
BEGIN:STANDARD
TZOFFSETFROM:-0600
TZOFFSETTO:-0700
TZNAME:MST
DTSTART:20251102T080000
END:STANDARD
BEGIN:DAYLIGHT
TZOFFSETFROM:-0700
TZOFFSETTO:-0600
TZNAME:MDT
DTSTART:20260308T090000
END:DAYLIGHT
BEGIN:STANDARD
TZOFFSETFROM:-0600
TZOFFSETTO:-0700
TZNAME:MST
DTSTART:20261101T080000
END:STANDARD
BEGIN:DAYLIGHT
TZOFFSETFROM:-0700
TZOFFSETTO:-0600
TZNAME:MDT
DTSTART:20270314T090000
END:DAYLIGHT
BEGIN:STANDARD
TZOFFSETFROM:-0600
TZOFFSETTO:-0700
TZNAME:MST
DTSTART:20271107T080000
END:STANDARD
END:VTIMEZONE
BEGIN:VEVENT
DTSTART;TZID=America/Denver:20261210T100000
DTEND;TZID=America/Denver:20261210T120000
DTSTAMP:20260425T094256
CREATED:20250821T190546Z
LAST-MODIFIED:20251121T182549Z
UID:10006679-1796896800-1796904000@www.summitilc.org
SUMMARY:Mail & Munchies (Kalispell)
DESCRIPTION:Sorting through paperwork from Social Security\, Medicaid\, and other programs can be overwhelming. \nWe’re here to help you cut through the red tape\, with coffee\, snacks\, and friendly faces. \nBring your paperwork to our Kalispell office on the second Thursday of every month from 10 a.m. to noon\, and we’ll go over it together — along with free coffee\, tea\, and treats. \n☕ 🫖 🍩 📃
URL:https://www.summitilc.org/events/mail-munchies-kalispell/2026-12-10/
LOCATION:Summit Conference Room – Kalispell\, 275 Corporate Drive\, #200\, Kalispell\, MT\, 59901\, United States
CATEGORIES:Kalispell
ATTACH;FMTTYPE=image/png:https://www.summitilc.org/wp-content/uploads/2025/09/Screenshot-2025-09-22-at-9.41.32-AM.png
ORGANIZER;CN="Dianna Kintzler":MAILTO:dkintzler@summitilc.org
GEO:48.2007659;-114.334172
X-APPLE-STRUCTURED-LOCATION;VALUE=URI;X-ADDRESS=Summit Conference Room – Kalispell 275 Corporate Drive #200 Kalispell MT 59901 United States;X-APPLE-RADIUS=500;X-TITLE=275 Corporate Drive\, #200:geo:-114.334172,48.2007659
END:VEVENT
BEGIN:VEVENT
DTSTART;TZID=America/Denver:20261210T110000
DTEND;TZID=America/Denver:20261210T123000
DTSTAMP:20260425T094256
CREATED:20250609T183126Z
LAST-MODIFIED:20250922T154817Z
UID:10006202-1796900400-1796905800@www.summitilc.org
SUMMARY:Social Security Orientation (Virtual)
DESCRIPTION:Get your benefits\, Montana! Summit offers free online classes on how to apply for Social Security Disability Insurance (SSDI) or Supplemental Security Income (SSI). So if you’re thinking of applying or are having trouble with your application\, join our zoom! \n\n\n \n\n\nOrientations are held the second and fourth Thursdays of every month from 11 a.m. to 12:30 p.m.\n\n\n \n\n\nCall your local Summit office to register!\n\n\n \n\n\nMissoula: 406-728-1630\n\n\nHamilton: 406-363-5242\n\n\nPolson: 406-215-1604\n\n\nKalispell: 406-257-0048
URL:https://www.summitilc.org/events/social-security-orientation-3/2026-12-10/
LOCATION:https://www.summitilc.org/events/social-security-orientation-3/2026-12-10/
CATEGORIES:Virtual
ATTACH;FMTTYPE=image/jpeg:https://www.summitilc.org/wp-content/uploads/2025/08/469920085_999081988927153_6596871760343998501_n.jpg
ORGANIZER;CN="Tyler Stosich":MAILTO:tstosich@summitilc.org
END:VEVENT
BEGIN:VEVENT
DTSTART;TZID=America/Denver:20261210T173000
DTEND;TZID=America/Denver:20261210T190000
DTSTAMP:20260425T094256
CREATED:20260305T200912Z
LAST-MODIFIED:20260305T200914Z
UID:10007131-1796923800-1796929200@www.summitilc.org
SUMMARY:BASE Improv Workshop (Missoula)
DESCRIPTION:Interested in learning to fail? Then improv might be for you! \nJoin us for our FREE weekly improv workshop every Thursday at BASE from 5:30 p.m. to 7 p.m. \nIt’s open to folks of all abilities and experience levels. Our workshops fill up quickly\, so to reserve your space\, call 406 215 1080 or contact us through basemissoula.org to reserve your space!
URL:https://www.summitilc.org/events/base-improv-workshop-missoula-2/2026-12-10/
LOCATION:BASE\, 3104 W. Broadway St.\, Missoula\, MT\, 59808\, United States
CATEGORIES:BASE,Missoula
ATTACH;FMTTYPE=image/png:https://www.summitilc.org/wp-content/uploads/2025/09/IMPROV.png
ORGANIZER;CN="John Howard":MAILTO:jhoward@summitilic.org
GEO:46.8777495;-114.0025934
X-APPLE-STRUCTURED-LOCATION;VALUE=URI;X-ADDRESS=BASE 3104 W. Broadway St. Missoula MT 59808 United States;X-APPLE-RADIUS=500;X-TITLE=3104 W. Broadway St.:geo:-114.0025934,46.8777495
END:VEVENT
END:VCALENDAR