BEGIN:VCALENDAR
VERSION:2.0
PRODID:-//Summit Independent Living - ECPv6.15.20//NONSGML v1.0//EN
CALSCALE:GREGORIAN
METHOD:PUBLISH
X-ORIGINAL-URL:https://www.summitilc.org
X-WR-CALDESC:Events for Summit Independent Living
REFRESH-INTERVAL;VALUE=DURATION:PT1H
X-Robots-Tag:noindex
X-PUBLISHED-TTL:PT1H
BEGIN:VTIMEZONE
TZID:America/Denver
BEGIN:DAYLIGHT
TZOFFSETFROM:-0700
TZOFFSETTO:-0600
TZNAME:MDT
DTSTART:20250309T090000
END:DAYLIGHT
BEGIN:STANDARD
TZOFFSETFROM:-0600
TZOFFSETTO:-0700
TZNAME:MST
DTSTART:20251102T080000
END:STANDARD
BEGIN:DAYLIGHT
TZOFFSETFROM:-0700
TZOFFSETTO:-0600
TZNAME:MDT
DTSTART:20260308T090000
END:DAYLIGHT
BEGIN:STANDARD
TZOFFSETFROM:-0600
TZOFFSETTO:-0700
TZNAME:MST
DTSTART:20261101T080000
END:STANDARD
BEGIN:DAYLIGHT
TZOFFSETFROM:-0700
TZOFFSETTO:-0600
TZNAME:MDT
DTSTART:20270314T090000
END:DAYLIGHT
BEGIN:STANDARD
TZOFFSETFROM:-0600
TZOFFSETTO:-0700
TZNAME:MST
DTSTART:20271107T080000
END:STANDARD
END:VTIMEZONE
BEGIN:VEVENT
DTSTART;TZID=America/Denver:20261209T110000
DTEND;TZID=America/Denver:20261209T140000
DTSTAMP:20260425T094426
CREATED:20250730T200950Z
LAST-MODIFIED:20251003T155058Z
UID:10006027-1796814000-1796824800@www.summitilc.org
SUMMARY:R.A.D.: Resource Access Day
DESCRIPTION:Could you use help with legal support\, housing and benefits assistance\, healthcare\, and other services? Then stop by the Missoula Public Library for RAD — Resource Access Day!\n\n\n \n\n\nDozens of nonprofits (including us!)\, service organizations\, and city and county agencies have partnered up to provide our community with free resources every second Wednesday of the month from 11 a.m. to 2 p.m.\n\n\n \n\n\nAll services are offered on a drop-in basis and lunch will be provided! Stop by the fourth floor!
URL:https://www.summitilc.org/events/r-a-d-resource-access-day-2/2026-12-09/
LOCATION:Missoula Public Library\, 455 E. Main St.\, Missoula\, MT\, 59802\, United States
CATEGORIES:Other
ATTACH;FMTTYPE=image/png:https://www.summitilc.org/wp-content/uploads/2025/07/Screenshot-2025-10-03-at-9.50.09-AM.png
GEO:46.8698524;-113.9898726
X-APPLE-STRUCTURED-LOCATION;VALUE=URI;X-ADDRESS=Missoula Public Library 455 E. Main St. Missoula MT 59802 United States;X-APPLE-RADIUS=500;X-TITLE=455 E. Main St.:geo:-113.9898726,46.8698524
END:VEVENT
BEGIN:VEVENT
DTSTART;TZID=America/Denver:20261209T130000
DTEND;TZID=America/Denver:20261209T160000
DTSTAMP:20260425T094426
CREATED:20240827T200939Z
LAST-MODIFIED:20250922T153343Z
UID:10004330-1796821200-1796832000@www.summitilc.org
SUMMARY:Arts & Crafts in Polson
DESCRIPTION:Join us for an afternoon of crafting and companionship. \nBring your own craft project or use our materials to join in a group activity\, like beading\, painting\, and baking. Arts & Crafts in Polson is always open to people of all abilities. \nWhen: Every Wednesday from 1:00 p.m. until 4:00 p.m. \nWhere: Summit’s Polson office\, 3 Ninth Avenue West\, Suite 1 in Polson. \nCall (406) 215-1604 for more information.
URL:https://www.summitilc.org/events/arts-craft-2-2-2/2026-12-09/
LOCATION:Summit Conference Room – Polson\, 3 9th Avenue West\, Suite 1\, Polson\, MT\, 59860\, United States
CATEGORIES:Polson
ATTACH;FMTTYPE=image/png:https://www.summitilc.org/wp-content/uploads/2024/08/Arts-Crafts-in-Polson-7.png
ORGANIZER;CN="Carol Madden":MAILTO:cmadden@summitilc.org
GEO:47.5288785;-114.0997296
X-APPLE-STRUCTURED-LOCATION;VALUE=URI;X-ADDRESS=Summit Conference Room – Polson 3 9th Avenue West Suite 1 Polson MT 59860 United States;X-APPLE-RADIUS=500;X-TITLE=3 9th Avenue West\, Suite 1:geo:-114.0997296,47.5288785
END:VEVENT
BEGIN:VEVENT
DTSTART;TZID=America/Denver:20261209T140000
DTEND;TZID=America/Denver:20261209T150000
DTSTAMP:20260425T094426
CREATED:20260415T221519Z
LAST-MODIFIED:20260415T221519Z
UID:10009101-1796824800-1796828400@www.summitilc.org
SUMMARY:C.H.E.W. Cooking Class (Hamilton)
DESCRIPTION:Welcome to C.H.E.W. — the Cost-effective Healthy Eating Workshop! \nOur free cooking class will give you the skills you need to create healthy\, affordable\, and delicious meals. \nPrepare a different dish every week\, while learning things like menu planning\, nutrition basics\, kitchen safety\, and more! \nC.H.E.W. meets every second Wednesday from 2 p.m. to 3 p.m.\, at our Hamilton office. Call or email for more information.
URL:https://www.summitilc.org/events/c-h-e-w-cooking-class-hamilton/2026-12-09/
LOCATION:The Refuge\, 274 Old Corvallis Rd.\, Suite B\, Hamilton\, MT\, 59840\, United States
CATEGORIES:Hamilton
ATTACH;FMTTYPE=image/png:https://www.summitilc.org/wp-content/uploads/2026/04/Screenshot-2026-04-15-at-4.01.14-PM.png
ORGANIZER;CN="Darcy Curry":MAILTO:dcurry@summitilc.org
GEO:46.2496963;-114.1592819
X-APPLE-STRUCTURED-LOCATION;VALUE=URI;X-ADDRESS=The Refuge 274 Old Corvallis Rd. Suite B Hamilton MT 59840 United States;X-APPLE-RADIUS=500;X-TITLE=274 Old Corvallis Rd.\, Suite B:geo:-114.1592819,46.2496963
END:VEVENT
END:VCALENDAR