BEGIN:VCALENDAR
VERSION:2.0
PRODID:-//Summit Independent Living - ECPv6.15.20//NONSGML v1.0//EN
CALSCALE:GREGORIAN
METHOD:PUBLISH
X-WR-CALNAME:Summit Independent Living
X-ORIGINAL-URL:https://www.summitilc.org
X-WR-CALDESC:Events for Summit Independent Living
REFRESH-INTERVAL;VALUE=DURATION:PT1H
X-Robots-Tag:noindex
X-PUBLISHED-TTL:PT1H
BEGIN:VTIMEZONE
TZID:America/Denver
BEGIN:DAYLIGHT
TZOFFSETFROM:-0700
TZOFFSETTO:-0600
TZNAME:MDT
DTSTART:20250309T090000
END:DAYLIGHT
BEGIN:STANDARD
TZOFFSETFROM:-0600
TZOFFSETTO:-0700
TZNAME:MST
DTSTART:20251102T080000
END:STANDARD
BEGIN:DAYLIGHT
TZOFFSETFROM:-0700
TZOFFSETTO:-0600
TZNAME:MDT
DTSTART:20260308T090000
END:DAYLIGHT
BEGIN:STANDARD
TZOFFSETFROM:-0600
TZOFFSETTO:-0700
TZNAME:MST
DTSTART:20261101T080000
END:STANDARD
BEGIN:DAYLIGHT
TZOFFSETFROM:-0700
TZOFFSETTO:-0600
TZNAME:MDT
DTSTART:20270314T090000
END:DAYLIGHT
BEGIN:STANDARD
TZOFFSETFROM:-0600
TZOFFSETTO:-0700
TZNAME:MST
DTSTART:20271107T080000
END:STANDARD
END:VTIMEZONE
BEGIN:VEVENT
DTSTART;VALUE=DATE:20260324
DTEND;VALUE=DATE:20260326
DTSTAMP:20260424T190008
CREATED:20260211T193042Z
LAST-MODIFIED:20260211T193042Z
UID:10008977-1774310400-1774483199@www.summitilc.org
SUMMARY:Montana Disability and Inclusive Health Summit (Missoula)
DESCRIPTION:Join us for a FREE two-day summit on MARCH 24-25\, 2026\, to connect public health professionals\, emergency preparedness managers\, development disability agencies\, and advocates at the University of Montana\, University Center. \nAgenda\n(Full agenda coming soon!) \nDAY 1: CHRONIC DISEASE PREVENTION \n\nChronic disease prevention opportunities for improved inclusion of people with DD\nState disability data\nExplore accessibility strategies\n\nDAY 2: EMERGENCY PREPAREDNESS \n\nConnecting accessibility recommendations to emergency communication and response\nPreparing for community and individual resilience during disasters\nWorkshops with NorthWestern Energy Registration and hotel and the Red Cross\n\nLodging\nWe have a room block reserved at DoubleTree by Hilton Hotel Missoula – Edgewater for March 23\, 2026 through March 26\, 2026. Please visit the Hilton Room Booking page to reserve a room at the group rate (Group rate is valid only through March 3rd.) \nContact\nFor more information\, contact Dr. Meg Traci
URL:https://www.summitilc.org/events/montana-disability-and-inclusive-health-summit-missoula/
LOCATION:University of Montana\, 32 Campus Dr.\, Missoula\, MT\, 59812\, United States
CATEGORIES:Missoula
ATTACH;FMTTYPE=image/png:https://www.summitilc.org/wp-content/uploads/2026/02/Screenshot-2026-02-11-at-12.29.15-PM-scaled.png
ORGANIZER;CN="Dr. Meg Traci":MAILTO:meg.traci@umontana.edu
GEO:46.8633149;-113.9803321
X-APPLE-STRUCTURED-LOCATION;VALUE=URI;X-ADDRESS=University of Montana 32 Campus Dr. Missoula MT 59812 United States;X-APPLE-RADIUS=500;X-TITLE=32 Campus Dr.:geo:-113.9803321,46.8633149
END:VEVENT
BEGIN:VEVENT
DTSTART;TZID=America/Denver:20260324T130000
DTEND;TZID=America/Denver:20260324T150000
DTSTAMP:20260424T190008
CREATED:20250929T202605Z
LAST-MODIFIED:20251028T165123Z
UID:10007984-1774357200-1774364400@www.summitilc.org
SUMMARY:Dungeons & Dragons Group (Hamilton)
DESCRIPTION:Join us for Dungeons and Dragons in Hamilton\, led by a new DM for beginner players. \nExperience vast fantasy worlds with all kinds of people and monsters of legend! \nOur games are open to all players ages 18 and up (due to fantasy violence ⚔️ and the potential in-game death of beasts and people alike 💀). \nWe’ll be playing with the Fate Accelerated System\, since it’s easier for beginners to pick up and play. And if you need help getting started\, our Dungeon Master will be there if you need them! \nStop by our Hamilton office on Old Corvallis Road every Tuesday from 1 to 3 p.m. See you in the dungeon!
URL:https://www.summitilc.org/events/dungeons-dragons-group-hamilton/2026-03-24/
LOCATION:The Refuge\, 274 Old Corvallis Rd.\, Suite B\, Hamilton\, MT\, 59840\, United States
CATEGORIES:Hamilton
ATTACH;FMTTYPE=image/png:https://www.summitilc.org/wp-content/uploads/2025/09/Dungeons-and-Dragons.png
ORGANIZER;CN="Darcy Curry":MAILTO:dcurry@summitilc.org
GEO:46.2496963;-114.1592819
X-APPLE-STRUCTURED-LOCATION;VALUE=URI;X-ADDRESS=The Refuge 274 Old Corvallis Rd. Suite B Hamilton MT 59840 United States;X-APPLE-RADIUS=500;X-TITLE=274 Old Corvallis Rd.\, Suite B:geo:-114.1592819,46.2496963
END:VEVENT
BEGIN:VEVENT
DTSTART;TZID=America/Denver:20260324T160000
DTEND;TZID=America/Denver:20260324T173000
DTSTAMP:20260424T190008
CREATED:20250828T212017Z
LAST-MODIFIED:20250922T153121Z
UID:10006736-1774368000-1774373400@www.summitilc.org
SUMMARY:Y.O.D.A.: Youth Opening Doors through Advocacy (Kalispell)
DESCRIPTION:Looking for info about getting a driver’s license\, or finding an apartment? Interested in learning about\, and shaping\, local laws that affect you? How do snacks and games sound? \nYou’ll find all this and more at YODA — Youth Opening Doors through Advocacy — a group for young people with disabilities. \nDiscover your community\, learn about disability culture\, and just have fun! \nYODA meets on the second and fourth Tuesday of every month from 4 p.m. to 5:30 p.m. \nStop by Summit’s Kalispell office at 275 Corporate Dr.\, Suite 200. See you there!
URL:https://www.summitilc.org/events/y-o-d-a-youth-opening-doors-through-advocacy-kalispell/2026-03-24/
LOCATION:Summit Independent Living-Kalispell\, 275 Corporate Dr.\, Suite 200\, Kalispell\, MT\, 59901\, United States
CATEGORIES:Kalispell
ATTACH;FMTTYPE=image/png:https://www.summitilc.org/wp-content/uploads/2025/08/Y.O.D.A.-2025.png
ORGANIZER;CN="Dianna Kintzler":MAILTO:dkintzler@summitilc.org
GEO:48.2007659;-114.334172
X-APPLE-STRUCTURED-LOCATION;VALUE=URI;X-ADDRESS=Summit Independent Living-Kalispell 275 Corporate Dr. Suite 200 Kalispell MT 59901 United States;X-APPLE-RADIUS=500;X-TITLE=275 Corporate Dr.\, Suite 200:geo:-114.334172,48.2007659
END:VEVENT
END:VCALENDAR