BEGIN:VCALENDAR
VERSION:2.0
PRODID:-//Summit Independent Living - ECPv6.15.20//NONSGML v1.0//EN
CALSCALE:GREGORIAN
METHOD:PUBLISH
X-ORIGINAL-URL:https://www.summitilc.org
X-WR-CALDESC:Events for Summit Independent Living
REFRESH-INTERVAL;VALUE=DURATION:PT1H
X-Robots-Tag:noindex
X-PUBLISHED-TTL:PT1H
BEGIN:VTIMEZONE
TZID:America/Denver
BEGIN:DAYLIGHT
TZOFFSETFROM:-0700
TZOFFSETTO:-0600
TZNAME:MDT
DTSTART:20250309T090000
END:DAYLIGHT
BEGIN:STANDARD
TZOFFSETFROM:-0600
TZOFFSETTO:-0700
TZNAME:MST
DTSTART:20251102T080000
END:STANDARD
BEGIN:DAYLIGHT
TZOFFSETFROM:-0700
TZOFFSETTO:-0600
TZNAME:MDT
DTSTART:20260308T090000
END:DAYLIGHT
BEGIN:STANDARD
TZOFFSETFROM:-0600
TZOFFSETTO:-0700
TZNAME:MST
DTSTART:20261101T080000
END:STANDARD
BEGIN:DAYLIGHT
TZOFFSETFROM:-0700
TZOFFSETTO:-0600
TZNAME:MDT
DTSTART:20270314T090000
END:DAYLIGHT
BEGIN:STANDARD
TZOFFSETFROM:-0600
TZOFFSETTO:-0700
TZNAME:MST
DTSTART:20271107T080000
END:STANDARD
END:VTIMEZONE
BEGIN:VEVENT
DTSTART;TZID=America/Denver:20260313T130000
DTEND;TZID=America/Denver:20260313T150000
DTSTAMP:20260425T102649
CREATED:20230406T033439Z
LAST-MODIFIED:20260112T190127Z
UID:10001693-1773406800-1773414000@www.summitilc.org
SUMMARY:BASE Art Club (Missoula)
DESCRIPTION:BASE Art Club is open to people of all ages and all abilities. Beginners\, crafters\, and fans of DIY projects are welcome. We’ll provide the materials; just come as you are. \nBASE Art Club meets every Friday from 1:00 p.m. to 3:00 p.m. at 725 W. Alder St.\, #4 (the Old Warehouse Mall) in Missoula. \nIf you’re new to the group or would like more information\, please call 406 215 1080 or contact Gavin at our BASE office.
URL:https://www.summitilc.org/events/base-art-group/2026-03-13/
LOCATION:BASE\, 3104 W. Broadway St.\, Missoula\, MT\, 59808\, United States
CATEGORIES:BASE
ATTACH;FMTTYPE=image/png:https://www.summitilc.org/wp-content/uploads/2023/04/Art-Club-1124.png
ORGANIZER;CN="Gavin Workman":MAILTO:gworkman@summitilc.org
GEO:46.8777495;-114.0025934
X-APPLE-STRUCTURED-LOCATION;VALUE=URI;X-ADDRESS=BASE 3104 W. Broadway St. Missoula MT 59808 United States;X-APPLE-RADIUS=500;X-TITLE=3104 W. Broadway St.:geo:-114.0025934,46.8777495
END:VEVENT
BEGIN:VEVENT
DTSTART;TZID=America/Denver:20260313T130000
DTEND;TZID=America/Denver:20260313T150000
DTSTAMP:20260425T102649
CREATED:20251022T191927Z
LAST-MODIFIED:20260416T171501Z
UID:10008411-1773406800-1773414000@www.summitilc.org
SUMMARY:T.G.I.A.F. (Thank Goodness It's Activity Friday) (Hamilton)
DESCRIPTION:Join us every Friday in Hamilton and relax with arts and crafts\, board and card games\, and new friends. \nEvery week is a different activity! \nFirst Friday: UNO & Dunkin Man \nSecond Friday: Abstract Art \nThird Friday: Bingo! \nFourth Friday: Collage Art \n\nSee you at 274 Old Corvallis Rd.\, Suite B in Hamilton!
URL:https://www.summitilc.org/events/t-g-i-a-f-thank-goodness-its-activity-friday-hamilton/2026-03-13/
LOCATION:The Refuge\, 274 Old Corvallis Rd.\, Suite B\, Hamilton\, MT\, 59840\, United States
CATEGORIES:Hamilton
ATTACH;FMTTYPE=image/png:https://www.summitilc.org/wp-content/uploads/2025/10/Screenshot-2026-04-16-at-11.10.47-AM.png
ORGANIZER;CN="Darcy Curry":MAILTO:dcurry@summitilc.org
GEO:46.2496963;-114.1592819
X-APPLE-STRUCTURED-LOCATION;VALUE=URI;X-ADDRESS=The Refuge 274 Old Corvallis Rd. Suite B Hamilton MT 59840 United States;X-APPLE-RADIUS=500;X-TITLE=274 Old Corvallis Rd.\, Suite B:geo:-114.1592819,46.2496963
END:VEVENT
BEGIN:VEVENT
DTSTART;TZID=America/Denver:20260313T133000
DTEND;TZID=America/Denver:20260313T153000
DTSTAMP:20260425T102649
CREATED:20250321T150935Z
LAST-MODIFIED:20260421T155046Z
UID:10005492-1773408600-1773415800@www.summitilc.org
SUMMARY:Social Security Orientation (Kalispell)
DESCRIPTION:Get your benefits\, Kalispell! \nSummit offers free in-person classes on how to apply for Social Security Disability Insurance (SSDI) or Supplemental Security Income (SSI). So if you’re thinking of applying or are having trouble with your application\, come to one of our biweekly orientations! \nClasses are the 2nd and 4th Friday of every month. Just call Summit’s Kalispell office at 406 257 0048 to register.
URL:https://www.summitilc.org/events/social-security-orientation-kalispell/2026-03-13/
LOCATION:Summit Conference Room – Kalispell\, 275 Corporate Drive\, #200\, Kalispell\, MT\, 59901\, United States
CATEGORIES:Kalispell
ATTACH;FMTTYPE=image/png:https://www.summitilc.org/wp-content/uploads/2025/03/Social-Security-Orientation.png
ORGANIZER;CN="Dianna Kintzler":MAILTO:dkintzler@summitilc.org
GEO:48.2007659;-114.334172
X-APPLE-STRUCTURED-LOCATION;VALUE=URI;X-ADDRESS=Summit Conference Room – Kalispell 275 Corporate Drive #200 Kalispell MT 59901 United States;X-APPLE-RADIUS=500;X-TITLE=275 Corporate Drive\, #200:geo:-114.334172,48.2007659
END:VEVENT
BEGIN:VEVENT
DTSTART;TZID=America/Denver:20260313T150000
DTEND;TZID=America/Denver:20260313T170000
DTSTAMP:20260425T102649
CREATED:20250923T212752Z
LAST-MODIFIED:20251010T190657Z
UID:10008335-1773414000-1773421200@www.summitilc.org
SUMMARY:Three-Dragon Ante at BASE (Missoula)
DESCRIPTION:🐉🎲 Dive into fantasy card gaming with us at our inclusive Three-Dragon Ante game day\, every second Friday! \nAll ages and abilities are welcome to join in this fantasy card game\,combining luck\, strategy\, and camaraderie. \nExperience the thrill of high stakes and forge new friendships!
URL:https://www.summitilc.org/events/three-dragon-ante-at-base-missoula/2026-03-13/
LOCATION:BASE\, 3104 W. Broadway St.\, Missoula\, MT\, 59808\, United States
CATEGORIES:BASE,Missoula
ATTACH;FMTTYPE=image/webp:https://www.summitilc.org/wp-content/uploads/2025/09/pic336502.webp
ORGANIZER;CN="John Howard":MAILTO:jhoward@summitilic.org
GEO:46.8777495;-114.0025934
X-APPLE-STRUCTURED-LOCATION;VALUE=URI;X-ADDRESS=BASE 3104 W. Broadway St. Missoula MT 59808 United States;X-APPLE-RADIUS=500;X-TITLE=3104 W. Broadway St.:geo:-114.0025934,46.8777495
END:VEVENT
END:VCALENDAR