BEGIN:VCALENDAR
VERSION:2.0
PRODID:-//Summit Independent Living - ECPv6.15.20//NONSGML v1.0//EN
CALSCALE:GREGORIAN
METHOD:PUBLISH
X-WR-CALNAME:Summit Independent Living
X-ORIGINAL-URL:https://www.summitilc.org
X-WR-CALDESC:Events for Summit Independent Living
REFRESH-INTERVAL;VALUE=DURATION:PT1H
X-Robots-Tag:noindex
X-PUBLISHED-TTL:PT1H
BEGIN:VTIMEZONE
TZID:America/Denver
BEGIN:DAYLIGHT
TZOFFSETFROM:-0700
TZOFFSETTO:-0600
TZNAME:MDT
DTSTART:20240310T090000
END:DAYLIGHT
BEGIN:STANDARD
TZOFFSETFROM:-0600
TZOFFSETTO:-0700
TZNAME:MST
DTSTART:20241103T080000
END:STANDARD
BEGIN:DAYLIGHT
TZOFFSETFROM:-0700
TZOFFSETTO:-0600
TZNAME:MDT
DTSTART:20250309T090000
END:DAYLIGHT
BEGIN:STANDARD
TZOFFSETFROM:-0600
TZOFFSETTO:-0700
TZNAME:MST
DTSTART:20251102T080000
END:STANDARD
BEGIN:DAYLIGHT
TZOFFSETFROM:-0700
TZOFFSETTO:-0600
TZNAME:MDT
DTSTART:20260308T090000
END:DAYLIGHT
BEGIN:STANDARD
TZOFFSETFROM:-0600
TZOFFSETTO:-0700
TZNAME:MST
DTSTART:20261101T080000
END:STANDARD
END:VTIMEZONE
BEGIN:VEVENT
DTSTART;TZID=America/Denver:20251105T130000
DTEND;TZID=America/Denver:20251105T160000
DTSTAMP:20260425T064744
CREATED:20240827T200939Z
LAST-MODIFIED:20250922T153343Z
UID:10004273-1762347600-1762358400@www.summitilc.org
SUMMARY:Arts & Crafts in Polson
DESCRIPTION:Join us for an afternoon of crafting and companionship. \nBring your own craft project or use our materials to join in a group activity\, like beading\, painting\, and baking. Arts & Crafts in Polson is always open to people of all abilities. \nWhen: Every Wednesday from 1:00 p.m. until 4:00 p.m. \nWhere: Summit’s Polson office\, 3 Ninth Avenue West\, Suite 1 in Polson. \nCall (406) 215-1604 for more information.
URL:https://www.summitilc.org/events/arts-craft-2-2-2/2025-11-05/
LOCATION:Summit Conference Room – Polson\, 3 9th Avenue West\, Suite 1\, Polson\, MT\, 59860\, United States
CATEGORIES:Polson
ATTACH;FMTTYPE=image/png:https://www.summitilc.org/wp-content/uploads/2024/08/Arts-Crafts-in-Polson-7.png
ORGANIZER;CN="Carol Madden":MAILTO:cmadden@summitilc.org
GEO:47.5288785;-114.0997296
X-APPLE-STRUCTURED-LOCATION;VALUE=URI;X-ADDRESS=Summit Conference Room – Polson 3 9th Avenue West Suite 1 Polson MT 59860 United States;X-APPLE-RADIUS=500;X-TITLE=3 9th Avenue West\, Suite 1:geo:-114.0997296,47.5288785
END:VEVENT
BEGIN:VEVENT
DTSTART;TZID=America/Denver:20251105T160000
DTEND;TZID=America/Denver:20251105T170000
DTSTAMP:20260425T064744
CREATED:20250926T164240Z
LAST-MODIFIED:20250926T164240Z
UID:10007704-1762358400-1762362000@www.summitilc.org
SUMMARY:All-Abilities Movement Class (With Stage Combat!)
DESCRIPTION:⚡IT’S BACK AT A NEW DAY AND TIME!⚡ Do you want to get in motion? Feel the need to dance? Are you curious about what the heck “swashbuckling” is?\n\n\n \n\n\nJoin our weekly movement class\, open to all ages and all abilities. Get your body moving\, dance\, and even learn the basics of stage combat!\n\n\n \n\n\nThe fun starts every Wednesday at 4 p.m. at Summit’s BASE location\, 725 W. Alder St.\, Suite 4 (the Old Warehouse Mall) in Missoula.\n\n\n \n\n\nSpace is limited\, so email John at jhoward@summitilc.org or call (406) 215-1080 to reserve your spot!
URL:https://www.summitilc.org/events/all-abilities-movement-class-with-stage-combat/2025-11-05/
LOCATION:BASE\, 3104 W. Broadway St.\, Missoula\, MT\, 59808\, United States
CATEGORIES:BASE,Missoula
ATTACH;FMTTYPE=image/png:https://www.summitilc.org/wp-content/uploads/2025/09/All-Abilities-Movement-Class-1.png
ORGANIZER;CN="John Howard":MAILTO:jhoward@summitilic.org
GEO:46.8777495;-114.0025934
X-APPLE-STRUCTURED-LOCATION;VALUE=URI;X-ADDRESS=BASE 3104 W. Broadway St. Missoula MT 59808 United States;X-APPLE-RADIUS=500;X-TITLE=3104 W. Broadway St.:geo:-114.0025934,46.8777495
END:VEVENT
BEGIN:VEVENT
DTSTART;TZID=America/Denver:20251105T163000
DTEND;TZID=America/Denver:20251105T190000
DTSTAMP:20260425T064744
CREATED:20251029T160407Z
LAST-MODIFIED:20251029T160407Z
UID:10008660-1762360200-1762369200@www.summitilc.org
SUMMARY:Missoula Zoning Reform Open House
DESCRIPTION:Zoning shapes how Missoula looks and feels for years to come\, and how homes\, businesses\, parks\, and transportation can become more accessible — and visitable. \n\n\n \n\n\nAnd now’s your chance to learn about — and give input on — Missoula’s new zoning plan.\n\n\n \n\n\nAt Missoula’s Zoning Open House\, officials will share the new proposed zoning map and regulations. You can learn about what these updates may look like in your neighborhood and share your thoughts. \n\n\n \n\n\nStop by the Floriculture Building at the Missoula Public Library between 4:30 and 7 p.m.\, and 📣 make your voice heard. 📣
URL:https://www.summitilc.org/events/missoula-zoning-reform-open-house-2/
LOCATION:Missoula Public Library\, 455 E. Main St.\, Missoula\, MT\, 59802\, United States
CATEGORIES:Missoula
ATTACH;FMTTYPE=image/jpeg:https://www.summitilc.org/wp-content/uploads/2025/10/s445749b4f2614d3e882b8d26c4d789d20638967537853820135_optimized.jpg
GEO:46.8698524;-113.9898726
X-APPLE-STRUCTURED-LOCATION;VALUE=URI;X-ADDRESS=Missoula Public Library 455 E. Main St. Missoula MT 59802 United States;X-APPLE-RADIUS=500;X-TITLE=455 E. Main St.:geo:-113.9898726,46.8698524
END:VEVENT
END:VCALENDAR